BEGIN:VCALENDAR
VERSION:2.0
PRODID:-//Join the Dots Together - ECPv6.15.20//NONSGML v1.0//EN
CALSCALE:GREGORIAN
METHOD:PUBLISH
X-WR-CALNAME:Join the Dots Together
X-ORIGINAL-URL:https://jointhedotstogether.org
X-WR-CALDESC:Events for Join the Dots Together
REFRESH-INTERVAL;VALUE=DURATION:PT1H
X-Robots-Tag:noindex
X-PUBLISHED-TTL:PT1H
BEGIN:VTIMEZONE
TZID:Europe/London
BEGIN:DAYLIGHT
TZOFFSETFROM:+0000
TZOFFSETTO:+0100
TZNAME:BST
DTSTART:20240331T010000
END:DAYLIGHT
BEGIN:STANDARD
TZOFFSETFROM:+0100
TZOFFSETTO:+0000
TZNAME:GMT
DTSTART:20241027T010000
END:STANDARD
BEGIN:DAYLIGHT
TZOFFSETFROM:+0000
TZOFFSETTO:+0100
TZNAME:BST
DTSTART:20250330T010000
END:DAYLIGHT
BEGIN:STANDARD
TZOFFSETFROM:+0100
TZOFFSETTO:+0000
TZNAME:GMT
DTSTART:20251026T010000
END:STANDARD
BEGIN:DAYLIGHT
TZOFFSETFROM:+0000
TZOFFSETTO:+0100
TZNAME:BST
DTSTART:20260329T010000
END:DAYLIGHT
BEGIN:STANDARD
TZOFFSETFROM:+0100
TZOFFSETTO:+0000
TZNAME:GMT
DTSTART:20261025T010000
END:STANDARD
END:VTIMEZONE
BEGIN:VEVENT
DTSTART;TZID=Europe/London:20250520T000000
DTEND;TZID=Europe/London:20250520T235959
DTSTAMP:20260421T134540
CREATED:20250428T184833Z
LAST-MODIFIED:20250502T073742Z
UID:2597-1747699200-1747785599@jointhedotstogether.org
SUMMARY:World Bee Day
DESCRIPTION:Celebrated on May 20\, World Bee Day raises awareness of the essential role bees and other pollinators play in keeping people and the planet healthy. It emphasises the need to protect pollinators and their habitats.
URL:https://jointhedotstogether.org/event/world-bee-day/
CATEGORIES:International Day
ATTACH;FMTTYPE=image/jpeg:https://jointhedotstogether.org/wp-content/uploads/2025/04/hero-bees-e1745866068207.jpg
END:VEVENT
END:VCALENDAR