BEGIN:VCALENDAR
VERSION:2.0
PRODID:-//Join the Dots Together - ECPv6.15.20//NONSGML v1.0//EN
CALSCALE:GREGORIAN
METHOD:PUBLISH
X-WR-CALNAME:Join the Dots Together
X-ORIGINAL-URL:https://jointhedotstogether.org
X-WR-CALDESC:Events for Join the Dots Together
REFRESH-INTERVAL;VALUE=DURATION:PT1H
X-Robots-Tag:noindex
X-PUBLISHED-TTL:PT1H
BEGIN:VTIMEZONE
TZID:Europe/London
BEGIN:DAYLIGHT
TZOFFSETFROM:+0000
TZOFFSETTO:+0100
TZNAME:BST
DTSTART:20240331T010000
END:DAYLIGHT
BEGIN:STANDARD
TZOFFSETFROM:+0100
TZOFFSETTO:+0000
TZNAME:GMT
DTSTART:20241027T010000
END:STANDARD
BEGIN:DAYLIGHT
TZOFFSETFROM:+0000
TZOFFSETTO:+0100
TZNAME:BST
DTSTART:20250330T010000
END:DAYLIGHT
BEGIN:STANDARD
TZOFFSETFROM:+0100
TZOFFSETTO:+0000
TZNAME:GMT
DTSTART:20251026T010000
END:STANDARD
BEGIN:DAYLIGHT
TZOFFSETFROM:+0000
TZOFFSETTO:+0100
TZNAME:BST
DTSTART:20260329T010000
END:DAYLIGHT
BEGIN:STANDARD
TZOFFSETFROM:+0100
TZOFFSETTO:+0000
TZNAME:GMT
DTSTART:20261025T010000
END:STANDARD
END:VTIMEZONE
BEGIN:VEVENT
DTSTART;TZID=Europe/London:20250516T000000
DTEND;TZID=Europe/London:20250516T235959
DTSTAMP:20260421T121715
CREATED:20250428T191035Z
LAST-MODIFIED:20250502T173549Z
UID:2623-1747353600-1747439999@jointhedotstogether.org
SUMMARY:Endangered Species Day
DESCRIPTION:Observed on the third Friday of May\, this day highlights the importance of protecting endangered species and their habitats. It aims to raise awareness about the threats facing wildlife and the actions needed to conserve biodiversity.
URL:https://jointhedotstogether.org/event/endangered-species-day/
ATTACH;FMTTYPE=image/png:https://jointhedotstogether.org/wp-content/uploads/2025/04/ESDayhowlingwolf-e1745867381407.png
END:VEVENT
BEGIN:VEVENT
DTSTART;TZID=Europe/London:20250520T000000
DTEND;TZID=Europe/London:20250520T235959
DTSTAMP:20260421T121715
CREATED:20250428T184833Z
LAST-MODIFIED:20250502T073742Z
UID:2597-1747699200-1747785599@jointhedotstogether.org
SUMMARY:World Bee Day
DESCRIPTION:Celebrated on May 20\, World Bee Day raises awareness of the essential role bees and other pollinators play in keeping people and the planet healthy. It emphasises the need to protect pollinators and their habitats.
URL:https://jointhedotstogether.org/event/world-bee-day/
CATEGORIES:International Day
ATTACH;FMTTYPE=image/jpeg:https://jointhedotstogether.org/wp-content/uploads/2025/04/hero-bees-e1745866068207.jpg
END:VEVENT
BEGIN:VEVENT
DTSTART;TZID=Europe/London:20250522T000000
DTEND;TZID=Europe/London:20250522T235959
DTSTAMP:20260421T121715
CREATED:20250428T174718Z
LAST-MODIFIED:20250502T073344Z
UID:2580-1747872000-1747958399@jointhedotstogether.org
SUMMARY:Biological Diversity Day
DESCRIPTION:On May 22\, this UN-designated day promotes understanding and awareness of biodiversity issues. The 2025 theme focuses on “Harmony with nature and sustainable development.”
URL:https://jointhedotstogether.org/event/international-day-for-biological-diversity/
CATEGORIES:International Day
ATTACH;FMTTYPE=image/jpeg:https://jointhedotstogether.org/wp-content/uploads/2025/04/idb-2025-logo-rgb-en-scaled-e1745862405614.jpg
END:VEVENT
END:VCALENDAR