BEGIN:VCALENDAR
VERSION:2.0
PRODID:-//Join the Dots Together - ECPv6.15.20//NONSGML v1.0//EN
CALSCALE:GREGORIAN
METHOD:PUBLISH
X-WR-CALNAME:Join the Dots Together
X-ORIGINAL-URL:https://jointhedotstogether.org
X-WR-CALDESC:Events for Join the Dots Together
REFRESH-INTERVAL;VALUE=DURATION:PT1H
X-Robots-Tag:noindex
X-PUBLISHED-TTL:PT1H
BEGIN:VTIMEZONE
TZID:Europe/London
BEGIN:DAYLIGHT
TZOFFSETFROM:+0000
TZOFFSETTO:+0100
TZNAME:BST
DTSTART:20240331T010000
END:DAYLIGHT
BEGIN:STANDARD
TZOFFSETFROM:+0100
TZOFFSETTO:+0000
TZNAME:GMT
DTSTART:20241027T010000
END:STANDARD
BEGIN:DAYLIGHT
TZOFFSETFROM:+0000
TZOFFSETTO:+0100
TZNAME:BST
DTSTART:20250330T010000
END:DAYLIGHT
BEGIN:STANDARD
TZOFFSETFROM:+0100
TZOFFSETTO:+0000
TZNAME:GMT
DTSTART:20251026T010000
END:STANDARD
BEGIN:DAYLIGHT
TZOFFSETFROM:+0000
TZOFFSETTO:+0100
TZNAME:BST
DTSTART:20260329T010000
END:DAYLIGHT
BEGIN:STANDARD
TZOFFSETFROM:+0100
TZOFFSETTO:+0000
TZNAME:GMT
DTSTART:20261025T010000
END:STANDARD
END:VTIMEZONE
BEGIN:VEVENT
DTSTART;TZID=Europe/London:20251023T000000
DTEND;TZID=Europe/London:20251023T235959
DTSTAMP:20260420T014549
CREATED:20250928T051043Z
LAST-MODIFIED:20250928T051043Z
UID:3494-1761177600-1761263999@jointhedotstogether.org
SUMMARY:International Day of the Snow Leopard
DESCRIPTION:In 2024\, the General Assembly proclaimed 23 October as International Day of the Snow Leopard in order to enhance international and regional cooperation in support of efforts to conserve the snow leopard\, given its role in the overall ecosystem.
URL:https://jointhedotstogether.org/event/international-day-of-the-snow-leopard/
ATTACH;FMTTYPE=image/jpeg:https://jointhedotstogether.org/wp-content/uploads/2025/09/snow-leopard-index-e1759036231878.jpg
END:VEVENT
BEGIN:VEVENT
DTSTART;TZID=Europe/London:20251017T000000
DTEND;TZID=Europe/London:20251017T235959
DTSTAMP:20260420T014549
CREATED:20250928T050817Z
LAST-MODIFIED:20250928T050817Z
UID:3491-1760659200-1760745599@jointhedotstogether.org
SUMMARY:International Day for the Eradication of Poverty
DESCRIPTION:2025 Theme: Ending social and institutional maltreatment by ensuring respect and effective support for families
URL:https://jointhedotstogether.org/event/international-day-for-the-eradication-of-poverty/
ATTACH;FMTTYPE=image/jpeg:https://jointhedotstogether.org/wp-content/uploads/2025/09/unicef-un0824325-map-mother-and-child-in-kitchen-e1759036061146.jpg
END:VEVENT
BEGIN:VEVENT
DTSTART;TZID=Europe/London:20251016T173000
DTEND;TZID=Europe/London:20251016T193000
DTSTAMP:20260420T014549
CREATED:20250911T172434Z
LAST-MODIFIED:20250911T172434Z
UID:3404-1760635800-1760643000@jointhedotstogether.org
SUMMARY:Aid Matters Showcase Event
DESCRIPTION:Celebrate global cultures & explore why Aid Matters at this vibrant showcase of music\, stories & community.
URL:https://jointhedotstogether.org/event/aid-matters-showcase-event/
LOCATION:Arts Ekta\, Olive Tree House\, Fountain Street\, Belfast
ATTACH;FMTTYPE=image/jpeg:https://jointhedotstogether.org/wp-content/uploads/2025/09/Aid-Matters-e1757611461728.jpg
END:VEVENT
BEGIN:VEVENT
DTSTART;TZID=Europe/London:20251016T000000
DTEND;TZID=Europe/London:20251016T235959
DTSTAMP:20260420T014549
CREATED:20250916T170026Z
LAST-MODIFIED:20250916T170026Z
UID:3444-1760572800-1760659199@jointhedotstogether.org
SUMMARY:World Food Day
DESCRIPTION:World Food Day 2025 is calling for global collaboration in creating a peaceful\, sustainable\, prosperous\, and food-secure future.
URL:https://jointhedotstogether.org/event/world-food-day/
ATTACH;FMTTYPE=image/jpeg:https://jointhedotstogether.org/wp-content/uploads/2025/09/wfd25_600x400px_en-1-e1758041988196.jpg
END:VEVENT
BEGIN:VEVENT
DTSTART;TZID=Europe/London:20251015T180000
DTEND;TZID=Europe/London:20251015T210000
DTSTAMP:20260420T014549
CREATED:20250911T172132Z
LAST-MODIFIED:20250911T172132Z
UID:3400-1760551200-1760562000@jointhedotstogether.org
SUMMARY:Hit Bingo Awareness Raiser
DESCRIPTION:Music\, bingo & global connection! A fun night hosted by Robin Elliott in support of One World Week: Aid Matters.
URL:https://jointhedotstogether.org/event/hit-bingo-awareness-raiser/
LOCATION:Common Market\, 16-20 Dunbar Street Belfast BT1 2LH
ATTACH;FMTTYPE=image/jpeg:https://jointhedotstogether.org/wp-content/uploads/2025/09/Bingo-e1757611252851.jpg
END:VEVENT
BEGIN:VEVENT
DTSTART;TZID=Europe/London:20251015T180000
DTEND;TZID=Europe/London:20251015T200000
DTSTAMP:20260420T014549
CREATED:20250922T164439Z
LAST-MODIFIED:20250922T203957Z
UID:3469-1760551200-1760558400@jointhedotstogether.org
SUMMARY:Ulster Talks Series - Professor Jayanta Mondol
DESCRIPTION:From Roofs to Façades: How Solar Energy Technologies Are Transforming Buildings
URL:https://jointhedotstogether.org/event/ulster-talks-series-professor-jayanta-mondol/
LOCATION:Ulster University
ATTACH;FMTTYPE=image/jpeg:https://jointhedotstogether.org/wp-content/uploads/2025/09/jayanta-e1758559460301.jpg
END:VEVENT
BEGIN:VEVENT
DTSTART;TZID=Europe/London:20251014T170000
DTEND;TZID=Europe/London:20251014T183000
DTSTAMP:20260420T014549
CREATED:20251008T170015Z
LAST-MODIFIED:20251008T170015Z
UID:3557-1760461200-1760466600@jointhedotstogether.org
SUMMARY:EU Advocacy Training
DESCRIPTION:How to engage effectively with European decision-makers (MEPs) before COP30.
URL:https://jointhedotstogether.org/event/eu-advocacy-training/
LOCATION:Online
ATTACH;FMTTYPE=image/jpeg:https://jointhedotstogether.org/wp-content/uploads/2025/10/OIP.jpeg
END:VEVENT
BEGIN:VEVENT
DTSTART;TZID=Europe/London:20251014T123000
DTEND;TZID=Europe/London:20251014T133000
DTSTAMP:20260420T014549
CREATED:20250911T171815Z
LAST-MODIFIED:20250911T171815Z
UID:3396-1760445000-1760448600@jointhedotstogether.org
SUMMARY:Aid Matters Panel Discussion
DESCRIPTION:International Development experts will take a deeper look at some of the key issues surrounding the theme ‘Aid Matters’. To receive a link to attend\, please contact \ninfo@cada-ni.org\nEveryone is welcome!
URL:https://jointhedotstogether.org/event/aid-matters-panel-discussion/
LOCATION:Online
ATTACH;FMTTYPE=image/jpeg:https://jointhedotstogether.org/wp-content/uploads/2025/09/Panel-image-for-website-1024x683-1-e1757611057934.jpg
END:VEVENT
BEGIN:VEVENT
DTSTART;TZID=Europe/London:20251014T000000
DTEND;TZID=Europe/London:20251014T235959
DTSTAMP:20260420T014549
CREATED:20250723T193837Z
LAST-MODIFIED:20250723T193837Z
UID:3233-1760400000-1760486399@jointhedotstogether.org
SUMMARY:Global Donut Days 2025 (GDD 2025)
DESCRIPTION:GDD 2025 is a four-day\, community-led festival\, held online and in-person around the world\, centred on Doughnut Economics\, from 14 – 17 October 2025.
URL:https://jointhedotstogether.org/event/global-donut-days-2025-gdd-2025/
ATTACH;FMTTYPE=image/png:https://jointhedotstogether.org/wp-content/uploads/2025/07/GDD2024-Platform-Logo-e1753299499454.png
END:VEVENT
BEGIN:VEVENT
DTSTART;TZID=Europe/London:20251013T120000
DTEND;TZID=Europe/London:20251013T130000
DTSTAMP:20260420T014549
CREATED:20250909T182525Z
LAST-MODIFIED:20250909T182525Z
UID:3391-1760356800-1760360400@jointhedotstogether.org
SUMMARY:One World Week: Launch of "Aid Matters"
DESCRIPTION:CADA member organisations will come together in a vibrant\, 30-minute photo and press event to launch the campaign: Aid Matters. \nWith banners\, colour\, and solidarity\, they’ll spotlight this year’s theme and invite the public to stand with them n support of global justice – please join\, all are welcome!
URL:https://jointhedotstogether.org/event/one-world-week-launch-of-aid-matters/
LOCATION:Writers Square\, Belfast
ATTACH;FMTTYPE=image/jpeg:https://jointhedotstogether.org/wp-content/uploads/2025/09/CADA-launch-e1757442272208.jpg
END:VEVENT
BEGIN:VEVENT
DTSTART;TZID=Europe/London:20251011T140000
DTEND;TZID=Europe/London:20251011T160000
DTSTAMP:20260420T014549
CREATED:20250922T142006Z
LAST-MODIFIED:20250922T162328Z
UID:3459-1760191200-1760198400@jointhedotstogether.org
SUMMARY:A Renaissance of Care - An inspiring talk by Mary Reynolds in Belfast
DESCRIPTION:Mary Reynolds – nature activist and reformed landscape designer tells of the shifts we can make to support our local biodiversity. \n 
URL:https://jointhedotstogether.org/event/an-exxon-model-how-oil-and-gas-companies-can-stick-with-molecules-but-also-contribute-to-decarbonization/
LOCATION:QUB Campus
ATTACH;FMTTYPE=image/jpeg:https://jointhedotstogether.org/wp-content/uploads/2025/09/20251024.jpg
END:VEVENT
BEGIN:VEVENT
DTSTART;TZID=Europe/London:20251007T000000
DTEND;TZID=Europe/London:20251007T235959
DTSTAMP:20260420T014549
CREATED:20250916T165401Z
LAST-MODIFIED:20250916T165401Z
UID:3438-1759795200-1759881599@jointhedotstogether.org
SUMMARY:World Cotton Day
DESCRIPTION:UN celebration – The fabric of our lives\n7 October 2025\, 09:30 A.M.\, Rome Time (GMT+2)\nUN World Cotton Day will be celebrated at the FAO headquarters in Rome\, Italy. This event will address the sector’s challenges and opportunities\, with discussions on how to improve productivity\, explore strategies to add value throughout the chain\, and highlight the role of trade in the sector’s sustainability.
URL:https://jointhedotstogether.org/event/world-cotton-day/
ATTACH;FMTTYPE=image/jpeg:https://jointhedotstogether.org/wp-content/uploads/2025/09/cotton_day_index-1-e1758041571821.jpg
END:VEVENT
BEGIN:VEVENT
DTSTART;TZID=Europe/London:20251006T000000
DTEND;TZID=Europe/London:20251006T235959
DTSTAMP:20260420T014549
CREATED:20250916T165031Z
LAST-MODIFIED:20250916T165031Z
UID:3435-1759708800-1759795199@jointhedotstogether.org
SUMMARY:World Habitat Day
DESCRIPTION:World Habitat Day is marked on the first Monday of October each year and is recognized by the United Nations to reflect on the state of towns and cities\, and on the basic right of all to adequate shelter. \n2025 Theme: Urban crisis response
URL:https://jointhedotstogether.org/event/world-habitat-day/
ATTACH;FMTTYPE=image/jpeg:https://jointhedotstogether.org/wp-content/uploads/2025/09/habitat-site_banner-e1758041413517.jpg
END:VEVENT
BEGIN:VEVENT
DTSTART;TZID=Europe/London:20251004T140000
DTEND;TZID=Europe/London:20251004T150000
DTSTAMP:20260420T014549
CREATED:20250708T190842Z
LAST-MODIFIED:20250720T145342Z
UID:3206-1759586400-1759590000@jointhedotstogether.org
SUMMARY:Online event to conclude Season of Creation
DESCRIPTION:The faithful around the world will come together in an online event prepared by the Season of Creation Ecumenical Youth Committee to celebrate our month-long journey together.
URL:https://jointhedotstogether.org/event/online-event-to-conclude-season-of-creation/
LOCATION:Online
ATTACH;FMTTYPE=image/png:https://jointhedotstogether.org/wp-content/uploads/2025/07/2025-SOC--scaled-e1752001588922.png
END:VEVENT
BEGIN:VEVENT
DTSTART;TZID=Europe/London:20251004T000000
DTEND;TZID=Europe/London:20251004T235959
DTSTAMP:20260420T014549
CREATED:20250916T164800Z
LAST-MODIFIED:20250916T164800Z
UID:3432-1759536000-1759622399@jointhedotstogether.org
SUMMARY:World Space Week 4th-10th October
DESCRIPTION:World Space Week\,celebrates the contributions of space science and technology to the betterment of the human condition.
URL:https://jointhedotstogether.org/event/world-space-week-4th-10th-october/
ATTACH;FMTTYPE=image/png:https://jointhedotstogether.org/wp-content/uploads/2025/09/space-week-2024-poster-e1758041226981.png
END:VEVENT
BEGIN:VEVENT
DTSTART;TZID=Europe/London:20251003T100000
DTEND;TZID=Europe/London:20251003T130000
DTSTAMP:20260420T014549
CREATED:20250822T153407Z
LAST-MODIFIED:20250929T101825Z
UID:3274-1759485600-1759496400@jointhedotstogether.org
SUMMARY:"Our Voices Matter" - Youth and Politicians Forum
DESCRIPTION:Following the success of last year’s forum\, the 2025 edition of “Our Voices Matter” continues to provide a platform for young people to engage with political representatives on key issues affecting their communities. Building on the discussions from previous events\, this year’s forum aims to further strengthen the dialogue between youth and policymakers\, fostering a collaborative approach to addressing shared challenges.
URL:https://jointhedotstogether.org/event/our-voices-matter-youth-and-politicians-forum/
LOCATION:Queen’s University Canda Room
ATTACH;FMTTYPE=image/jpeg:https://jointhedotstogether.org/wp-content/uploads/2025/08/20240920-Schools-LV-CH-MP-e1755876834841.jpg
ORGANIZER;CN="Join the Dots Together":MAILTO:info@jointhedotstogether.org
END:VEVENT
BEGIN:VEVENT
DTSTART;TZID=Europe/London:20251002T000000
DTEND;TZID=Europe/London:20251002T235959
DTSTAMP:20260420T014549
CREATED:20250708T191109Z
LAST-MODIFIED:20250708T191109Z
UID:3208-1759363200-1759449599@jointhedotstogether.org
SUMMARY:Raising Hope
DESCRIPTION:Raising Hope\, the global conference on the tenth anniversary of Laudato Sì
URL:https://jointhedotstogether.org/event/raising-hope/
LOCATION:Castelgandolfo
ATTACH;FMTTYPE=image/png:https://jointhedotstogether.org/wp-content/uploads/2025/01/Laudato-Si-Movement-logo-EN-2048x752-1-e1738093702376.png
END:VEVENT
BEGIN:VEVENT
DTSTART;TZID=Europe/London:20251001T160000
DTEND;TZID=Europe/London:20251001T170000
DTSTAMP:20260420T014549
CREATED:20250928T050206Z
LAST-MODIFIED:20250928T050206Z
UID:3486-1759334400-1759338000@jointhedotstogether.org
SUMMARY:Webinar: Foundations of Interreligious and Intercultural Dialogue: Global Perspectives
DESCRIPTION:With Audrey E. Kitagawa\, J.D. and Dr. Azza Karam
URL:https://jointhedotstogether.org/event/webinar-foundations-of-interreligious-and-intercultural-dialogue-global-perspectives/
LOCATION:Online
ATTACH;FMTTYPE=image/jpeg:https://jointhedotstogether.org/wp-content/uploads/2025/09/20251001-webinar-e1759035721856.jpg
END:VEVENT
BEGIN:VEVENT
DTSTART;TZID=Europe/London:20251001T000000
DTEND;TZID=Europe/London:20251001T235959
DTSTAMP:20260420T014549
CREATED:20250911T174307Z
LAST-MODIFIED:20250911T174307Z
UID:3416-1759276800-1759363199@jointhedotstogether.org
SUMMARY:Sustainable Fashion Week continues until 6th October
DESCRIPTION:Tools for Solidarity are hosting a vibrant programme of community events across Belfast this September and October as part of Sustainable Fashion Week 2025.
URL:https://jointhedotstogether.org/event/sustainable-fashion-week-continues-until-6th-october/
ATTACH;FMTTYPE=image/png:https://jointhedotstogether.org/wp-content/uploads/2025/09/tools.png
END:VEVENT
BEGIN:VEVENT
DTSTART;TZID=Europe/London:20250929T000000
DTEND;TZID=Europe/London:20250929T235959
DTSTAMP:20260420T014549
CREATED:20250823T094758Z
LAST-MODIFIED:20250823T094758Z
UID:3336-1759104000-1759190399@jointhedotstogether.org
SUMMARY:International Day of Awareness on Food Loss and Waste Reduction
DESCRIPTION:The sixth observance of the International Day of Awareness of Food Loss and Waste (IDAFLW) is approaching and is calling for the expansion and strengthening of stakeholder efforts to reduce food loss and waste\, as a critical element of securing a sustainable food future for all. \nIt’s time to get involved and take action. Save the date and join the IDAFLW global virtual event! https://fao.zoom.us/webinar/register/WN_fA3FbNNiThmj2atPmjBynQ#/registration
URL:https://jointhedotstogether.org/event/international-day-of-awareness-on-food-loss-and-waste-reduction/
ATTACH;FMTTYPE=image/png:https://jointhedotstogether.org/wp-content/uploads/2025/08/food_loss_and_waste_2023-e1755942350723.png
END:VEVENT
BEGIN:VEVENT
DTSTART;TZID=Europe/London:20250928T000000
DTEND;TZID=Europe/London:20250928T235959
DTSTAMP:20260420T014549
CREATED:20250911T174141Z
LAST-MODIFIED:20250911T174141Z
UID:3412-1759017600-1759103999@jointhedotstogether.org
SUMMARY:Sustainable Fashion Week 28th Sept-6th October
DESCRIPTION:Tools for Solidarity are hosting a vibrant programme of community events across Belfast this September and October as part of Sustainable Fashion Week 2025.
URL:https://jointhedotstogether.org/event/sustainable-fashion-week-28th-sept-6th-october/
ATTACH;FMTTYPE=image/png:https://jointhedotstogether.org/wp-content/uploads/2025/09/tools.png
END:VEVENT
BEGIN:VEVENT
DTSTART;TZID=Europe/London:20250927T080000
DTEND;TZID=Europe/London:20250927T170000
DTSTAMP:20260420T014549
CREATED:20250708T173720Z
LAST-MODIFIED:20250708T190317Z
UID:3198-1758960000-1758992400@jointhedotstogether.org
SUMMARY:God’s World: Our Responsibility?
DESCRIPTION:A Presbyterian Church in Ireland Creation Conference
URL:https://jointhedotstogether.org/event/gods-world-our-responsibility/
LOCATION:Assembly Buildings Conference Centre\, 2-10 Fisherwick Place\, Belfast\, Select a State or Province:\, BT1 6DW\, United Kingdom
ATTACH;FMTTYPE=image/png:https://jointhedotstogether.org/wp-content/uploads/2025/07/image007-1.png
END:VEVENT
BEGIN:VEVENT
DTSTART;TZID=Europe/London:20250927T000000
DTEND;TZID=Europe/London:20250927T235959
DTSTAMP:20260420T014549
CREATED:20250823T095132Z
LAST-MODIFIED:20250823T095132Z
UID:3339-1758931200-1759017599@jointhedotstogether.org
SUMMARY:World Tourism Day
DESCRIPTION:World Tourism Day 2025:\nTourism and Sustainable Transformation
URL:https://jointhedotstogether.org/event/world-tourism-day/
ATTACH;FMTTYPE=image/jpeg:https://jointhedotstogether.org/wp-content/uploads/2025/08/tourism-e1755942677391.jpg
END:VEVENT
BEGIN:VEVENT
DTSTART;TZID=Europe/London:20250926T180000
DTEND;TZID=Europe/London:20250926T200000
DTSTAMP:20260420T014549
CREATED:20250906T171712Z
LAST-MODIFIED:20250906T171712Z
UID:3362-1758909600-1758916800@jointhedotstogether.org
SUMMARY:NI Climate Action Plan Consultation for Youth
DESCRIPTION:YouthAction Northern Ireland in partnership with DEARA will be consulting young people around the new NI Climate Action Plan.
URL:https://jointhedotstogether.org/event/ni-climate-action-plan-consultation-for-youth/
LOCATION:YouthAction Northern Ireland\, 14 College Square North\, Belfast\, BT1 6AS
ATTACH;FMTTYPE=image/png:https://jointhedotstogether.org/wp-content/uploads/2025/09/Youth-CAP-Consultation-Belfast.png
END:VEVENT
BEGIN:VEVENT
DTSTART;TZID=Europe/London:20250926T120000
DTEND;TZID=Europe/London:20250926T130000
DTSTAMP:20260420T014549
CREATED:20250630T112309Z
LAST-MODIFIED:20250630T112309Z
UID:3146-1758888000-1758891600@jointhedotstogether.org
SUMMARY:Flora on a Friday: Ferns
DESCRIPTION:Flora on a Friday is a series of engaging\, bite-sized workshops centred on the fascinating world of plants. Held on the last Friday of each month\, these events are ideal lunchtime visits for plant enthusiasts of all kinds. Each session explores a different plant-related topic\, offering care tips and fun facts shared by the knowledgeable team at Belfast Botanic Gardens.
URL:https://jointhedotstogether.org/event/flora-on-a-friday-ferns/
LOCATION:Botanic Gardens
ATTACH;FMTTYPE=image/jpeg:https://jointhedotstogether.org/wp-content/uploads/2025/06/FLora-Friday.jpg
END:VEVENT
BEGIN:VEVENT
DTSTART;TZID=Europe/London:20250926T000000
DTEND;TZID=Europe/London:20250926T235959
DTSTAMP:20260420T014549
CREATED:20250823T094355Z
LAST-MODIFIED:20250823T094355Z
UID:3333-1758844800-1758931199@jointhedotstogether.org
SUMMARY:International Day for the Total Elimination of Nuclear Weapons
DESCRIPTION:This Day provides an occasion for the world community to reaffirm its commitment to global nuclear disarmament as a priority. It provides an opportunity to educate the public – and their leaders – about the real benefits of eliminating such weapons\, and the social and economic costs of perpetuating them.
URL:https://jointhedotstogether.org/event/international-day-for-the-total-elimination-of-nuclear-weapons/
ATTACH;FMTTYPE=image/jpeg:https://jointhedotstogether.org/wp-content/uploads/2025/08/nuclear.jpg
END:VEVENT
BEGIN:VEVENT
DTSTART;TZID=Europe/London:20250925T080000
DTEND;TZID=Europe/London:20250925T153000
DTSTAMP:20260420T014549
CREATED:20250822T152859Z
LAST-MODIFIED:20250822T152859Z
UID:3269-1758787200-1758814200@jointhedotstogether.org
SUMMARY:Northern Ireland Green Skills Conference
DESCRIPTION:The Green Skills Northern Ireland Conference 2025 is a one-day event bringing together industry leaders\, educators\, policymakers\, and young people to consider the future of green jobs and sustainable skills in Northern Ireland. \nThe programme will feature keynote addresses and panel discussions on the need for a climate-ready workforce to help meet net-zero targets and to support emerging opportunities in sectors such as energy\, construction\, transport\, and agriculture. \nThe event is designed for employers\, educators\, students\, and policymakers who wish to engage with the development of Northern Ireland’s green economy.
URL:https://jointhedotstogether.org/event/northern-ireland-green-skills-conference/
LOCATION:Europa Hotel
ATTACH;FMTTYPE=image/jpeg:https://jointhedotstogether.org/wp-content/uploads/2025/08/green-skills-e1755876530212.jpg
END:VEVENT
BEGIN:VEVENT
DTSTART;TZID=Europe/London:20250925T000000
DTEND;TZID=Europe/London:20250925T235959
DTSTAMP:20260420T014549
CREATED:20250823T093926Z
LAST-MODIFIED:20250823T093926Z
UID:3330-1758758400-1758844799@jointhedotstogether.org
SUMMARY:World Maritime Day
DESCRIPTION:2025 Theme — Our Ocean\, Our Obligation\, Our Opportunity
URL:https://jointhedotstogether.org/event/world-maritime-day/
ATTACH;FMTTYPE=image/jpeg:https://jointhedotstogether.org/wp-content/uploads/2025/08/imo-logo-rgb-e1755941935947.jpg
END:VEVENT
BEGIN:VEVENT
DTSTART;TZID=Europe/London:20250924T193000
DTEND;TZID=Europe/London:20250924T210000
DTSTAMP:20260420T014549
CREATED:20250906T173206Z
LAST-MODIFIED:20250906T173206Z
UID:3377-1758742200-1758747600@jointhedotstogether.org
SUMMARY:“Many Voices\, One Peace: Faith in Action in a Divided World”
DESCRIPTION:
URL:https://jointhedotstogether.org/event/many-voices-one-peace-faith-in-action-in-a-divided-world-2/
LOCATION:WIndsor Hub
ATTACH;FMTTYPE=image/jpeg:https://jointhedotstogether.org/wp-content/uploads/2025/09/Many-voices-date-SOC-e1757179844301.jpg
ORGANIZER;CN="Join the Dots Together":MAILTO:info@jointhedotstogether.org
END:VEVENT
BEGIN:VEVENT
DTSTART;TZID=Europe/London:20250924T190000
DTEND;TZID=Europe/London:20250924T200000
DTSTAMP:20260420T014549
CREATED:20250922T164015Z
LAST-MODIFIED:20250922T164201Z
UID:3466-1758740400-1758744000@jointhedotstogether.org
SUMMARY:"What's the fuss about fossil fuels"
DESCRIPTION:Webinar with Dearbhla Richardson of the Fossil Fuel Treaty and Sinéad Loughran of Trócaire Policy team. They are both experts who will share what the fossil fuel treaty is and how we can join our voices to a growing community calling for a fair\, fast and funded phase-out of fossil fuels.
URL:https://jointhedotstogether.org/event/whats-the-fuss-about-fossil-fuels/
LOCATION:Online
ATTACH;FMTTYPE=image/png:https://jointhedotstogether.org/wp-content/uploads/2025/09/fuss-fossil-e1758559201422.png
END:VEVENT
END:VCALENDAR