BEGIN:VCALENDAR
VERSION:2.0
PRODID:-//Join the Dots Together - ECPv6.15.20//NONSGML v1.0//EN
CALSCALE:GREGORIAN
METHOD:PUBLISH
X-WR-CALNAME:Join the Dots Together
X-ORIGINAL-URL:https://jointhedotstogether.org
X-WR-CALDESC:Events for Join the Dots Together
REFRESH-INTERVAL;VALUE=DURATION:PT1H
X-Robots-Tag:noindex
X-PUBLISHED-TTL:PT1H
BEGIN:VTIMEZONE
TZID:Europe/London
BEGIN:DAYLIGHT
TZOFFSETFROM:+0000
TZOFFSETTO:+0100
TZNAME:BST
DTSTART:20240331T010000
END:DAYLIGHT
BEGIN:STANDARD
TZOFFSETFROM:+0100
TZOFFSETTO:+0000
TZNAME:GMT
DTSTART:20241027T010000
END:STANDARD
BEGIN:DAYLIGHT
TZOFFSETFROM:+0000
TZOFFSETTO:+0100
TZNAME:BST
DTSTART:20250330T010000
END:DAYLIGHT
BEGIN:STANDARD
TZOFFSETFROM:+0100
TZOFFSETTO:+0000
TZNAME:GMT
DTSTART:20251026T010000
END:STANDARD
BEGIN:DAYLIGHT
TZOFFSETFROM:+0000
TZOFFSETTO:+0100
TZNAME:BST
DTSTART:20260329T010000
END:DAYLIGHT
BEGIN:STANDARD
TZOFFSETFROM:+0100
TZOFFSETTO:+0000
TZNAME:GMT
DTSTART:20261025T010000
END:STANDARD
END:VTIMEZONE
BEGIN:VEVENT
DTSTART;TZID=Europe/London:20251127T160000
DTEND;TZID=Europe/London:20251127T173000
DTSTAMP:20260420T012007
CREATED:20251014T123713Z
LAST-MODIFIED:20251014T123713Z
UID:3576-1764259200-1764264600@jointhedotstogether.org
SUMMARY:Towards a Psychology of Religion and the Environment: Obstacles and Opportunities
DESCRIPTION:The Religious Studies Research Forum at Queen’s University Belfast exists to bring together academics at Queen’s and elsewhere with an interest in theology and religious studies. It organises an annual series of research seminars open to the public and the annual McCosh Lecture\, featuring a leading scholar of religion\, again aimed at a public audience.\n\n\nThis year their theme is religion and climate change. The series will include the following. For more information contact Dr Diarmid A Finnegan\, d.finnegan@qub.ac.uk.\n\n\n27 November\, 4.15pm\, 27 University Square\, Room 01/003\, Towards a Psychology of Religion and the Environment: Obstacles and Opportunities\, Speaker: Dr Jesse Preston\, University of Warwick\nThursday 4 December 2025 at 4.15pm\, Geography Building/0G/033\, QUB\, Elmwood Avenue. Apocalyptic Conspiracism in the Time of Climate Crisis\, Dr Tristan Sturm\, QUB.\n\nThursday 22 January 2026 at 4.15pm\, 27 University Square\, Room 01/003. Sacred Worldviews and Climate Security in Africa: Case Studies from Mozambique and Zimbabwe\, Dr Joram Tarusarira\, University of Groningen.\n\n\nThursday 16 April 2026 at 4.15pm\, 27 University Square\, Room 01/003. A Theology of Climate Failure. Dr Bethany Sollereder\, University of Oxford.\n\n\nThe McCosh Lecture. Wednesday 6 May 2026 at 2.30pm\, Canada Room and Council Chamber\, QUB. Professor Katharine Hayhoe\, Chief Scientist\, The Nature Conservancy.
URL:https://jointhedotstogether.org/event/towards-a-psychology-of-religion-and-the-environment-obstacles-and-opportunities/
LOCATION:22 University Square\, Room 01/005
ATTACH;FMTTYPE=image/jpeg:https://jointhedotstogether.org/wp-content/uploads/2025/10/Media1299354smxx-e1760444563836.jpg
END:VEVENT
BEGIN:VEVENT
DTSTART;TZID=Europe/London:20251126T180000
DTEND;TZID=Europe/London:20251126T203000
DTSTAMP:20260420T012007
CREATED:20251105T132014Z
LAST-MODIFIED:20251105T132014Z
UID:3657-1764180000-1764189000@jointhedotstogether.org
SUMMARY:'𝐇𝐨𝐰 𝐄𝐧𝐞𝐫𝐠𝐲 𝐋𝐞𝐚𝐝𝐞𝐫𝐬 𝐠𝐞𝐭 𝐒𝐭𝐚𝐫𝐭𝐞𝐝'
DESCRIPTION:This engaging panel event will feature leading voices from across the energy sector\, including Energy Institute Fellows and industry experts on their own journeys through the energy sector and discussing the challenges and opportunities they have encountered.
URL:https://jointhedotstogether.org/event/%f0%9d%90%87%f0%9d%90%a8%f0%9d%90%b0-%f0%9d%90%84%f0%9d%90%a7%f0%9d%90%9e%f0%9d%90%ab%f0%9d%90%a0%f0%9d%90%b2-%f0%9d%90%8b%f0%9d%90%9e%f0%9d%90%9a%f0%9d%90%9d%f0%9d%90%9e%f0%9d%90%ab%f0%9d%90%ac/
LOCATION:A&L Goodbody  42-46 Fountain Street  Belfast BT1 5EF
ATTACH;FMTTYPE=image/jpeg:https://jointhedotstogether.org/wp-content/uploads/2025/11/AL-G-e1762348796323.jpg
END:VEVENT
BEGIN:VEVENT
DTSTART;TZID=Europe/London:20251124T120000
DTEND;TZID=Europe/London:20251124T130000
DTSTAMP:20260420T012007
CREATED:20250911T173548Z
LAST-MODIFIED:20250911T173759Z
UID:3410-1763985600-1763989200@jointhedotstogether.org
SUMMARY:ALL PARTY GROUP ON INTERNATIONAL DEVELOPMENT - Climate Justice
DESCRIPTION:
URL:https://jointhedotstogether.org/event/all-party-group-on-international-development-climate-justice/
LOCATION:Online
END:VEVENT
BEGIN:VEVENT
DTSTART;TZID=Europe/London:20251120T000000
DTEND;TZID=Europe/London:20251120T235959
DTSTAMP:20260420T012007
CREATED:20251022T190622Z
LAST-MODIFIED:20251022T190622Z
UID:3591-1763596800-1763683199@jointhedotstogether.org
SUMMARY:World Children's Day
DESCRIPTION:World Children’s Day offers each of us an inspirational entry-point to advocate\, promote and celebrate children’s rights\, translating into dialogues and actions that will build a better world for children.
URL:https://jointhedotstogether.org/event/world-childrens-day-2/
ATTACH;FMTTYPE=image/jpeg:https://jointhedotstogether.org/wp-content/uploads/2025/10/uni478111-sm-e1761159970197.jpg
END:VEVENT
BEGIN:VEVENT
DTSTART;TZID=Europe/London:20251119T140000
DTEND;TZID=Europe/London:20251119T160000
DTSTAMP:20260420T012007
CREATED:20251105T164548Z
LAST-MODIFIED:20251105T164548Z
UID:3662-1763560800-1763568000@jointhedotstogether.org
SUMMARY:What is to be Done in Responding to the Planetary Crisis?: Theories and Practices of Transformation
DESCRIPTION:The Centre for Sustainability\, Equality and Climate Action together with the newly established Climate Justice Universities Union invites you to come along to this this interactive workshop to listen to our invited speakers\, discuss and debate the different perspectives on pressing issues.
URL:https://jointhedotstogether.org/event/what-is-to-be-done-in-responding-to-the-planetary-crisis-theories-and-practices-of-transformation/
LOCATION:Peter Froggatt Centre\, Belfast  College Park East\, Belfast\, BT7 1PS
ATTACH;FMTTYPE=image/webp:https://jointhedotstogether.org/wp-content/uploads/2025/11/SECA-logo.webp
END:VEVENT
BEGIN:VEVENT
DTSTART;TZID=Europe/London:20251119T000000
DTEND;TZID=Europe/London:20251119T235959
DTSTAMP:20260420T012007
CREATED:20251022T190410Z
LAST-MODIFIED:20251022T190410Z
UID:3588-1763510400-1763596799@jointhedotstogether.org
SUMMARY:World Toilet Day
DESCRIPTION:Key messages you should know on World Toilet Day 2025\nWe’ll always need the toilet. No matter what lies ahead\, we will always rely on sanitation to protect us from diseases and keep our environment clean.\nToilets are under pressure. Rising demand\, climate change\, ageing infrastructure and low investment all threaten our human right to sanitation.\nWe need toilets fit for the future. We must urgently invest in ‘future-ready’ sanitation – resilient to climate change and accessible to everyone\, everywhere\, always.\nFind out more on the UN-Water website and download campaign resources from the World Toilet Day 2025 Trello board.
URL:https://jointhedotstogether.org/event/world-toilet-day-2/
ATTACH;FMTTYPE=image/png:https://jointhedotstogether.org/wp-content/uploads/2025/10/wtd2025_web_playyourpart_home_eng-e1761159838644.png
END:VEVENT
BEGIN:VEVENT
DTSTART;TZID=Europe/London:20251115T220000
DTEND;TZID=Europe/London:20251115T230000
DTSTAMP:20260420T012007
CREATED:20251112T090453Z
LAST-MODIFIED:20251112T090453Z
UID:3709-1763244000-1763247600@jointhedotstogether.org
SUMMARY:Laura Cooke & others reflect on week 1 of COP
DESCRIPTION:Dialogue with guest speakers at the Climate Wisdom Studio to unpack COP30 Week 1 and much more. \nWatch it live on YouTube at https://lnkd.in/ePGUTygC \n 
URL:https://jointhedotstogether.org/event/laura-cooke-others-reflect-on-week-1-of-cop/
LOCATION:Online
ATTACH;FMTTYPE=image/jpeg:https://jointhedotstogether.org/wp-content/uploads/2025/11/Project-Dandelion.jpg
END:VEVENT
BEGIN:VEVENT
DTSTART;TZID=Europe/London:20251115T000000
DTEND;TZID=Europe/London:20251115T235959
DTSTAMP:20260420T012007
CREATED:20251023T152838Z
LAST-MODIFIED:20251112T192245Z
UID:3624-1763164800-1763251199@jointhedotstogether.org
SUMMARY:COP 30 Global Climate Action Day in Belfast at 12 noon in Writers' Square
DESCRIPTION:Belfast event at 12 noon
URL:https://jointhedotstogether.org/event/cop-30-global-climate-action-day/
END:VEVENT
BEGIN:VEVENT
DTSTART;TZID=Europe/London:20251114T170000
DTEND;TZID=Europe/London:20251114T190000
DTSTAMP:20260420T012007
CREATED:20251105T174035Z
LAST-MODIFIED:20251105T174035Z
UID:3685-1763139600-1763146800@jointhedotstogether.org
SUMMARY:RE[connect]: Pints\, Purpose and Planet Mixer
DESCRIPTION:A fun-filled Pub Quiz Night packed with laughs\, good company\, and a dash of friendly competition! We’re bringing together local business leaders and Northern Ireland’s inspiring 30 Under 30 climate changemakers from three past cohorts for an evening of trivia\, conversation\, and connection.
URL:https://jointhedotstogether.org/event/reconnect-pints-purpose-and-planet-mixer/
LOCATION:Pug Ugly’s\, 21 Beford Street\, Belfast
ATTACH;FMTTYPE=image/webp:https://jointhedotstogether.org/wp-content/uploads/2025/11/Year-1-1536x866.jpg-e1762364427354.webp
END:VEVENT
BEGIN:VEVENT
DTSTART;TZID=Europe/London:20251113T170000
DTEND;TZID=Europe/London:20251113T193000
DTSTAMP:20260420T012007
CREATED:20251105T171943Z
LAST-MODIFIED:20251105T171943Z
UID:3671-1763053200-1763062200@jointhedotstogether.org
SUMMARY:RE[sonate] Women in (Climate) Action
DESCRIPTION:An inspiring conversation with women at the forefront of climate action in Belfast. From grassroots organising to policy leadership\, these changemakers will share their personal journeys\, the challenges they’ve faced as women in the climate space\, and their hopes for a more just\, resilient\, and sustainable Belfast.
URL:https://jointhedotstogether.org/event/resonate-women-in-climate-action/
LOCATION:Canada Room\, Lanyon Building
ATTACH;FMTTYPE=image/jpeg:https://jointhedotstogether.org/wp-content/uploads/2025/11/Resonate-Women-e1762363175983.jpg
END:VEVENT
BEGIN:VEVENT
DTSTART;TZID=Europe/London:20251113T123000
DTEND;TZID=Europe/London:20251113T140000
DTSTAMP:20260420T012007
CREATED:20251105T173707Z
LAST-MODIFIED:20251105T173707Z
UID:3682-1763037000-1763042400@jointhedotstogether.org
SUMMARY:RE[sponsible] AI for Climate Action (RAICA)
DESCRIPTION:Interactive lunchtime session exploring how Responsible AI for Climate Action (RAICA) can help organisations take practical steps toward sustainability with Sustain Founder\, Maurizio Liberante.
URL:https://jointhedotstogether.org/event/responsible-ai-for-climate-action-raica/
LOCATION:Europa Hotel
ATTACH;FMTTYPE=image/webp:https://jointhedotstogether.org/wp-content/uploads/2025/11/Web-Maurizio.jpg-e1762364215915.webp
END:VEVENT
BEGIN:VEVENT
DTSTART;TZID=Europe/London:20251112T123000
DTEND;TZID=Europe/London:20251112T140000
DTSTAMP:20260420T012007
CREATED:20251105T173438Z
LAST-MODIFIED:20251105T173438Z
UID:3679-1762950600-1762956000@jointhedotstogether.org
SUMMARY:RE[imagine] Stories and Solutions for Environmental Leadership
DESCRIPTION:At a time when climate headlines can feel overwhelming\, Dr. Jonny brings a refreshing perspective\, showing how stories\, ideas\, and simple actions can reimagine our relationship with the natural world right here in Northern Ireland.
URL:https://jointhedotstogether.org/event/reimagine-stories-and-solutions-for-environmental-leadership/
LOCATION:Europa Hotel
ATTACH;FMTTYPE=image/webp:https://jointhedotstogether.org/wp-content/uploads/2025/11/jonny-hanson.png.webp
END:VEVENT
BEGIN:VEVENT
DTSTART;TZID=Europe/London:20251111T190000
DTEND;TZID=Europe/London:20251111T201500
DTSTAMP:20260420T012007
CREATED:20251104T154349Z
LAST-MODIFIED:20251104T191948Z
UID:3653-1762887600-1762892100@jointhedotstogether.org
SUMMARY:Empowering & Supporting Young People to Take Environmental Action
DESCRIPTION:An inspiring online event as part of National interfaith Week 2025
URL:https://jointhedotstogether.org/event/empowering-supporting-young-people-to-take-environmental-action/
LOCATION:Online
ATTACH;FMTTYPE=image/jpeg:https://jointhedotstogether.org/wp-content/uploads/2025/11/20251111-Footsteps-e1762271008531.jpg
END:VEVENT
BEGIN:VEVENT
DTSTART;TZID=Europe/London:20251110T220000
DTEND;TZID=Europe/London:20251110T224500
DTSTAMP:20260420T012007
CREATED:20251107T114616Z
LAST-MODIFIED:20251107T114616Z
UID:3688-1762812000-1762814700@jointhedotstogether.org
SUMMARY:COP 30 Interfaith Meeting & Livestream
DESCRIPTION:
URL:https://jointhedotstogether.org/event/cop-30-interfaith-meeting-livestream/
LOCATION:Online
ATTACH;FMTTYPE=image/jpeg:https://jointhedotstogether.org/wp-content/uploads/2025/10/OIP.jpg
END:VEVENT
BEGIN:VEVENT
DTSTART;TZID=Europe/London:20251110T140000
DTEND;TZID=Europe/London:20251110T150000
DTSTAMP:20260420T012007
CREATED:20251109T095110Z
LAST-MODIFIED:20251109T095110Z
UID:3691-1762783200-1762786800@jointhedotstogether.org
SUMMARY:Zoom Interfaith gathering opens COP30
DESCRIPTION:As world leaders prepare to negotiate the future of climate action in Belém\, faith leaders will meet both in person and online on 10 November to ensure ethical voices are heard at COP30. The hybrid gathering at the Lutheran Church in Belém runs from 11:00am to 2:00pm GMT-3\, with participants joining via Zoom from around the world to engage in Talanoa Dialogue – a Fijian Indigenous problem-solving practice – and address the ethical dimensions of climate action.
URL:https://jointhedotstogether.org/event/zoom-interfaith-gathering-opens-cop30/
LOCATION:Online
ATTACH;FMTTYPE=image/jpeg:https://jointhedotstogether.org/wp-content/uploads/2025/11/20251110-Interfaith-e1762681856915.jpg
END:VEVENT
BEGIN:VEVENT
DTSTART;TZID=Europe/London:20251110T123000
DTEND;TZID=Europe/London:20251110T150000
DTSTAMP:20260420T012007
CREATED:20251105T173147Z
LAST-MODIFIED:20251105T173147Z
UID:3677-1762777800-1762786800@jointhedotstogether.org
SUMMARY:RE[purpose] From Waste to Worth
DESCRIPTION:Resource Matching Workshop\nInternational Synergies
URL:https://jointhedotstogether.org/event/repurpose-from-waste-to-worth/
LOCATION:Europa Hotel
ATTACH;FMTTYPE=image/jpeg:https://jointhedotstogether.org/wp-content/uploads/2025/01/LOGO-linen-quarter-bid-400x225-1.jpg
END:VEVENT
BEGIN:VEVENT
DTSTART;TZID=Europe/London:20251110T080000
DTEND;TZID=Europe/London:20251110T083000
DTSTAMP:20260420T012007
CREATED:20251026T115927Z
LAST-MODIFIED:20251026T115927Z
UID:3638-1762761600-1762763400@jointhedotstogether.org
SUMMARY:Daily prayer during COP 30
DESCRIPTION:Morning prayer\nJoin ten minutes of prayer and reflection\, at 8am every morning during COP30\, from 10 Nov to 22 Nov\, except for the middle Sunday 16 November which is a day of rest at COP.  These prayer sessions will be on Zoom and led by a team from Green Christian.
URL:https://jointhedotstogether.org/event/daily-prayer-during-cop-30/
LOCATION:Online
ATTACH;FMTTYPE=image/webp:https://jointhedotstogether.org/wp-content/uploads/2025/10/gc-logo-desktop.jpg.webp
END:VEVENT
BEGIN:VEVENT
DTSTART;TZID=Europe/London:20251110T000000
DTEND;TZID=Europe/London:20251110T235959
DTSTAMP:20260420T012007
CREATED:20251105T172910Z
LAST-MODIFIED:20251105T172910Z
UID:3675-1762732800-1762819199@jointhedotstogether.org
SUMMARY:RE[act] Festival for a Sustainable Belfast 10th-14th November
DESCRIPTION:A focused\, action-packed Mini RE[act] Festival\, this year themed around “Capacity Building” in line with the priorities of COP30.
URL:https://jointhedotstogether.org/event/react-festival-for-a-sustainable-belfast-10th-14th-november/
ATTACH;FMTTYPE=image/jpeg:https://jointhedotstogether.org/wp-content/uploads/2025/01/LOGO-linen-quarter-bid-400x225-1.jpg
END:VEVENT
BEGIN:VEVENT
DTSTART;TZID=Europe/London:20251110T000000
DTEND;TZID=Europe/London:20251110T235959
DTSTAMP:20260420T012007
CREATED:20251022T200846Z
LAST-MODIFIED:20251022T200846Z
UID:3611-1762732800-1762819199@jointhedotstogether.org
SUMMARY:COP 30 10th-21st November
DESCRIPTION:The COP30 climate summit taking place in the Brazilian city of Belém in November. \nIt’s run by the United Nations (UN) and every year is one of the biggest events in the calendar\, especially for world leaders and environmental campaigners.
URL:https://jointhedotstogether.org/event/cop-30-10th-21st-november/
LOCATION:Belem
ATTACH;FMTTYPE=image/jpeg:https://jointhedotstogether.org/wp-content/uploads/2025/10/OIP.jpg
END:VEVENT
BEGIN:VEVENT
DTSTART;TZID=Europe/London:20251110T000000
DTEND;TZID=Europe/London:20251110T235959
DTSTAMP:20260420T012007
CREATED:20251022T191109Z
LAST-MODIFIED:20251022T191109Z
UID:3598-1762732800-1762819199@jointhedotstogether.org
SUMMARY:World Science Day for Peace and Development
DESCRIPTION:The annual observance of the International Week of Science and Peace is making an important contribution to the promotion of peace. The Week encourages greater academic exchanges on a subject of universal importance while also generating greater awareness of the relationship of science and peace among the general public.
URL:https://jointhedotstogether.org/event/world-science-day-for-peace-and-development/
END:VEVENT
BEGIN:VEVENT
DTSTART;TZID=Europe/London:20251109T000000
DTEND;TZID=Europe/London:20251109T235959
DTSTAMP:20260420T012007
CREATED:20251024T175846Z
LAST-MODIFIED:20251024T175846Z
UID:3627-1762646400-1762732799@jointhedotstogether.org
SUMMARY:Inter Faith Week 2025
DESCRIPTION:Each year\, Inter Faith Week begins on Remembrance Sunday\, and runs until the following Sunday. \nThe three aims of the Week are: \nStrengthening good inter faith relations at all levels\nIncreasing awareness of the different and distinct faith communities in the UK\, in particular celebrating and building on the contribution which their members make to their neighbourhoods and to wider society\nIncreasing understanding between people of religious and non-religious beliefs
URL:https://jointhedotstogether.org/event/inter-faith-week-2025/
LOCATION:Online
ATTACH;FMTTYPE=image/png:https://jointhedotstogether.org/wp-content/uploads/2025/10/inter_faith_week_symbol.png
END:VEVENT
BEGIN:VEVENT
DTSTART;TZID=Europe/London:20251107T150000
DTEND;TZID=Europe/London:20251107T160000
DTSTAMP:20260420T012007
CREATED:20251105T165838Z
LAST-MODIFIED:20251105T165838Z
UID:3666-1762527600-1762531200@jointhedotstogether.org
SUMMARY:“The Electric Vehicle Rebound Effect” - Marta Talevi\, UCD
DESCRIPTION:QUEEN’S BUSINESS SCHOOL ECONOMICS SEMINAR SERIES
URL:https://jointhedotstogether.org/event/the-electric-vehicle-rebound-effect-marta-talevi-ucd/
LOCATION:QBS Conference Hub\, Seminar Room 01.012
ATTACH;FMTTYPE=image/png:https://jointhedotstogether.org/wp-content/uploads/2025/11/ECONOMICS-e1762361877609.png
END:VEVENT
BEGIN:VEVENT
DTSTART;TZID=Europe/London:20251107T100000
DTEND;TZID=Europe/London:20251107T170000
DTSTAMP:20260420T012007
CREATED:20251022T201348Z
LAST-MODIFIED:20251022T201348Z
UID:3615-1762509600-1762534800@jointhedotstogether.org
SUMMARY:Irish Ocean Literacy Network\, Regional Meeting: Cross-Border Collaboration for Ocean Literacy
DESCRIPTION:Join the Irish Ocean Literacy Network in Belfast to explore the role and challenges of cross-border collaboration for ocean literacy.
URL:https://jointhedotstogether.org/event/irish-ocean-literacy-network-regional-meeting-cross-border-collaboration-for-ocean-literacy/
LOCATION:Europa Hotel
ATTACH;FMTTYPE=image/avif:https://jointhedotstogether.org/wp-content/uploads/2025/10/Save-the-date-709x1024-1-e1761164013533.avif
END:VEVENT
BEGIN:VEVENT
DTSTART;TZID=Europe/London:20251106T000000
DTEND;TZID=Europe/London:20251106T235959
DTSTAMP:20260420T012007
CREATED:20251022T190152Z
LAST-MODIFIED:20251022T190152Z
UID:3585-1762387200-1762473599@jointhedotstogether.org
SUMMARY:International Day for Preventing the Exploitation of the Environment in War and Armed Conflict
DESCRIPTION:Though humanity has always counted its war casualties in terms of dead and wounded soldiers and civilians\, destroyed cities and livelihoods\, the environment has often remained the unpublicized victim of war.
URL:https://jointhedotstogether.org/event/international-day-for-preventing-the-exploitation-of-the-environment-in-war-and-armed-conflict-2/
END:VEVENT
BEGIN:VEVENT
DTSTART;TZID=Europe/London:20251105T140000
DTEND;TZID=Europe/London:20251105T160000
DTSTAMP:20260420T012007
CREATED:20251022T185755Z
LAST-MODIFIED:20251022T185755Z
UID:3578-1762351200-1762358400@jointhedotstogether.org
SUMMARY:How to heal a careless world
DESCRIPTION:Lecture by Dr Mark Garavan \n27 University Sq\, Room 1/003
URL:https://jointhedotstogether.org/event/how-to-heal-a-careless-world/
LOCATION:27 University Square Belfast BT7 1PD\, 27 University Square Belfast\, BT7 1PD
ATTACH;FMTTYPE=image/jpeg:https://jointhedotstogether.org/wp-content/uploads/2025/10/mark-garavan-e1761159414420.jpg
END:VEVENT
BEGIN:VEVENT
DTSTART;TZID=Europe/London:20251105T000000
DTEND;TZID=Europe/London:20251105T235959
DTSTAMP:20260420T012007
CREATED:20251022T190021Z
LAST-MODIFIED:20251022T190021Z
UID:3582-1762300800-1762387199@jointhedotstogether.org
SUMMARY:World Tsunami Awareness Day
DESCRIPTION:World Tsunami Awareness Day 2025 shines a spotlight on building resilient communities through the Tsunami Ready Programme—a global effort to turn awareness into action.
URL:https://jointhedotstogether.org/event/world-tsunami-awareness-day-2/
ATTACH;FMTTYPE=image/jpeg:https://jointhedotstogether.org/wp-content/uploads/2025/10/world-tsunami-day-2025-e1761159606303.jpg
END:VEVENT
BEGIN:VEVENT
DTSTART;TZID=Europe/London:20251104T093000
DTEND;TZID=Europe/London:20251104T163000
DTSTAMP:20260420T012007
CREATED:20251023T090212Z
LAST-MODIFIED:20251023T090212Z
UID:3619-1762248600-1762273800@jointhedotstogether.org
SUMMARY:The Second Shared Island Biosecurity and Invasive Species Forum
DESCRIPTION:Join researchers\, policymakers\, invasive species managers\, and environmental stakeholders for the Second Shared Island Biosecurity and Invasive Species Forum.
URL:https://jointhedotstogether.org/event/the-second-shared-island-biosecurity-and-invasive-species-forum/
LOCATION:Crowne Plaza
ATTACH;FMTTYPE=image/jpeg:https://jointhedotstogether.org/wp-content/uploads/2025/10/biodiversity-e1761210086524.jpg
END:VEVENT
BEGIN:VEVENT
DTSTART;TZID=Europe/London:20251031T000000
DTEND;TZID=Europe/London:20251031T235959
DTSTAMP:20260420T012007
CREATED:20250928T051836Z
LAST-MODIFIED:20250928T051836Z
UID:3503-1761868800-1761955199@jointhedotstogether.org
SUMMARY:World Cities Day
DESCRIPTION:2025 Theme: People-Centred Smart Cities
URL:https://jointhedotstogether.org/event/world-cities-day/
ATTACH;FMTTYPE=image/jpeg:https://jointhedotstogether.org/wp-content/uploads/2025/09/cities-day-e1759036707136.jpg
END:VEVENT
BEGIN:VEVENT
DTSTART;TZID=Europe/London:20251029T000000
DTEND;TZID=Europe/London:20251029T235959
DTSTAMP:20260420T012007
CREATED:20250928T051623Z
LAST-MODIFIED:20250928T051623Z
UID:3500-1761696000-1761782399@jointhedotstogether.org
SUMMARY:International Day of Care and Support
DESCRIPTION:The International Labour Organization (ILO) will mark International Day of Care and Support 2024 by spotlighting the Resolution concerning Decent Work and the Care Economy\, adopted by the ILO International Labour Conference in June 2024.
URL:https://jointhedotstogether.org/event/international-day-of-care-and-support/
ATTACH;FMTTYPE=image/jpeg:https://jointhedotstogether.org/wp-content/uploads/2025/09/ilo-care-jobs-report.jpg
END:VEVENT
BEGIN:VEVENT
DTSTART;TZID=Europe/London:20251028T000000
DTEND;TZID=Europe/London:20251028T235959
DTSTAMP:20260420T012007
CREATED:20251026T105623Z
LAST-MODIFIED:20251026T115606Z
UID:3633-1761609600-1761695999@jointhedotstogether.org
SUMMARY:Global Youth Conference 2025 28th-30th October
DESCRIPTION:“Compassion for the Planet: Youth Driving Climate Action & Environmental Justice”
URL:https://jointhedotstogether.org/event/global-youth-conference-2025-28th-30th-october/
LOCATION:Online
ATTACH;FMTTYPE=image/png:https://jointhedotstogether.org/wp-content/uploads/2025/10/Global-Youth-Conference-e1761476162200.png
END:VEVENT
END:VCALENDAR