BEGIN:VCALENDAR
VERSION:2.0
PRODID:-//Join the Dots Together - ECPv6.15.20//NONSGML v1.0//EN
CALSCALE:GREGORIAN
METHOD:PUBLISH
X-WR-CALNAME:Join the Dots Together
X-ORIGINAL-URL:https://jointhedotstogether.org
X-WR-CALDESC:Events for Join the Dots Together
REFRESH-INTERVAL;VALUE=DURATION:PT1H
X-Robots-Tag:noindex
X-PUBLISHED-TTL:PT1H
BEGIN:VTIMEZONE
TZID:Europe/London
BEGIN:DAYLIGHT
TZOFFSETFROM:+0000
TZOFFSETTO:+0100
TZNAME:BST
DTSTART:20250330T010000
END:DAYLIGHT
BEGIN:STANDARD
TZOFFSETFROM:+0100
TZOFFSETTO:+0000
TZNAME:GMT
DTSTART:20251026T010000
END:STANDARD
BEGIN:DAYLIGHT
TZOFFSETFROM:+0000
TZOFFSETTO:+0100
TZNAME:BST
DTSTART:20260329T010000
END:DAYLIGHT
BEGIN:STANDARD
TZOFFSETFROM:+0100
TZOFFSETTO:+0000
TZNAME:GMT
DTSTART:20261025T010000
END:STANDARD
BEGIN:DAYLIGHT
TZOFFSETFROM:+0000
TZOFFSETTO:+0100
TZNAME:BST
DTSTART:20270328T010000
END:DAYLIGHT
BEGIN:STANDARD
TZOFFSETFROM:+0100
TZOFFSETTO:+0000
TZNAME:GMT
DTSTART:20271031T010000
END:STANDARD
BEGIN:DAYLIGHT
TZOFFSETFROM:+0000
TZOFFSETTO:+0100
TZNAME:BST
DTSTART:20280326T010000
END:DAYLIGHT
BEGIN:STANDARD
TZOFFSETFROM:+0100
TZOFFSETTO:+0000
TZNAME:GMT
DTSTART:20281029T010000
END:STANDARD
END:VTIMEZONE
BEGIN:VEVENT
DTSTART;TZID=Europe/London:20260413T160000
DTEND;TZID=Europe/London:20260413T170000
DTSTAMP:20260419T172549
CREATED:20260404T110732Z
LAST-MODIFIED:20260404T110732Z
UID:4135-1776096000-1776099600@jointhedotstogether.org
SUMMARY:Kumi Naidoo lecture with the SOAS Sustainable Policy Society
DESCRIPTION:Guest Lecture with Kumi Naidoo: “Why the World Needs a Fossil Fuel Treaty”
URL:https://jointhedotstogether.org/event/kumi-naidoo-lecture-with-the-soas-sustainable-policy-society/
ATTACH;FMTTYPE=image/jpeg:https://jointhedotstogether.org/wp-content/uploads/2026/04/kumi-april-2026-e1775300750310.jpg
END:VEVENT
BEGIN:VEVENT
DTSTART;TZID=Europe/London:20260414T170000
DTEND;TZID=Europe/London:20260414T183000
DTSTAMP:20260419T172549
CREATED:20260404T103012Z
LAST-MODIFIED:20260404T103012Z
UID:4126-1776186000-1776191400@jointhedotstogether.org
SUMMARY:A Rocha seminar on Trusts and Grant Funding
DESCRIPTION:
URL:https://jointhedotstogether.org/event/a-rocha-seminar-on-trusts-and-grant-funding/
LOCATION:Online
END:VEVENT
BEGIN:VEVENT
DTSTART;TZID=Europe/London:20260415T000000
DTEND;TZID=Europe/London:20260415T235959
DTSTAMP:20260419T172549
CREATED:20260324T160308Z
LAST-MODIFIED:20260324T160308Z
UID:4104-1776211200-1776297599@jointhedotstogether.org
SUMMARY:Laudato Sì Animators Course begins
DESCRIPTION:
URL:https://jointhedotstogether.org/event/laudato-si-animators-course-begins/
LOCATION:Online
ATTACH;FMTTYPE=image/jpeg:https://jointhedotstogether.org/wp-content/uploads/2026/03/20251001_083612-scaled-e1774368173891.jpg
END:VEVENT
BEGIN:VEVENT
DTSTART;TZID=Europe/London:20260415T000000
DTEND;TZID=Europe/London:20260415T235959
DTSTAMP:20260419T172549
CREATED:20260402T165809Z
LAST-MODIFIED:20260402T165809Z
UID:4122-1776211200-1776297599@jointhedotstogether.org
SUMMARY:QUB Arts and Sustainability Festival\, Reach’26
DESCRIPTION:Queen’s University Belfast is delighted to announce the return of the Arts and Sustainability Festival\, Reach’26.\nThis seven‑day programme brings together artists\, researchers\, students\, and the wider public to explore how creativity can illuminate the urgent challenges of our changing planet.\nTaking place across the University campus\, the festival highlights the powerful connection between artistic practice and sustainability. Through film\, image\, music\, talks\, panels\, creative writing\, design\, and visual art\, Reach’26 offers multiple ways to engage with themes such as the climate emergency\, biodiversity loss\, and environmental resilience.\nDeveloped in partnership with Queen’s Sustainability Team\, the Naughton Gallery\, Queen’s Film Theatre\, the Seamus Heaney Centre\, the MediaLab\, and academic experts across the region\, this year’s programme brings a rich diversity of perspectives to key climate issues. Art has the unique ability to translate complex scientific ideas into shared emotional experience\, opening space for understanding\, hope\, and collective action.
URL:https://jointhedotstogether.org/event/qub-arts-and-sustainability-festival-reach26/
ATTACH;FMTTYPE=image/png:https://jointhedotstogether.org/wp-content/uploads/2026/04/Reach-2026-e1775149077542.png
END:VEVENT
BEGIN:VEVENT
DTSTART;TZID=Europe/London:20260415T000000
DTEND;TZID=Europe/London:20260415T235959
DTSTAMP:20260419T172549
CREATED:20260409T170445Z
LAST-MODIFIED:20260409T170445Z
UID:4142-1776211200-1776297599@jointhedotstogether.org
SUMMARY:Global Citizenship Education (GCE) programme
DESCRIPTION:Oxfam Ireland Global Citizenship Education (GCE) programme\, funded by Irish Aid. The programme brings people together to explore some of today’s most pressing global justice issues\, including economic and gender inequality\, climate injustice\, and how our world is deeply interconnected and to reflect on how even small actions can contribute to change. \nAs part of this\, they’re running a 4‑part\, in‑person workshop series across the island of Ireland. These sessions will take place at Redburn Community Centre in County Down.
URL:https://jointhedotstogether.org/event/global-citizenship-education-gce-programme/
LOCATION:Redburn Community Centre
ATTACH;FMTTYPE=image/png:https://jointhedotstogether.org/wp-content/uploads/2026/04/GEM-In-Store-Workshop-Flyer-Holywood-e1775754119971.png
ORGANIZER;CN="Oxfam":MAILTO:gem@oxfamireland.org.
END:VEVENT
BEGIN:VEVENT
DTSTART;TZID=Europe/London:20260416T150000
DTEND;TZID=Europe/London:20260416T160000
DTSTAMP:20260419T172549
CREATED:20260328T100132Z
LAST-MODIFIED:20260328T100132Z
UID:4107-1776351600-1776355200@jointhedotstogether.org
SUMMARY:Webinar: What a Just Transition Really Means for Catholics
DESCRIPTION:What a Just Transition Really Means for Catholics: Planet\, Profit\, and Care for the Poor \nAround the world\, conversations about a “green transition” are accelerating. But an essential question remains: who will it serve—and who might be left behind? Three distinguished speakers will explore what a truly just transition looks like—from global policy and economic alternatives to the choices we make in our daily lives.
URL:https://jointhedotstogether.org/event/webinar-what-a-just-transition-really-means-for-catholics/
LOCATION:Online
ATTACH;FMTTYPE=image/png:https://jointhedotstogether.org/wp-content/uploads/2025/01/Laudato-Si-Movement-logo-EN-2048x752-1-e1738093702376.png
END:VEVENT
BEGIN:VEVENT
DTSTART;TZID=Europe/London:20260416T161500
DTEND;TZID=Europe/London:20260416T161500
DTSTAMP:20260419T172549
CREATED:20251004T163040Z
LAST-MODIFIED:20251004T193438Z
UID:3533-1776356100-1776356100@jointhedotstogether.org
SUMMARY:A Theology of Climate Failure
DESCRIPTION:This lecture – A Theology of Climate Failure – given by Dr Bethany Sollereder\, University of Oxford\, is organised by the Religious Studies Research Forum at Queen’s University Belfast\, which forum exists to bring together academics at Queen’s and elsewhere with an interest in theology and religious studies. This is one of an annual series of research seminars open to the public and aimed at a public audience.
URL:https://jointhedotstogether.org/event/a-theology-of-climate-failure/
LOCATION:27 University Square Belfast BT7 1PD\, 27 University Square Belfast\, BT7 1PD
END:VEVENT
BEGIN:VEVENT
DTSTART;TZID=Europe/London:20260420T000000
DTEND;TZID=Europe/London:20260420T235959
DTSTAMP:20260419T172549
CREATED:20260319T170245Z
LAST-MODIFIED:20260319T183230Z
UID:4095-1776643200-1776729599@jointhedotstogether.org
SUMMARY:INTERNATIONAL PLOGGING WEEK 20th April-1st May
DESCRIPTION:Join this global initiative combining community\, movement\, and care for the environment by collecting litter while walking or jogging (“plogging”). Schools\, groups\, and local communities are invited to organise their own activities and share their experiences. \nParticipants are also encouraged to observe why waste accumulates in certain areas and reflect on practical solutions—from raising awareness to engaging local authorities. \nAll contributions will help shape a shared social media campaign for Earth Day\, highlighting our collective responsibility to care for our common home. \nShare your activities using #LivingPeaceGreen and #LivingPeaceDareToCare. \n  \n 
URL:https://jointhedotstogether.org/event/international-plogging-week-20th-april-1st-may/
ATTACH;FMTTYPE=image/jpeg:https://jointhedotstogether.org/wp-content/uploads/2026/03/Plogging-week-e1773939747776.jpg
END:VEVENT
BEGIN:VEVENT
DTSTART;TZID=Europe/London:20260420T180000
DTEND;TZID=Europe/London:20260420T193000
DTSTAMP:20260419T172549
CREATED:20260224T134414Z
LAST-MODIFIED:20260224T134414Z
UID:4010-1776708000-1776713400@jointhedotstogether.org
SUMMARY:How Can You Help Your Church Engage With Creation? Webinar
DESCRIPTION:Hosted by the IBTS\, this interactive 90-minute webinar invites church leaders and members to explore how creation care is part of the gospel and how it can be lived out in local church life.
URL:https://jointhedotstogether.org/event/how-can-you-help-your-church-engage-with-creation-webinar/
LOCATION:Online
ATTACH;FMTTYPE=image/jpeg:https://jointhedotstogether.org/wp-content/uploads/2026/02/223ea228-1a92-4cbc-8fd8-6ffdb45c1773-scaled-e1771940648592.jpeg
END:VEVENT
BEGIN:VEVENT
DTSTART;TZID=Europe/London:20260422T000000
DTEND;TZID=Europe/London:20260422T235959
DTSTAMP:20260419T172549
CREATED:20260331T133201Z
LAST-MODIFIED:20260331T133201Z
UID:4110-1776816000-1776902399@jointhedotstogether.org
SUMMARY:Mother Earth Day
DESCRIPTION:Mother Earth is clearly urging a call to action. Nature is suffering. Oceans filling with plastic and turning more acidic. Extreme heat\, wildfires and floods\, have affected millions of people.
URL:https://jointhedotstogether.org/event/mother-earth-day/
ATTACH;FMTTYPE=image/jpeg:https://jointhedotstogether.org/wp-content/uploads/2026/03/the_earth_seen_from_apollo_17-scaled-e1774963884433.jpg
END:VEVENT
BEGIN:VEVENT
DTSTART;TZID=Europe/London:20260422T090000
DTEND;TZID=Europe/London:20260422T130000
DTSTAMP:20260419T172549
CREATED:20250723T193248Z
LAST-MODIFIED:20250723T193248Z
UID:3230-1776848400-1776862800@jointhedotstogether.org
SUMMARY:An Economy of Enough in a Time of Crisis and Opportunity
DESCRIPTION:
URL:https://jointhedotstogether.org/event/an-economy-of-enough-in-a-time-of-crisis-and-opportunity/
LOCATION:Canada Room QUB\, Queen's University\, Belfast\, BT7 1NN
END:VEVENT
BEGIN:VEVENT
DTSTART;TZID=Europe/London:20260426T000000
DTEND;TZID=Europe/London:20260426T235959
DTSTAMP:20260419T172549
CREATED:20260331T133415Z
LAST-MODIFIED:20260331T133415Z
UID:4113-1777161600-1777247999@jointhedotstogether.org
SUMMARY:International Chernobyl Disaster Remembrance Day
DESCRIPTION:On 8 December 2016 the United Nations General Assembly adopted a resolution designating 26 April as International Chernobyl Disaster Remembrance Day. In its resolution\, the General Assembly recognized that three decades after the disaster there remains persistent serious long-term consequences and that the affected communities and territories are experiencing continuing related needs. The General Assembly invites all Member States\, relevant agencies of the United Nations system and other international organizations\, as well as civil society\, to observe the day.
URL:https://jointhedotstogether.org/event/international-chernobyl-disaster-remembrance-day-2/
ATTACH;FMTTYPE=image/jpeg:https://jointhedotstogether.org/wp-content/uploads/2025/04/202504-chernobyl-image-index-e1743500686524.jpg
END:VEVENT
BEGIN:VEVENT
DTSTART;TZID=Europe/London:20260505T000000
DTEND;TZID=Europe/London:20260505T235959
DTSTAMP:20260419T172549
CREATED:20260104T204922Z
LAST-MODIFIED:20260104T204922Z
UID:3836-1777939200-1778025599@jointhedotstogether.org
SUMMARY:Second International Migration Review Forum
DESCRIPTION:The Second International Migration Review Forum to be convened under the auspices of the General Assembly and be chaired by the President of the General Assembly\, serves as the primary intergovernmental global platform to discuss and share progress on the implementation of all aspects of the Global Compact for Safe\, Orderly and Regular Migration (GCM).
URL:https://jointhedotstogether.org/event/second-international-migration-review-forum/
END:VEVENT
BEGIN:VEVENT
DTSTART;TZID=Europe/London:20260506T143000
DTEND;TZID=Europe/London:20260506T153000
DTSTAMP:20260419T172549
CREATED:20251004T194034Z
LAST-MODIFIED:20251004T194034Z
UID:3545-1778077800-1778081400@jointhedotstogether.org
SUMMARY:The McCosh Lecture
DESCRIPTION:This lecture – The McCosh Lecture – given by Professor Katharine Hayhoe\, Chief Scientist\, The Nature Conservancy. is organised by the Religious Studies Research Forum at Queen’s University Belfast\, which forum exists to bring together academics at Queen’s and elsewhere with an interest in theology and religious studies. This is one of an annual series of research seminars open to the public and aimed at a public audience.
URL:https://jointhedotstogether.org/event/the-mccosh-lecture-2/
LOCATION:Canada Room QUB\, Queen's University\, Belfast\, BT7 1NN
END:VEVENT
BEGIN:VEVENT
DTSTART;TZID=Europe/London:20260512T000000
DTEND;TZID=Europe/London:20260512T235959
DTSTAMP:20260419T172549
CREATED:20260409T171732Z
LAST-MODIFIED:20260409T171732Z
UID:4147-1778544000-1778630399@jointhedotstogether.org
SUMMARY:Uachtatán na hÉireann Catherine Connolly at DCU Annual Conference
DESCRIPTION:Dublin City University’s Institute for Climate and Society annual conference. \nThe theme is climate action in a time of crisis and the key note speaker for this year will be Uachtatán na hÉireann Catherine Connolly.
URL:https://jointhedotstogether.org/event/uachtatan-na-heireann-catherine-connolly-at-dcu-annual-conference/
LOCATION:DCU
ATTACH;FMTTYPE=image/webp:https://jointhedotstogether.org/wp-content/uploads/2026/04/DCU-12th-May-e1775754918427.webp
END:VEVENT
BEGIN:VEVENT
DTSTART;TZID=Europe/London:20260618T000000
DTEND;TZID=Europe/London:20260618T235959
DTSTAMP:20260419T172549
CREATED:20260125T181644Z
LAST-MODIFIED:20260125T181644Z
UID:3937-1781740800-1781827199@jointhedotstogether.org
SUMMARY:Significant Water Management Issues CONSULTATION CLOSES
DESCRIPTION:This consultation asks you whether the Department has correctly identified the most significant and frequent pressures on Northern Ireland’s water environment.
URL:https://jointhedotstogether.org/event/significant-water-management-issues-consultation-closes/
END:VEVENT
BEGIN:VEVENT
DTSTART;TZID=Europe/London:20260709T000000
DTEND;TZID=Europe/London:20260709T235959
DTSTAMP:20260419T172549
CREATED:20260121T113153Z
LAST-MODIFIED:20260121T113153Z
UID:3873-1783555200-1783641599@jointhedotstogether.org
SUMMARY:The Mary Robinson Climate and Nature Conference
DESCRIPTION:The Mary Robinson Climate and Nature Conference returns with “Food and Care: A Meitheal for Our Time”.\n9th-10th July\, Ballina
URL:https://jointhedotstogether.org/event/the-mary-robinson-climate-and-nature-conference/
ATTACH;FMTTYPE=image/jpeg:https://jointhedotstogether.org/wp-content/uploads/2026/01/2026-Mary-Robinson.jpg
END:VEVENT
BEGIN:VEVENT
DTSTART;TZID=Europe/London:20260918T000000
DTEND;TZID=Europe/London:20260918T235959
DTSTAMP:20260419T172549
CREATED:20260219T171104Z
LAST-MODIFIED:20260219T171104Z
UID:4002-1789689600-1789775999@jointhedotstogether.org
SUMMARY:EcoOne Meeting 2026
DESCRIPTION:The proposed meeting is an international workshop promoted by EcoOne\, conceived as a space for reflection\, dialogue\, and shared work on integral ecology.\nThe invitation is open to all those interested in this journey: young people\, researchers\, teachers\, educators\, students\, professionals\, social and cultural workers\, and citizens who wish to explore and experience integral ecology as a practice of care\, responsibility\, and hope.
URL:https://jointhedotstogether.org/event/ecoone-meeting-2026/
LOCATION:Castelgandolfo
ATTACH;FMTTYPE=image/png:https://jointhedotstogether.org/wp-content/uploads/2026/02/202609-Ecoone-Meeting.png
END:VEVENT
BEGIN:VEVENT
DTSTART;TZID=Europe/London:20270801T000000
DTEND;TZID=Europe/London:20270801T235959
DTSTAMP:20260419T172549
CREATED:20260209T201928Z
LAST-MODIFIED:20260209T201928Z
UID:3983-1817078400-1817164799@jointhedotstogether.org
SUMMARY:12th International Conference on Degrowth for Ecological Sustainability and Social Equity
DESCRIPTION:After yearly conferences in Zagreb (2023)\, Pontevedra (2024) and Oslo (2025)\, the Support Group of the International Conferences on Degrowth for Ecological Sustainability and Social Equity decided to slow down and to organise the next one in 2027. A call for expressions of interest was launched. Through this process\, the support group recieved six wonderful applications!\nCork\, Ireland\, was chosen to host the next International Degrowth Conference in 2027
URL:https://jointhedotstogether.org/event/12th-international-conference-on-degrowth-for-ecological-sustainability-and-social-equity/
ATTACH;FMTTYPE=image/png:https://jointhedotstogether.org/wp-content/uploads/2026/02/2027_Degrowth_Conferences_v2_banner-e1770655989902.png
END:VEVENT
END:VCALENDAR