BEGIN:VCALENDAR
VERSION:2.0
PRODID:-//Join the Dots Together - ECPv6.15.20//NONSGML v1.0//EN
CALSCALE:GREGORIAN
METHOD:PUBLISH
X-WR-CALNAME:Join the Dots Together
X-ORIGINAL-URL:https://jointhedotstogether.org
X-WR-CALDESC:Events for Join the Dots Together
REFRESH-INTERVAL;VALUE=DURATION:PT1H
X-Robots-Tag:noindex
X-PUBLISHED-TTL:PT1H
BEGIN:VTIMEZONE
TZID:Europe/London
BEGIN:DAYLIGHT
TZOFFSETFROM:+0000
TZOFFSETTO:+0100
TZNAME:BST
DTSTART:20240331T010000
END:DAYLIGHT
BEGIN:STANDARD
TZOFFSETFROM:+0100
TZOFFSETTO:+0000
TZNAME:GMT
DTSTART:20241027T010000
END:STANDARD
BEGIN:DAYLIGHT
TZOFFSETFROM:+0000
TZOFFSETTO:+0100
TZNAME:BST
DTSTART:20250330T010000
END:DAYLIGHT
BEGIN:STANDARD
TZOFFSETFROM:+0100
TZOFFSETTO:+0000
TZNAME:GMT
DTSTART:20251026T010000
END:STANDARD
BEGIN:DAYLIGHT
TZOFFSETFROM:+0000
TZOFFSETTO:+0100
TZNAME:BST
DTSTART:20260329T010000
END:DAYLIGHT
BEGIN:STANDARD
TZOFFSETFROM:+0100
TZOFFSETTO:+0000
TZNAME:GMT
DTSTART:20261025T010000
END:STANDARD
BEGIN:DAYLIGHT
TZOFFSETFROM:+0000
TZOFFSETTO:+0100
TZNAME:BST
DTSTART:20270328T010000
END:DAYLIGHT
BEGIN:STANDARD
TZOFFSETFROM:+0100
TZOFFSETTO:+0000
TZNAME:GMT
DTSTART:20271031T010000
END:STANDARD
END:VTIMEZONE
BEGIN:VEVENT
DTSTART;TZID=Europe/London:20260215T103000
DTEND;TZID=Europe/London:20260215T160000
DTSTAMP:20260419T173004
CREATED:20260125T175329Z
LAST-MODIFIED:20260125T175329Z
UID:3927-1771151400-1771171200@jointhedotstogether.org
SUMMARY:Astrofest
DESCRIPTION:Workshop \n\nReach for the stars at the Ulster Museum’s Astrofest\, packed with cosmic exploration\, Ask an Astronomer sessions and hands-on fun for all ages!
URL:https://jointhedotstogether.org/event/astrofest/
LOCATION:Ulster Museum
END:VEVENT
BEGIN:VEVENT
DTSTART;TZID=Europe/London:20260214T140000
DTEND;TZID=Europe/London:20260214T150000
DTSTAMP:20260419T173004
CREATED:20260125T174934Z
LAST-MODIFIED:20260125T175020Z
UID:3924-1771077600-1771081200@jointhedotstogether.org
SUMMARY:From Grey Wolves to Grey Squirrels 14th & 15th Feb
DESCRIPTION:Enjoy a free\, family-friendly gallery tour exploring the history of the island of Ireland through its landscape and wildlife.
URL:https://jointhedotstogether.org/event/from-grey-wolves-to-grey-squirrels/
LOCATION:Ulster Museum
END:VEVENT
BEGIN:VEVENT
DTSTART;TZID=Europe/London:20260212T120000
DTEND;TZID=Europe/London:20260212T170000
DTSTAMP:20260419T173004
CREATED:20260125T173341Z
LAST-MODIFIED:20260125T173341Z
UID:3915-1770897600-1770915600@jointhedotstogether.org
SUMMARY:Our Wild Home: Exploring NI’s Nature and Landscapes
DESCRIPTION:Drop in Event \nStep into the rich natural heritage of Northern Ireland with a day of talks\, exhibits\, and hands-on activities celebrating the incredible connections between our landscapes\, wildlife\, and communities.
URL:https://jointhedotstogether.org/event/our-wild-home-exploring-nis-nature-and-landscapes-2/
LOCATION:2 Royal Avenue\, Belfast City Council Community & Cultural Hub\, Belfast\, Select a State or Province:\, BT1 1DA\, United Kingdom
END:VEVENT
BEGIN:VEVENT
DTSTART;TZID=Europe/London:20260211T000000
DTEND;TZID=Europe/London:20260211T235959
DTSTAMP:20260419T173004
CREATED:20260125T171717Z
LAST-MODIFIED:20260125T171717Z
UID:3908-1770768000-1770854399@jointhedotstogether.org
SUMMARY:International Day of Women and Girls in Science
DESCRIPTION:A significant gender gap has persisted throughout the years at all levels of science\, technology\, engineering and mathematics (STEM) disciplines all over the world. Even though women have made tremendous progress towards increasing their participation in higher education\, they are still under-represented in these fields.
URL:https://jointhedotstogether.org/event/international-day-of-women-and-girls-in-science/
ATTACH;FMTTYPE=image/png:https://jointhedotstogether.org/wp-content/uploads/2026/01/01-e1769361402127.png
END:VEVENT
BEGIN:VEVENT
DTSTART;TZID=Europe/London:20260211T000000
DTEND;TZID=Europe/London:20260211T235959
DTSTAMP:20260419T173004
CREATED:20260121T111959Z
LAST-MODIFIED:20260121T111959Z
UID:3868-1770768000-1770854399@jointhedotstogether.org
SUMMARY:NI Science Festival\, 11th-22nd February
DESCRIPTION:Lots of events – all the info here: https://nisciencefestival.com/
URL:https://jointhedotstogether.org/event/ni-science-festival-11th-22nd-february/
ATTACH;FMTTYPE=image/png:https://jointhedotstogether.org/wp-content/uploads/2026/01/Screenshot-2026-01-21-111749.png
END:VEVENT
BEGIN:VEVENT
DTSTART;TZID=Europe/London:20260210T180000
DTEND;TZID=Europe/London:20260210T190000
DTSTAMP:20260419T173004
CREATED:20260121T170212Z
LAST-MODIFIED:20260121T170212Z
UID:3880-1770746400-1770750000@jointhedotstogether.org
SUMMARY:‘99th Day: A Warning About Technology’
DESCRIPTION:Gerry McGovern launches his new book in discussion with Fidelma O’Kane\, campaigner with Save Our Sperrins and Declan Owens\, a lawyer with Ecojustice Ireland. Chaired by Professor John Barry. \nRegister here: https://www.ticketsource.co.uk/qubseca/t-ldnmoyg
URL:https://jointhedotstogether.org/event/99th-day-a-warning-about-technology/
LOCATION:Canada Room QUB\, Queen's University\, Belfast\, BT7 1NN
ATTACH;FMTTYPE=image/jpeg:https://jointhedotstogether.org/wp-content/uploads/2026/01/99th-day.jpg
END:VEVENT
BEGIN:VEVENT
DTSTART;TZID=Europe/London:20260210T000000
DTEND;TZID=Europe/London:20260210T235959
DTSTAMP:20260419T173004
CREATED:20260125T170611Z
LAST-MODIFIED:20260125T170611Z
UID:3899-1770681600-1770767999@jointhedotstogether.org
SUMMARY:International Day of the Arabian Leopard
DESCRIPTION:To raise awareness about the Arabian leopard\, the United Nations General Assembly has proclaimed February 10 as the International Day of the Arabian Leopard in resolution 77/295. \nClassified as Critically Endangered on the IUCN Red List\, the rapid disappearance of the Arabian leopard represents a major setback for biodiversity conservation in its native region\, underscoring the urgency of addressing the nature crisis that threatens ecosystems worldwide.
URL:https://jointhedotstogether.org/event/international-day-of-the-arabian-leopard/
ATTACH;FMTTYPE=image/jpeg:https://jointhedotstogether.org/wp-content/uploads/2026/01/arabian-leopard-banner-e1769360719174.jpg
END:VEVENT
BEGIN:VEVENT
DTSTART;TZID=Europe/London:20260210T000000
DTEND;TZID=Europe/London:20260210T235959
DTSTAMP:20260419T173004
CREATED:20260125T170419Z
LAST-MODIFIED:20260125T170419Z
UID:3896-1770681600-1770767999@jointhedotstogether.org
SUMMARY:World Pulses Day
DESCRIPTION:Building on the success of the International Year of Pulses (IYP) in 2016 implemented by FAO and recognizing the potential of pulses to further achieve the 2030 Agenda for Sustainable Development\, the United Nations General Assembly (UNGA) designated 10 February as World Pulses Day (WPD).
URL:https://jointhedotstogether.org/event/world-pulses-day/
ATTACH;FMTTYPE=image/jpeg:https://jointhedotstogether.org/wp-content/uploads/2026/01/dmh_en-e1769360651766.jpg
END:VEVENT
BEGIN:VEVENT
DTSTART;TZID=Europe/London:20260208T133000
DTEND;TZID=Europe/London:20260208T160000
DTSTAMP:20260419T173004
CREATED:20260125T172653Z
LAST-MODIFIED:20260125T172653Z
UID:3911-1770557400-1770566400@jointhedotstogether.org
SUMMARY:Our Corner of Creation
DESCRIPTION:Young people from across Belfast will gather to explore issues of environmental care and community stewardship of earth’s resources. \nWorking in mixed groups\, participants will have opportunities to discuss both the beauty and brokenness of our city and consider realistic steps that can be taken to address the challenges it faces.
URL:https://jointhedotstogether.org/event/our-corner-of-creation/
LOCATION:Forthspring\, 373-375 Springfield Rd\, Belfast\, BT12 7DG
ATTACH;FMTTYPE=image/jpeg:https://jointhedotstogether.org/wp-content/uploads/2026/01/Our-corner-of-creation-e1769361899279.jpg
END:VEVENT
BEGIN:VEVENT
DTSTART;TZID=Europe/London:20260204T000000
DTEND;TZID=Europe/London:20260204T235959
DTSTAMP:20260419T173004
CREATED:20260125T170131Z
LAST-MODIFIED:20260125T170131Z
UID:3893-1770163200-1770249599@jointhedotstogether.org
SUMMARY:International Day of Human Fraternity
DESCRIPTION:Human fraternity for peace and cooperation emphasizes that people of all religions and beliefs share common human values\, and that dialogue among them is essential for mutual understanding\, tolerance\, and lasting peace. By promoting education\, cultural awareness\, and interreligious and intercultural dialogue\, societies can reduce discrimination\, respect diversity\, and strengthen social stability. Rooted in the UN’s commitment to a culture of peace after World War II\, this approach recognizes that peace is built through cooperation\, dialogue\, and shared responsibility for one another. In this spirit\, the UN established the International Day of Human Fraternity on 4 February to affirm our common humanity and encourage harmony among all people.
URL:https://jointhedotstogether.org/event/international-day-of-human-fraternity/
ATTACH;FMTTYPE=image/png:https://jointhedotstogether.org/wp-content/uploads/2026/01/fraternity-e1769360319850.png
END:VEVENT
BEGIN:VEVENT
DTSTART;TZID=Europe/London:20260203T160000
DTEND;TZID=Europe/London:20260203T180000
DTSTAMP:20260419T173004
CREATED:20260121T114843Z
LAST-MODIFIED:20260121T114843Z
UID:3876-1770134400-1770141600@jointhedotstogether.org
SUMMARY:Spotlight on Careers in Energy
DESCRIPTION:A Spotlight event in partnership with the Energy Institute\, featuring a panel of early-career professionals sharing their journeys and how the Institute supports career development.
URL:https://jointhedotstogether.org/event/spotlight-on-careers-in-energy/
LOCATION:The Cube\, One Elmwood
ATTACH;FMTTYPE=image/jpeg:https://jointhedotstogether.org/wp-content/uploads/2026/01/spotlight_on_energy_960x540-800x450-1-e1768996112845.jpg
END:VEVENT
BEGIN:VEVENT
DTSTART;TZID=Europe/London:20260202T000000
DTEND;TZID=Europe/London:20260202T235959
DTSTAMP:20260419T173004
CREATED:20260125T165528Z
LAST-MODIFIED:20260125T165528Z
UID:3890-1769990400-1770076799@jointhedotstogether.org
SUMMARY:World Wetlands Day
DESCRIPTION:World Wetlands Day is celebrated each year on 2 February to raise awareness about wetlands. This day also marks the anniversary of the Convention on Wetlands\, which was adopted as an international treaty in 1971.
URL:https://jointhedotstogether.org/event/world-wetlands-day/
ATTACH;FMTTYPE=image/png:https://jointhedotstogether.org/wp-content/uploads/2026/01/one-with-wetlands-e1769360107152.png
END:VEVENT
BEGIN:VEVENT
DTSTART;TZID=Europe/London:20260201T000000
DTEND;TZID=Europe/London:20260201T235959
DTSTAMP:20260419T173004
CREATED:20260127T180855Z
LAST-MODIFIED:20260127T180855Z
UID:3949-1769904000-1769990399@jointhedotstogether.org
SUMMARY:Reclaim the Economy Week ends 1st Feb
DESCRIPTION:Reclaim the Economy Week is a moment to unite to demand an economy that\nputs people and planet first.
URL:https://jointhedotstogether.org/event/reclaim-the-economy-week-ends-1st-feb/
ATTACH;FMTTYPE=image/webp:https://jointhedotstogether.org/wp-content/uploads/2026/01/Pragmatica.webp
END:VEVENT
BEGIN:VEVENT
DTSTART;TZID=Europe/London:20260201T000000
DTEND;TZID=Europe/London:20260201T235959
DTSTAMP:20260419T173004
CREATED:20251202T121304Z
LAST-MODIFIED:20251202T121304Z
UID:3790-1769904000-1769990399@jointhedotstogether.org
SUMMARY:World Interfaith Harmony Week 1st-7th February
DESCRIPTION:World Interfaith Harmony Week is an annual event observed during the first week of February\, since the General Assembly designation in 2010. The General Assembly pointed out that mutual understanding and interreligious dialogue constitute important dimensions of a culture of peace and established World Interfaith Harmony Week as a way to promote harmony between all people regardless of their faith.
URL:https://jointhedotstogether.org/event/world-interfaith-harmony-week-1st-7th-february-2/
ATTACH;FMTTYPE=image/jpeg:https://jointhedotstogether.org/wp-content/uploads/2025/08/Faiths-together-crop-e1755877624870.jpg
END:VEVENT
BEGIN:VEVENT
DTSTART;TZID=Europe/London:20260129T000000
DTEND;TZID=Europe/London:20260129T235959
DTSTAMP:20260419T173004
CREATED:20251128T093257Z
LAST-MODIFIED:20251128T093257Z
UID:3754-1769644800-1769731199@jointhedotstogether.org
SUMMARY:4 Corners Festival Begins 29th January-8th February
DESCRIPTION:Full programme of events: https://www.4cornersfestival.com/festival-years/2026-festival/
URL:https://jointhedotstogether.org/event/4-corners-festival-begins-29th-january-8th-february/
ATTACH;FMTTYPE=image/png:https://jointhedotstogether.org/wp-content/uploads/2025/11/590643303_1173571021546063_3565230311146237872_n-e1764322343711.png
END:VEVENT
BEGIN:VEVENT
DTSTART;TZID=Europe/London:20260128T000000
DTEND;TZID=Europe/London:20260128T235959
DTSTAMP:20260419T173004
CREATED:20260104T203622Z
LAST-MODIFIED:20260104T203622Z
UID:3830-1769558400-1769644799@jointhedotstogether.org
SUMMARY:International Day of Peaceful Coexistence
DESCRIPTION:With global instability and conflict on the rise\, the International Day of Peaceful Coexistence serves as a platform to raise awareness of diverse cultures\, values\, ways of life\, and beliefs\, and to highlight the role of education in promoting tolerance.
URL:https://jointhedotstogether.org/event/international-day-of-peaceful-coexistence/
END:VEVENT
BEGIN:VEVENT
DTSTART;TZID=Europe/London:20260127T110000
DTEND;TZID=Europe/London:20260127T160000
DTSTAMP:20260419T173004
CREATED:20260113T144002Z
LAST-MODIFIED:20260113T215031Z
UID:3856-1769511600-1769529600@jointhedotstogether.org
SUMMARY:STAND Festival: Global Solidarity Fair
DESCRIPTION:STAND’s Global Solidarity Festival is a week-long programme that brings exhibitions\, events\, and creative activities to university campuses.
URL:https://jointhedotstogether.org/event/stand-festival-global-solidarity-fair/
LOCATION:One Elmwood
ATTACH;FMTTYPE=image/png:https://jointhedotstogether.org/wp-content/uploads/2026/01/Global-Solidarity-Fair-e1768315152258.png
END:VEVENT
BEGIN:VEVENT
DTSTART;TZID=Europe/London:20260127T000000
DTEND;TZID=Europe/London:20260127T235959
DTSTAMP:20260419T173004
CREATED:20260104T205417Z
LAST-MODIFIED:20260104T205417Z
UID:3839-1769472000-1769558399@jointhedotstogether.org
SUMMARY:ECOSOC Partnership Forum
DESCRIPTION:The 2026 Partnership Forum of the Economic and Social Council (ECOSOC) will take place on 27 January 2026 at the UN Headquarters in New York under the theme “Transformative\, equitable\, innovative and coordinated actions for the 2030 Agenda and its SDGs for a sustainable future for all”.
URL:https://jointhedotstogether.org/event/ecosoc-partnership-forum/
END:VEVENT
BEGIN:VEVENT
DTSTART;TZID=Europe/London:20260126T000000
DTEND;TZID=Europe/London:20260126T235959
DTSTAMP:20260419T173004
CREATED:20260127T180749Z
LAST-MODIFIED:20260127T180749Z
UID:3945-1769385600-1769471999@jointhedotstogether.org
SUMMARY:Reclaim the Economy Week 26th Jan-1st Feb
DESCRIPTION:Reclaim the Economy Week is a moment to unite to demand an economy that\nputs people and planet first.
URL:https://jointhedotstogether.org/event/reclaim-the-economy-week-26th-jan-1st-feb/
LOCATION:https://www.reclaimtheeconomy.org/
ATTACH;FMTTYPE=image/webp:https://jointhedotstogether.org/wp-content/uploads/2026/01/Pragmatica.webp
END:VEVENT
BEGIN:VEVENT
DTSTART;TZID=Europe/London:20260126T000000
DTEND;TZID=Europe/London:20260126T235959
DTSTAMP:20260419T173004
CREATED:20260104T203441Z
LAST-MODIFIED:20260104T204148Z
UID:3828-1769385600-1769471999@jointhedotstogether.org
SUMMARY:International Day of Clean Energy
DESCRIPTION:The International Day of Clean Energy on 26 January was declared by the General Assembly (resolution A/77/327) as a call to raise awareness and mobilize action for a just and inclusive transition to clean energy for the benefit of people and the planet. \n26 January is also the founding date of the International Renewable Energy Agency (IRENA)\, a global intergovernmental agency established in 2009 to support countries in their energy transitions\, serve as a platform for international cooperation\, and provide data and analyses on clean energy technology\, innovation\, policy\, finance and investment.
URL:https://jointhedotstogether.org/event/international-day-of-clean-energy-2/
END:VEVENT
BEGIN:VEVENT
DTSTART;TZID=Europe/London:20260124T000000
DTEND;TZID=Europe/London:20260124T235959
DTSTAMP:20260419T173004
CREATED:20260104T203251Z
LAST-MODIFIED:20260104T204405Z
UID:3826-1769212800-1769299199@jointhedotstogether.org
SUMMARY:International Day of Education
DESCRIPTION:The United Nations General Assembly proclaimed 24 January as International Day of Education\, in celebration of the role of education for peace and development. \nInternational Day of Education 2026: The power of youth in co-creating education
URL:https://jointhedotstogether.org/event/international-day-of-education-2/
ATTACH;FMTTYPE=image/webp:https://jointhedotstogether.org/wp-content/uploads/2026/01/202601-Education-e1767559412588.webp
END:VEVENT
BEGIN:VEVENT
DTSTART;TZID=Europe/London:20260122T161500
DTEND;TZID=Europe/London:20260122T161500
DTSTAMP:20260419T173004
CREATED:20251004T163040Z
LAST-MODIFIED:20251004T164025Z
UID:3532-1769098500-1769098500@jointhedotstogether.org
SUMMARY:Sacred Worldviews and Climate Security in Africa
DESCRIPTION:This lecture – Sacred Worldviews and Climate Security in Africa: Case Studies from Mozambique and Zimbabwe – given by Dr Joram Tarusarira\, University of Groningen. is organised by the Religious Studies Research Forum at Queen’s University Belfast\, which forum exists to bring together academics at Queen’s and elsewhere with an interest in theology and religious studies. This is one of an annual series of research seminars open to the public and aimed at a public audience.
URL:https://jointhedotstogether.org/event/sacred-worldviews-and-climate-security-in-africa-case-studies-from-mozambique-and-zimbabwe/
LOCATION:27 University Square Belfast BT7 1PD\, 27 University Square Belfast\, BT7 1PD
END:VEVENT
BEGIN:VEVENT
DTSTART;TZID=Europe/London:20260120T190000
DTEND;TZID=Europe/London:20260120T200000
DTSTAMP:20260419T173004
CREATED:20260104T220210Z
LAST-MODIFIED:20260104T220210Z
UID:3846-1768935600-1768939200@jointhedotstogether.org
SUMMARY:How robotics can help save rare plants from going extinct
DESCRIPTION:Discover how cutting-edge robotics is transforming the way we study the plant world. This webinar will explore how robotic technologies are being applied in botanical recording and fieldwork\, from surveying habitats with precision to collecting physical samples of plants and trees in challenging environments.
URL:https://jointhedotstogether.org/event/how-robotics-can-help-save-rare-plants-from-going-extinct/
END:VEVENT
BEGIN:VEVENT
DTSTART;TZID=Europe/London:20260118T000000
DTEND;TZID=Europe/London:20260118T235959
DTSTAMP:20260419T173004
CREATED:20251128T093820Z
LAST-MODIFIED:20251128T093820Z
UID:3757-1768694400-1768780799@jointhedotstogether.org
SUMMARY:Week of Prayer for Christian Unity\, 18th-25th January
DESCRIPTION:
URL:https://jointhedotstogether.org/event/week-of-prayer-for-christian-unity-18th-25th-january/
ATTACH;FMTTYPE=image/jpeg:https://jointhedotstogether.org/wp-content/uploads/2025/11/353242_english-pamphlet-for-wpcu-2026_20250905170930923.jpg
END:VEVENT
BEGIN:VEVENT
DTSTART;TZID=Europe/London:20260117T100000
DTEND;TZID=Europe/London:20260117T153000
DTSTAMP:20260419T173004
CREATED:20251118T113127Z
LAST-MODIFIED:20251202T120330Z
UID:3723-1768644000-1768663800@jointhedotstogether.org
SUMMARY:Irish Churches Creation Care Conference
DESCRIPTION:The Irish Council of Churches and the Irish Inter Church Meeting\, along with church leaders invite you to their conference on Saturday 17 January 2026 in the Canal Court Hotel\, Newry. \nKeynote speakers: \nDr Jim McAdam\, agricultural and environmental research in NI Government sector and Queen’s University Belfast\,\nDr Gail Heffner\, author ‘reconciliation in a West Michigan Watershed‘\,\nDr Hilary Marlow\, Girton College\, Cambridge.\nTickets are £10 and can be purchased at https://letjusticeflow.eventbrite.ie
URL:https://jointhedotstogether.org/event/irish-churches-creation-care-conference/
LOCATION:Canal Court Hotel\, Newry
ATTACH;FMTTYPE=image/jpeg:https://jointhedotstogether.org/wp-content/uploads/2025/11/20260117-Let-Justice-Flow-vertical-e1763465338345.jpg
END:VEVENT
BEGIN:VEVENT
DTSTART;TZID=Europe/London:20260113T100000
DTEND;TZID=Europe/London:20260113T130000
DTSTAMP:20260419T173004
CREATED:20260104T220034Z
LAST-MODIFIED:20260104T220034Z
UID:3843-1768298400-1768309200@jointhedotstogether.org
SUMMARY:Winter Warmer Work Parties with Butterfly Conservation
DESCRIPTION:Priority Landscapes and Species: Cryptic Wood White (CWW) at Craigavon Lakes\, Craigavon\nDate/Time: Tuesday 13th January 2026\, 10am – 1pm\nMeet at: Eastway\, Craigavon BT66 6SA (parking on hard-shoulder)\nWorking with Armagh City\, Banbridge & Craigavon Borough Council to manage an area of Craigavon\nLakes well-known for its CWW population where encroaching scrub is a threat to the grassland habitat the species relies on
URL:https://jointhedotstogether.org/event/winter-warmer-work-parties-with-butterfly-conservation/
LOCATION:Eastway\, Craigavon BT66 6SA
END:VEVENT
BEGIN:VEVENT
DTSTART;TZID=Europe/London:20260104T000000
DTEND;TZID=Europe/London:20260104T235959
DTSTAMP:20260419T173004
CREATED:20260104T203025Z
LAST-MODIFIED:20260104T203750Z
UID:3824-1767484800-1767571199@jointhedotstogether.org
SUMMARY:World Braille Day
DESCRIPTION:World Braille Day\, celebrated since 2019\, is observed to raise awareness of the importance of Braille as a means of communication in the full realization of the human rights for blind and partially sighted people.
URL:https://jointhedotstogether.org/event/world-braille-day/
END:VEVENT
BEGIN:VEVENT
DTSTART;TZID=Europe/London:20251220T000000
DTEND;TZID=Europe/London:20251220T235959
DTSTAMP:20260419T173004
CREATED:20251127T110242Z
LAST-MODIFIED:20251127T153219Z
UID:3748-1766188800-1766275199@jointhedotstogether.org
SUMMARY:International Human Solidarity Day
DESCRIPTION:International Human Solidarity Day is:\n\na day to celebrate our unity in diversity;\na day to remind governments to respect their commitments to international agreements;\na day to raise public awareness of the importance of solidarity;\na day to encourage debate on the ways to promote solidarity for the achievement of the Sustainable Development Goals including poverty eradication;\na day of action to encourage new initiatives for poverty eradication.
URL:https://jointhedotstogether.org/event/international-human-solidarity-day-2/
ATTACH;FMTTYPE=image/jpeg:https://jointhedotstogether.org/wp-content/uploads/2025/11/human-solidarity-day-1.jpg
END:VEVENT
BEGIN:VEVENT
DTSTART;TZID=Europe/London:20251218T000000
DTEND;TZID=Europe/London:20251218T235959
DTSTAMP:20260419T173004
CREATED:20251127T110108Z
LAST-MODIFIED:20251127T110108Z
UID:3745-1766016000-1766102399@jointhedotstogether.org
SUMMARY:International Migrants Day
DESCRIPTION:International Migrants Day gives us a special opportunity to shine a spotlight on the invaluable contributions of millions of migrants around the world. It’s also a day for us to highlight the increasingly complex environment in which migration occurs. Conflicts\, climate-related disasters and economic pressures continue to drive millions of people from their homes in search of safety or simply opportunity.
URL:https://jointhedotstogether.org/event/international-migrants-day-2/
ATTACH;FMTTYPE=image/jpeg:https://jointhedotstogether.org/wp-content/uploads/2025/11/gcm_logo_vertical_en-e1764241262158.jpg
END:VEVENT
BEGIN:VEVENT
DTSTART;TZID=Europe/London:20251216T190000
DTEND;TZID=Europe/London:20251216T200000
DTSTAMP:20260419T173004
CREATED:20251127T105128Z
LAST-MODIFIED:20251127T105128Z
UID:3732-1765911600-1765915200@jointhedotstogether.org
SUMMARY:New Year Plant Hunt - Citizen Science in a Changing Climate
DESCRIPTION:Preparatory zoom: For a few days around every New Year\, thousands of people across Britain and Ireland head outdoors to see what’s in bloom; from Daisies in city parks to Gorse on windswept hillsides.
URL:https://jointhedotstogether.org/event/new-year-plant-hunt-citizen-science-in-a-changing-climate/
LOCATION:Online
ATTACH;FMTTYPE=image/jpeg:https://jointhedotstogether.org/wp-content/uploads/2025/11/20251216-Botanical-SOc-e1764240548154.jpg
END:VEVENT
END:VCALENDAR