BEGIN:VCALENDAR
VERSION:2.0
PRODID:-//Join the Dots Together - ECPv6.15.20//NONSGML v1.0//EN
CALSCALE:GREGORIAN
METHOD:PUBLISH
X-WR-CALNAME:Join the Dots Together
X-ORIGINAL-URL:https://jointhedotstogether.org
X-WR-CALDESC:Events for Join the Dots Together
REFRESH-INTERVAL;VALUE=DURATION:PT1H
X-Robots-Tag:noindex
X-PUBLISHED-TTL:PT1H
BEGIN:VTIMEZONE
TZID:Europe/London
BEGIN:DAYLIGHT
TZOFFSETFROM:+0000
TZOFFSETTO:+0100
TZNAME:BST
DTSTART:20240331T010000
END:DAYLIGHT
BEGIN:STANDARD
TZOFFSETFROM:+0100
TZOFFSETTO:+0000
TZNAME:GMT
DTSTART:20241027T010000
END:STANDARD
BEGIN:DAYLIGHT
TZOFFSETFROM:+0000
TZOFFSETTO:+0100
TZNAME:BST
DTSTART:20250330T010000
END:DAYLIGHT
BEGIN:STANDARD
TZOFFSETFROM:+0100
TZOFFSETTO:+0000
TZNAME:GMT
DTSTART:20251026T010000
END:STANDARD
BEGIN:DAYLIGHT
TZOFFSETFROM:+0000
TZOFFSETTO:+0100
TZNAME:BST
DTSTART:20260329T010000
END:DAYLIGHT
BEGIN:STANDARD
TZOFFSETFROM:+0100
TZOFFSETTO:+0000
TZNAME:GMT
DTSTART:20261025T010000
END:STANDARD
END:VTIMEZONE
BEGIN:VEVENT
DTSTART;TZID=Europe/London:20250501T000000
DTEND;TZID=Europe/London:20250501T235959
DTSTAMP:20260420T222355
CREATED:20250428T190058Z
LAST-MODIFIED:20250502T172629Z
UID:2612-1746057600-1746143999@jointhedotstogether.org
SUMMARY:No Meat May
DESCRIPTION:No Meat May is a global campaign encouraging individuals to eliminate meat from their diets for 31 days in May. The initiative promotes health benefits\, environmental sustainability\, animal welfare\, and global food equity. Participants receive support through recipes\, meal plans\, and community engagement to facilitate the transition to a plant-based diet.
URL:https://jointhedotstogether.org/event/no-meat-may/
CATEGORIES:International Day
ATTACH;FMTTYPE=image/jpeg:https://jointhedotstogether.org/wp-content/uploads/2025/04/4z2171h4ct8gggo-scaled-e1745866819563.jpg
END:VEVENT
BEGIN:VEVENT
DTSTART;TZID=Europe/London:20250426T000000
DTEND;TZID=Europe/London:20250426T235959
DTSTAMP:20260420T222355
CREATED:20250401T094454Z
LAST-MODIFIED:20250401T094454Z
UID:2425-1745625600-1745711999@jointhedotstogether.org
SUMMARY:International Chernobyl Disaster Remembrance Day
DESCRIPTION:On 8 December 2016 the United Nations General Assembly adopted a resolution designating 26 April as International Chernobyl Disaster Remembrance Day. In its resolution\, the General Assembly recognized that three decades after the disaster there remains persistent serious long-term consequences and that the affected communities and territories are experiencing continuing related needs. The General Assembly invites all Member States\, relevant agencies of the United Nations system and other international organizations\, as well as civil society\, to observe the day.
URL:https://jointhedotstogether.org/event/international-chernobyl-disaster-remembrance-day/
ATTACH;FMTTYPE=image/jpeg:https://jointhedotstogether.org/wp-content/uploads/2025/04/202504-chernobyl-image-index-e1743500686524.jpg
END:VEVENT
BEGIN:VEVENT
DTSTART;TZID=Europe/London:20250425T103000
DTEND;TZID=Europe/London:20250425T120000
DTSTAMP:20260420T222355
CREATED:20250401T100913Z
LAST-MODIFIED:20250401T100913Z
UID:2447-1745577000-1745582400@jointhedotstogether.org
SUMMARY:People\, Planet\, Pastry
DESCRIPTION:If you’re interested or curious about sustainability\, come along to the People\, Planet\, Pastry event to meet like-minded business owners who are taking action on sustainability. Learn about what is going on locally\, share insights on how to overcome barriers and make new friends!
URL:https://jointhedotstogether.org/event/people-planet-pastry/
LOCATION:2 Royal Avenue\, Belfast City Council Community & Cultural Hub\, Belfast\, Select a State or Province:\, BT1 1DA\, United Kingdom
ATTACH;FMTTYPE=image/avif:https://jointhedotstogether.org/wp-content/uploads/2025/04/People-Planet-Pastry-e1743502132663.avif
END:VEVENT
BEGIN:VEVENT
DTSTART;TZID=Europe/London:20250422T000000
DTEND;TZID=Europe/London:20250422T235959
DTSTAMP:20260420T222355
CREATED:20250401T094152Z
LAST-MODIFIED:20250401T094152Z
UID:2421-1745280000-1745366399@jointhedotstogether.org
SUMMARY:International Mother Earth Day
DESCRIPTION:Mother Earth is clearly urging a call to action. Nature is suffering. Oceans filling with plastic and turning more acidic. Extreme heat\, wildfires and floods\, have affected millions of people. \nClimate change\, man-made changes to nature as well as crimes that disrupt biodiversity\, such as deforestation\, land-use change\, intensified agriculture and livestock production or the growing illegal wildlife trade\, can accelerate the speed of destruction of the planet. \nThis is the third Mother Earth Day celebrated within the UN Decade on Ecosystem Restoration. Ecosystems support all life on Earth. The healthier our ecosystems are\, the healthier the planet – and its people. Restoring our damaged ecosystems will help to end poverty\, combat climate change and prevent mass extinction. But we will only succeed if everyone plays a part.
URL:https://jointhedotstogether.org/event/international-mother-earth-day/
ATTACH;FMTTYPE=image/png:https://jointhedotstogether.org/wp-content/uploads/2025/04/202503-earth_3_option-e1743500492977.png
END:VEVENT
END:VCALENDAR