BEGIN:VCALENDAR
VERSION:2.0
PRODID:-//Join the Dots Together - ECPv6.15.20//NONSGML v1.0//EN
CALSCALE:GREGORIAN
METHOD:PUBLISH
X-WR-CALNAME:Join the Dots Together
X-ORIGINAL-URL:https://jointhedotstogether.org
X-WR-CALDESC:Events for Join the Dots Together
REFRESH-INTERVAL;VALUE=DURATION:PT1H
X-Robots-Tag:noindex
X-PUBLISHED-TTL:PT1H
BEGIN:VTIMEZONE
TZID:Europe/London
BEGIN:DAYLIGHT
TZOFFSETFROM:+0000
TZOFFSETTO:+0100
TZNAME:BST
DTSTART:20240331T010000
END:DAYLIGHT
BEGIN:STANDARD
TZOFFSETFROM:+0100
TZOFFSETTO:+0000
TZNAME:GMT
DTSTART:20241027T010000
END:STANDARD
BEGIN:DAYLIGHT
TZOFFSETFROM:+0000
TZOFFSETTO:+0100
TZNAME:BST
DTSTART:20250330T010000
END:DAYLIGHT
BEGIN:STANDARD
TZOFFSETFROM:+0100
TZOFFSETTO:+0000
TZNAME:GMT
DTSTART:20251026T010000
END:STANDARD
BEGIN:DAYLIGHT
TZOFFSETFROM:+0000
TZOFFSETTO:+0100
TZNAME:BST
DTSTART:20260329T010000
END:DAYLIGHT
BEGIN:STANDARD
TZOFFSETFROM:+0100
TZOFFSETTO:+0000
TZNAME:GMT
DTSTART:20261025T010000
END:STANDARD
END:VTIMEZONE
BEGIN:VEVENT
DTSTART;TZID=Europe/London:20250605T123000
DTEND;TZID=Europe/London:20250605T133000
DTSTAMP:20260420T144915
CREATED:20250526T083425Z
LAST-MODIFIED:20250601T112937Z
UID:2953-1749126600-1749130200@jointhedotstogether.org
SUMMARY:Spotting false climate solutions Online Webinar
DESCRIPTION:A Quakers and Faith for the Climate webinar (part 1)
URL:https://jointhedotstogether.org/event/spotting-false-climate-solutions-online-webinar/
LOCATION:Online
ATTACH;FMTTYPE=image/jpeg:https://jointhedotstogether.org/wp-content/uploads/2025/05/FFTC-Logo-and-title-scaled-1-e1748248350299.jpg
ORGANIZER;CN="Faith For the Climate":MAILTO:mobilise@faithfortheclimate.org.uk
END:VEVENT
BEGIN:VEVENT
DTSTART;TZID=Europe/London:20250605T110000
DTEND;TZID=Europe/London:20250605T120000
DTSTAMP:20260420T144915
CREATED:20250526T082036Z
LAST-MODIFIED:20250601T113055Z
UID:2949-1749121200-1749124800@jointhedotstogether.org
SUMMARY:Honour Pope Francis Online Event
DESCRIPTION:An opportunity to learn about the link between interfaith and ecology\, two of the great legacies of Pope Francis.  \nOrganized by the “United Religions Initiative” and “Religions for Peace Australia” \nZoom Meeting ID: 87993813629 Passcode: 195820
URL:https://jointhedotstogether.org/event/honour-pope-francis-online-event/
LOCATION:Online
ATTACH;FMTTYPE=image/jpeg:https://jointhedotstogether.org/wp-content/uploads/2025/05/20250605-Honour-Pope-Francis-e1748247565959.jpg
END:VEVENT
BEGIN:VEVENT
DTSTART;TZID=Europe/London:20250605T000000
DTEND;TZID=Europe/London:20250605T235959
DTSTAMP:20260420T144915
CREATED:20250529T133053Z
LAST-MODIFIED:20250605T130554Z
UID:3009-1749081600-1749167999@jointhedotstogether.org
SUMMARY:Day against Illegal\, unreported and unregulated (IUU) fishing
DESCRIPTION:IUU fishing is found in all types and dimensions of fisheries; it occurs both on the high seas and in areas within national jurisdiction.
URL:https://jointhedotstogether.org/event/day-against-illegal-unreported-and-unregulated-iuu-fishing/
CATEGORIES:International Day
ATTACH;FMTTYPE=image/jpeg:https://jointhedotstogether.org/wp-content/uploads/2025/05/artisanalfishery_0-e1748525406687.jpg
END:VEVENT
BEGIN:VEVENT
DTSTART;TZID=Europe/London:20250605T000000
DTEND;TZID=Europe/London:20250605T235959
DTSTAMP:20260420T144915
CREATED:20250529T132708Z
LAST-MODIFIED:20250605T130554Z
UID:3005-1749081600-1749167999@jointhedotstogether.org
SUMMARY:Environment Day
DESCRIPTION:World Environment Day joins the UNEP-led #BeatPlasticPollution this year to mobilize communities worldwide to implement and advocate for solutions.
URL:https://jointhedotstogether.org/event/world-environment-day/
CATEGORIES:International Day
ATTACH;FMTTYPE=image/png:https://jointhedotstogether.org/wp-content/uploads/2025/05/environment-e1748525210826.png
END:VEVENT
BEGIN:VEVENT
DTSTART;TZID=Europe/London:20250604T190000
DTEND;TZID=Europe/London:20250604T203000
DTSTAMP:20260420T144915
CREATED:20250528T203234Z
LAST-MODIFIED:20250601T113357Z
UID:2967-1749063600-1749069000@jointhedotstogether.org
SUMMARY:How Your Local River Impacts Lough Neagh
DESCRIPTION:The final of the Lough Neagh Partnership information evenings entitled ‘Connected Landscapes: How Your Local River Impacts Lough Neagh’ to help explain how what happens in the wider catchment can have an impact on the Lough.
URL:https://jointhedotstogether.org/event/connected-landscapes-how-your-local-river-impacts-lough-neagh/
LOCATION:Broughshane Community Centre
END:VEVENT
BEGIN:VEVENT
DTSTART;TZID=Europe/London:20250604T190000
DTEND;TZID=Europe/London:20250604T200000
DTSTAMP:20260420T144915
CREATED:20250601T103746Z
LAST-MODIFIED:20250601T113457Z
UID:3057-1749063600-1749067200@jointhedotstogether.org
SUMMARY:2025 Global Climate Summit Livestream begins
DESCRIPTION:The 2025 Right Here\, Right Now Global Climate Summit Livestream\, hosted by the University of Oxford and the United Nations Office of the High Commissioner for Human Rights. \nThe livestream will begin at 19:00 UTC on 4th June with a launch event live from Oxford\, and will continue to be streamed live from partner hubs across the world until 21:30 UTC on 5th June.
URL:https://jointhedotstogether.org/event/2025-right-here-right-now-global-climate-summit-livestream-begins/
LOCATION:Online
ATTACH;FMTTYPE=image/jpeg:https://jointhedotstogether.org/wp-content/uploads/2025/06/right-here-right-now-global-cl.jpeg
END:VEVENT
BEGIN:VEVENT
DTSTART;TZID=Europe/London:20250603T000000
DTEND;TZID=Europe/London:20250603T235959
DTSTAMP:20260420T144915
CREATED:20250601T105613Z
LAST-MODIFIED:20250601T113539Z
UID:3065-1748908800-1748995199@jointhedotstogether.org
SUMMARY:EU Green Week
DESCRIPTION:EU Green Week is the European Commission’s flagship annual conference on environmental policy. The 2025 edition\, themed “Circular solutions for a competitive EU” will focus on how circular economy principles can drive sustainable competitiveness\, reduce waste\, and promote innovation across Europe.
URL:https://jointhedotstogether.org/event/eu-green-week/
LOCATION:Brussels
ATTACH;FMTTYPE=image/jpeg:https://jointhedotstogether.org/wp-content/uploads/2025/06/European-Green-Week.jpg
END:VEVENT
BEGIN:VEVENT
DTSTART;TZID=Europe/London:20250603T000000
DTEND;TZID=Europe/London:20250603T235959
DTSTAMP:20260420T144915
CREATED:20250529T132327Z
LAST-MODIFIED:20250605T130554Z
UID:3001-1748908800-1748995199@jointhedotstogether.org
SUMMARY:Bicycle Day
DESCRIPTION:World Bicycle Day draws attention to the benefits of using the bicycle — a simple\, affordable\, clean and environmentally fit sustainable means of transportation.
URL:https://jointhedotstogether.org/event/bicycle-day/
CATEGORIES:International Day
ATTACH;FMTTYPE=image/jpeg:https://jointhedotstogether.org/wp-content/uploads/2025/05/bike-day-hero.jpg
END:VEVENT
BEGIN:VEVENT
DTSTART;TZID=Europe/London:20250531T000000
DTEND;TZID=Europe/London:20250531T235959
DTSTAMP:20260420T144915
CREATED:20250428T192255Z
LAST-MODIFIED:20250428T192255Z
UID:2632-1748649600-1748735999@jointhedotstogether.org
SUMMARY:Every Flower Counts
DESCRIPTION:Every Flower Counts is a Plantlife citizen science activity. It provides a snap-shot health check of our lawns\, that takes place at the end of No Mow May.
URL:https://jointhedotstogether.org/event/every-flower-counts/
ATTACH;FMTTYPE=image/jpeg:https://jointhedotstogether.org/wp-content/uploads/2025/04/Webpage-Thumbnails-400-x-300-3.jpg
END:VEVENT
BEGIN:VEVENT
DTSTART;TZID=Europe/London:20250530T103000
DTEND;TZID=Europe/London:20250530T120000
DTSTAMP:20260420T144915
CREATED:20250428T204041Z
LAST-MODIFIED:20250502T174425Z
UID:2638-1748601000-1748606400@jointhedotstogether.org
SUMMARY:People\, Planet\, Pastry
DESCRIPTION:An event that brings together individuals to discuss climate change and sustainability over coffee and pastries\, fostering community engagement and dialogue on environmental issues. \nMeet others interested in sustainability in your community\, share local stories and ideas\, and accelerate local climate action.
URL:https://jointhedotstogether.org/event/people-planet-pastry-2/
LOCATION:2 Royal Avenue\, Belfast City Council Community & Cultural Hub\, Belfast\, Select a State or Province:\, BT1 1DA\, United Kingdom
ATTACH;FMTTYPE=image/avif:https://jointhedotstogether.org/wp-content/uploads/2025/04/People-Planet-Pastry-e1743502132663.avif
END:VEVENT
BEGIN:VEVENT
DTSTART;TZID=Europe/London:20250530T000000
DTEND;TZID=Europe/London:20250530T235959
DTSTAMP:20260420T144915
CREATED:20250428T185441Z
LAST-MODIFIED:20250502T174352Z
UID:2606-1748563200-1748649599@jointhedotstogether.org
SUMMARY:International Day of Potato
DESCRIPTION:This day celebrates the importance of the potato as a staple food and its role in food security\, nutrition\, and poverty alleviation worldwide.
URL:https://jointhedotstogether.org/event/international-day-of-potato/
CATEGORIES:International Day
ATTACH;FMTTYPE=image/jpeg:https://jointhedotstogether.org/wp-content/uploads/2025/04/potato-index-fao-copy-e1745866440331.jpg
END:VEVENT
BEGIN:VEVENT
DTSTART;TZID=Europe/London:20250528T140000
DTEND;TZID=Europe/London:20250528T170000
DTSTAMP:20260420T144915
CREATED:20250429T212944Z
LAST-MODIFIED:20250429T212944Z
UID:2668-1748440800-1748451600@jointhedotstogether.org
SUMMARY:Laudato Sì Global Celebration
DESCRIPTION:Online event to celebrate 10 years of prayer and action and look ahead to the next 10 years.
URL:https://jointhedotstogether.org/event/laudato-si-global-celebration/
ATTACH;FMTTYPE=image/png:https://jointhedotstogether.org/wp-content/uploads/2025/04/LS-Global-Event-e1745962118402.png
END:VEVENT
BEGIN:VEVENT
DTSTART;TZID=Europe/London:20250528T080000
DTEND;TZID=Europe/London:20250528T170000
DTSTAMP:20260420T144915
CREATED:20250528T202808Z
LAST-MODIFIED:20250528T202808Z
UID:2963-1748419200-1748451600@jointhedotstogether.org
SUMMARY:Butterfly Walk
DESCRIPTION:A butterfly walk in partnership with the National Trust at their iconic site Divis and Black Mountain
URL:https://jointhedotstogether.org/event/butterfly-walk/
LOCATION:Divis Mountain
ATTACH;FMTTYPE=image/png:https://jointhedotstogether.org/wp-content/uploads/2025/05/Butterfly.png
END:VEVENT
BEGIN:VEVENT
DTSTART;TZID=Europe/London:20250525T143000
DTEND;TZID=Europe/London:20250525T163000
DTSTAMP:20260420T144915
CREATED:20250514T093701Z
LAST-MODIFIED:20250514T093701Z
UID:2857-1748183400-1748190600@jointhedotstogether.org
SUMMARY:“Raising Hope – Living Laudato Sì”
DESCRIPTION:Down and Connor Laudato Si’ Group warmly invite you to a conference to celebrate the 10th anniversary of Laudato Sì
URL:https://jointhedotstogether.org/event/raising-hope-living-laudato-si/
LOCATION:Clonard Monastery\, Clonard Gardens\, Belfast\, BT13 2RL
ATTACH;FMTTYPE=image/png:https://jointhedotstogether.org/wp-content/uploads/2025/04/ls-week-2025.png
END:VEVENT
BEGIN:VEVENT
DTSTART;TZID=Europe/London:20250524T000000
DTEND;TZID=Europe/London:20250524T235959
DTSTAMP:20260420T144915
CREATED:20250429T142911Z
LAST-MODIFIED:20250502T174329Z
UID:2665-1748044800-1748131199@jointhedotstogether.org
SUMMARY:Laudato Sì Week
DESCRIPTION:From May 24 to 31\, Laudato Si’ Week commemorates the anniversary of Pope Francis’s encyclical on the environment. It calls for global action to care for our common home and address climate change.
URL:https://jointhedotstogether.org/event/laudato-si-week-24th-31st-may/
ATTACH;FMTTYPE=image/png:https://jointhedotstogether.org/wp-content/uploads/2025/04/ls-week-2025.png
END:VEVENT
BEGIN:VEVENT
DTSTART;TZID=Europe/London:20250524T000000
DTEND;TZID=Europe/London:20250524T235959
DTSTAMP:20260420T144915
CREATED:20250428T191833Z
LAST-MODIFIED:20250502T174210Z
UID:2629-1748044800-1748131199@jointhedotstogether.org
SUMMARY:National Children’s Gardening Week
DESCRIPTION:Running from May 24 to June 1\, this week encourages children to engage in gardening activities\, fostering a connection with nature and promoting environmental stewardship from a young age.
URL:https://jointhedotstogether.org/event/national-childrens-gardening-week-24th-may-1st-june/
ATTACH;FMTTYPE=image/png:https://jointhedotstogether.org/wp-content/uploads/2025/04/gardening.png
END:VEVENT
BEGIN:VEVENT
DTSTART;TZID=Europe/London:20250524T000000
DTEND;TZID=Europe/London:20250524T235959
DTSTAMP:20260420T144915
CREATED:20250428T185250Z
LAST-MODIFIED:20250502T073443Z
UID:2603-1748044800-1748131199@jointhedotstogether.org
SUMMARY:Markhor Day
DESCRIPTION:Celebrated on May 24\, this day raises awareness about the conservation of the Markhor\, a wild goat species native to South and Central Asia\, and highlights the importance of protecting endangered species.
URL:https://jointhedotstogether.org/event/international-day-of-the-markhor/
CATEGORIES:International Day
ATTACH;FMTTYPE=image/png:https://jointhedotstogether.org/wp-content/uploads/2025/04/markhor_hero-e1745866315535.png
END:VEVENT
BEGIN:VEVENT
DTSTART;TZID=Europe/London:20250523T181500
DTEND;TZID=Europe/London:20250523T210000
DTSTAMP:20260420T144915
CREATED:20250514T095107Z
LAST-MODIFIED:20250514T095107Z
UID:2860-1748024100-1748034000@jointhedotstogether.org
SUMMARY:Mass for LS Week in Clonard followed by The Letter
DESCRIPTION:To open Laudato Sì Week\, a Mass will take place at 18.15 in Clonard Monastery\, followed by a screening of the film\, “The Letter”
URL:https://jointhedotstogether.org/event/mass-for-ls-week-in-clonard-followed-by-the-letter/
LOCATION:Clonard Monastery\, Clonard Gardens\, Belfast\, BT13 2RL
ATTACH;FMTTYPE=image/png:https://jointhedotstogether.org/wp-content/uploads/2025/05/202505-LS-Clonard-e1747216185607.png
END:VEVENT
BEGIN:VEVENT
DTSTART;TZID=Europe/London:20250522T093000
DTEND;TZID=Europe/London:20250522T120000
DTSTAMP:20260420T144915
CREATED:20250428T204645Z
LAST-MODIFIED:20250502T174118Z
UID:2640-1747906200-1747915200@jointhedotstogether.org
SUMMARY:Exploring the Future of Our Planet
DESCRIPTION:This event invites participants to engage in discussions about climate change\, sustainability\, and global citizenship. It aims to inspire action towards a more sustainable and equitable future. \nEvent is open to anyone with an interest in climate change\, international development\, global citizenship\, climate justice & sustainability.
URL:https://jointhedotstogether.org/event/exploring-the-future-of-our-planet/
LOCATION:Biological Sciences Building\, 19 Chlorine Gardens\, Belfast\, BT9 5DL
ATTACH;FMTTYPE=image/avif:https://jointhedotstogether.org/wp-content/uploads/2025/04/https___cdn.evbuc_.com_images_1002761993_200330177298_1_original-e1745873155422.avif
END:VEVENT
BEGIN:VEVENT
DTSTART;TZID=Europe/London:20250522T000000
DTEND;TZID=Europe/London:20250522T235959
DTSTAMP:20260420T144915
CREATED:20250428T174718Z
LAST-MODIFIED:20250502T073344Z
UID:2580-1747872000-1747958399@jointhedotstogether.org
SUMMARY:Biological Diversity Day
DESCRIPTION:On May 22\, this UN-designated day promotes understanding and awareness of biodiversity issues. The 2025 theme focuses on “Harmony with nature and sustainable development.”
URL:https://jointhedotstogether.org/event/international-day-for-biological-diversity/
CATEGORIES:International Day
ATTACH;FMTTYPE=image/jpeg:https://jointhedotstogether.org/wp-content/uploads/2025/04/idb-2025-logo-rgb-en-scaled-e1745862405614.jpg
END:VEVENT
BEGIN:VEVENT
DTSTART;TZID=Europe/London:20250521T133000
DTEND;TZID=Europe/London:20250521T143000
DTSTAMP:20260420T144915
CREATED:20250520T170111Z
LAST-MODIFIED:20250520T170111Z
UID:2888-1747834200-1747837800@jointhedotstogether.org
SUMMARY:Healthy Oceans\, Healty Planet Webinar
DESCRIPTION:Conversation to explore opportunities\, challenes and efforts being made by States and Faith-based groups to save the oceans.
URL:https://jointhedotstogether.org/event/healthy-oceans-healty-planet-webinar/
LOCATION:Online
ATTACH;FMTTYPE=image/jpeg:https://jointhedotstogether.org/wp-content/uploads/2025/05/ERI-Enrichment-Zoom.jpg
END:VEVENT
BEGIN:VEVENT
DTSTART;TZID=Europe/London:20250521T000000
DTEND;TZID=Europe/London:20250521T235959
DTSTAMP:20260420T144915
CREATED:20250428T185041Z
LAST-MODIFIED:20250502T073633Z
UID:2600-1747785600-1747871999@jointhedotstogether.org
SUMMARY:World Day for Cultural Diversity for Dialogue and Development
DESCRIPTION:Observed on May 21\, this day celebrates the richness of the world’s cultures and the essential role of intercultural dialogue in achieving peace and sustainable development.
URL:https://jointhedotstogether.org/event/world-day-for-cultural-diversity-for-dialogue-and-development/
CATEGORIES:International Day
ATTACH;FMTTYPE=image/jpeg:https://jointhedotstogether.org/wp-content/uploads/2025/04/mondiacult_conference_mexico_performers-e1745866215413.jpg
END:VEVENT
BEGIN:VEVENT
DTSTART;TZID=Europe/London:20250520T090000
DTEND;TZID=Europe/London:20250520T160000
DTSTAMP:20260420T144915
CREATED:20250501T144411Z
LAST-MODIFIED:20250502T173829Z
UID:2674-1747731600-1747756800@jointhedotstogether.org
SUMMARY:Preparing Northern Ireland for a Changing Climate
DESCRIPTION:Fully booked by 1st May but you can join a waiting list \nThis event focuses on strategies and actions to address the impacts of climate change in Northern Ireland. It brings together stakeholders to discuss adaptation and mitigation efforts for a sustainable future.
URL:https://jointhedotstogether.org/event/preparing-northern-ireland-for-a-changing-climate/
LOCATION:The MAC\, 10 Exchange St. West\,\, Belfast\, BT1 2NJ
END:VEVENT
BEGIN:VEVENT
DTSTART;TZID=Europe/London:20250520T000000
DTEND;TZID=Europe/London:20250520T235959
DTSTAMP:20260420T144915
CREATED:20250428T184833Z
LAST-MODIFIED:20250502T073742Z
UID:2597-1747699200-1747785599@jointhedotstogether.org
SUMMARY:World Bee Day
DESCRIPTION:Celebrated on May 20\, World Bee Day raises awareness of the essential role bees and other pollinators play in keeping people and the planet healthy. It emphasises the need to protect pollinators and their habitats.
URL:https://jointhedotstogether.org/event/world-bee-day/
CATEGORIES:International Day
ATTACH;FMTTYPE=image/jpeg:https://jointhedotstogether.org/wp-content/uploads/2025/04/hero-bees-e1745866068207.jpg
END:VEVENT
BEGIN:VEVENT
DTSTART;TZID=Europe/London:20250519T000000
DTEND;TZID=Europe/London:20250519T235959
DTSTAMP:20260420T144915
CREATED:20250428T191259Z
LAST-MODIFIED:20250502T173647Z
UID:2626-1747612800-1747699199@jointhedotstogether.org
SUMMARY:Walk to School Week
DESCRIPTION:From May 19 to 23\, this initiative encourages children and parents to walk to school\, promoting physical activity\, reducing traffic congestion\, and improving air quality. The 2025 theme\, “The Great Space Walk\,” adds an intergalactic twist to the challenge.
URL:https://jointhedotstogether.org/event/walk-to-school-week-19th-23rd-may/
ATTACH;FMTTYPE=image/png:https://jointhedotstogether.org/wp-content/uploads/2025/04/wtsw-email_banner-2x-scaled-e1745867553775.png
END:VEVENT
BEGIN:VEVENT
DTSTART;TZID=Europe/London:20250516T000000
DTEND;TZID=Europe/London:20250516T235959
DTSTAMP:20260420T144915
CREATED:20250428T210200Z
LAST-MODIFIED:20250502T173619Z
UID:2656-1747353600-1747439999@jointhedotstogether.org
SUMMARY:Volunteer Friday: Himalayan balsam bashing
DESCRIPTION:Friday 16 May to Friday 27 June 2025\, 10am to 1.30pm \nJoin efforts to remove the invasive Himalayan balsam plant from local green spaces. This volunteer activity helps protect native biodiversity by preventing the spread of this non-native species.
URL:https://jointhedotstogether.org/event/volunteer-friday-himalayan-balsam-bashing/
LOCATION:Mary Peters Track
ATTACH;FMTTYPE=image/jpeg:https://jointhedotstogether.org/wp-content/uploads/2025/04/himalayan-balsam_1.jpg
END:VEVENT
BEGIN:VEVENT
DTSTART;TZID=Europe/London:20250516T000000
DTEND;TZID=Europe/London:20250516T235959
DTSTAMP:20260420T144915
CREATED:20250428T191035Z
LAST-MODIFIED:20250502T173549Z
UID:2623-1747353600-1747439999@jointhedotstogether.org
SUMMARY:Endangered Species Day
DESCRIPTION:Observed on the third Friday of May\, this day highlights the importance of protecting endangered species and their habitats. It aims to raise awareness about the threats facing wildlife and the actions needed to conserve biodiversity.
URL:https://jointhedotstogether.org/event/endangered-species-day/
ATTACH;FMTTYPE=image/png:https://jointhedotstogether.org/wp-content/uploads/2025/04/ESDayhowlingwolf-e1745867381407.png
END:VEVENT
BEGIN:VEVENT
DTSTART;TZID=Europe/London:20250516T000000
DTEND;TZID=Europe/London:20250516T235959
DTSTAMP:20260420T144915
CREATED:20250428T184639Z
LAST-MODIFIED:20250428T184639Z
UID:2594-1747353600-1747439999@jointhedotstogether.org
SUMMARY:International Day of Living Together in Peace
DESCRIPTION:The UN General-Assembly\, in its resolution 72/130\, declared 16 May the International Day of Living Together in Peace\, as a means of regularly mobilizing the efforts of the international community to promote peace\, tolerance\, inclusion\, understanding and solidarity. The Day aims to uphold the desire to live and act together\, united in differences and diversity\, in order to build a sustainable world of peace\, solidarity and harmony.
URL:https://jointhedotstogether.org/event/international-day-of-living-together-in-peace/
ATTACH;FMTTYPE=image/jpeg:https://jointhedotstogether.org/wp-content/uploads/2025/04/living-in-peace-day-banner-e1745865958335.jpg
END:VEVENT
BEGIN:VEVENT
DTSTART;TZID=Europe/London:20250512T000000
DTEND;TZID=Europe/London:20250512T235959
DTSTAMP:20260420T144915
CREATED:20250428T190753Z
LAST-MODIFIED:20250502T173456Z
UID:2620-1747008000-1747094399@jointhedotstogether.org
SUMMARY:Water Saving Week
DESCRIPTION:Water Saving Week\, running from May 12 to 16\, encourages individuals and organizations to adopt water-efficient habits. The campaign promotes awareness of water-related concerns and the importance of reducing water waste to manage climate change and support communities.
URL:https://jointhedotstogether.org/event/water-saving-week-12th-16th-may/
ATTACH;FMTTYPE=image/jpeg:https://jointhedotstogether.org/wp-content/uploads/2025/04/th.jpeg
END:VEVENT
BEGIN:VEVENT
DTSTART;TZID=Europe/London:20250512T000000
DTEND;TZID=Europe/London:20250512T235959
DTSTAMP:20260420T144915
CREATED:20250428T175747Z
LAST-MODIFIED:20250502T173428Z
UID:2591-1747008000-1747094399@jointhedotstogether.org
SUMMARY:Vesak Day
DESCRIPTION:Vesak Day\, observed on May 12\, commemorates the birth\, enlightenment\, and passing of the Buddha. It is a significant day for Buddhists worldwide\, reflecting on the teachings of compassion\, tolerance\, and selfless service.
URL:https://jointhedotstogether.org/event/vesak-day/
CATEGORIES:International Day
ATTACH;FMTTYPE=image/jpeg:https://jointhedotstogether.org/wp-content/uploads/2025/04/lumbini-e1745863004861.jpg
END:VEVENT
END:VCALENDAR