BEGIN:VCALENDAR
VERSION:2.0
PRODID:-//Join the Dots Together - ECPv6.15.20//NONSGML v1.0//EN
CALSCALE:GREGORIAN
METHOD:PUBLISH
X-WR-CALNAME:Join the Dots Together
X-ORIGINAL-URL:https://jointhedotstogether.org
X-WR-CALDESC:Events for Join the Dots Together
REFRESH-INTERVAL;VALUE=DURATION:PT1H
X-Robots-Tag:noindex
X-PUBLISHED-TTL:PT1H
BEGIN:VTIMEZONE
TZID:Europe/London
BEGIN:DAYLIGHT
TZOFFSETFROM:+0000
TZOFFSETTO:+0100
TZNAME:BST
DTSTART:20240331T010000
END:DAYLIGHT
BEGIN:STANDARD
TZOFFSETFROM:+0100
TZOFFSETTO:+0000
TZNAME:GMT
DTSTART:20241027T010000
END:STANDARD
BEGIN:DAYLIGHT
TZOFFSETFROM:+0000
TZOFFSETTO:+0100
TZNAME:BST
DTSTART:20250330T010000
END:DAYLIGHT
BEGIN:STANDARD
TZOFFSETFROM:+0100
TZOFFSETTO:+0000
TZNAME:GMT
DTSTART:20251026T010000
END:STANDARD
BEGIN:DAYLIGHT
TZOFFSETFROM:+0000
TZOFFSETTO:+0100
TZNAME:BST
DTSTART:20260329T010000
END:DAYLIGHT
BEGIN:STANDARD
TZOFFSETFROM:+0100
TZOFFSETTO:+0000
TZNAME:GMT
DTSTART:20261025T010000
END:STANDARD
END:VTIMEZONE
BEGIN:VEVENT
DTSTART;TZID=Europe/London:20250719T140000
DTEND;TZID=Europe/London:20250719T150000
DTSTAMP:20260420T222532
CREATED:20250708T191516Z
LAST-MODIFIED:20250708T191658Z
UID:3211-1752933600-1752937200@jointhedotstogether.org
SUMMARY:Global Encounter
DESCRIPTION:Since 2024\, the Laudato Si’ Movement has been driving a worldwide listening process. People from different countries and communities have gathered in local and national spaces to share their journey within the movement and express their dreams for the future. This gathering will be the final step in analyzing these results.
URL:https://jointhedotstogether.org/event/global-encounter/
LOCATION:Online
ATTACH;FMTTYPE=image/png:https://jointhedotstogether.org/wp-content/uploads/2025/01/Laudato-Si-Movement-logo-EN-2048x752-1-e1738093702376.png
END:VEVENT
BEGIN:VEVENT
DTSTART;TZID=Europe/London:20250712T000000
DTEND;TZID=Europe/London:20250712T235959
DTSTAMP:20260420T222532
CREATED:20250701T201912Z
LAST-MODIFIED:20250701T201912Z
UID:3153-1752278400-1752364799@jointhedotstogether.org
SUMMARY:International Day of Hope
DESCRIPTION:In a world facing growing unrest\, widening social divisions\, and persistent economic and environmental challenges\, the global community continues to seek values that unite rather than divide. Among these\, hope stands out as a deeply powerful and universally resonant force. Recognizing this\, the United Nations General Assembly has designated 12 July as the International Day of Hope—a day to celebrate and promote hope as a guiding principle for individuals\, communities\, and nations alike.
URL:https://jointhedotstogether.org/event/international-day-of-hope/
ATTACH;FMTTYPE=image/png:https://jointhedotstogether.org/wp-content/uploads/2025/07/hope-day-banner-e1751401106934.png
END:VEVENT
BEGIN:VEVENT
DTSTART;TZID=Europe/London:20250712T000000
DTEND;TZID=Europe/London:20250712T235959
DTSTAMP:20260420T222532
CREATED:20250701T201456Z
LAST-MODIFIED:20250701T201456Z
UID:3149-1752278400-1752364799@jointhedotstogether.org
SUMMARY:International Day of Combating Sand and Dust Storms
DESCRIPTION:Sand and dust storms (SDS) present a formidable and wide-spread challenge to achieving sustainable development in its economic\, social and environmental dimensions. They have become a serious global concern in recent decades due to their significant impacts on the environment\, health\, agriculture\, livelihoods\, and socio-economic well-being. Sand and dust storms are an essential element of the Earth’s natural bio-chemical cycles\, but are also caused in part by human-induced drivers\, including climate change\, and unsustainable land management and water use.
URL:https://jointhedotstogether.org/event/international-day-of-combating-sand-and-dust-storms/
ATTACH;FMTTYPE=image/jpeg:https://jointhedotstogether.org/wp-content/uploads/2025/07/sanddust-storm-day-banner-e1751400883466.jpg
END:VEVENT
BEGIN:VEVENT
DTSTART;TZID=Europe/London:20250704T000000
DTEND;TZID=Europe/London:20250704T235959
DTSTAMP:20260420T222532
CREATED:20250630T110013Z
LAST-MODIFIED:20250630T110013Z
UID:3137-1751587200-1751673599@jointhedotstogether.org
SUMMARY:Rose Fair 2025
DESCRIPTION:Friday 4\, Saturday 5 and Sunday 6 July\, 12 noon to 5pm \nRose Fair returns to Sir Thomas and Lady Dixon Park with a packed programme of country and western-themed fun for all the family\, along with thousands of award-winning blooms on display daily in the stunning City of Belfast International Rose Garden.
URL:https://jointhedotstogether.org/event/rose-fair-2025/
LOCATION:Sir Thomas and Lady Dixon Park
ATTACH;FMTTYPE=image/jpeg:https://jointhedotstogether.org/wp-content/uploads/2025/06/Rose-fair-event-image.jpg
END:VEVENT
BEGIN:VEVENT
DTSTART;TZID=Europe/London:20250702T190000
DTEND;TZID=Europe/London:20250702T200000
DTSTAMP:20260420T222532
CREATED:20250630T104814Z
LAST-MODIFIED:20250630T104814Z
UID:3129-1751482800-1751486400@jointhedotstogether.org
SUMMARY:Public Consultation Session on draft Climate Action Plan 2023-2027
DESCRIPTION:The Department of Agriculture\, Environment and Rural Affairs (DAERA) has been leading the development of the draft Climate Action Plan on behalf of the Northern Ireland Executive. The draft Climate Action Plan 2023-2027 has been published for a 16-week consultation and everyone is encouraged to respond.
URL:https://jointhedotstogether.org/event/public-consultation-session-on-draft-climate-action-plan-2023-2027/
LOCATION:Online
ATTACH;FMTTYPE=image/jpeg:https://jointhedotstogether.org/wp-content/uploads/2025/06/DAERA-logo.jpg
END:VEVENT
BEGIN:VEVENT
DTSTART;TZID=Europe/London:20250701T000000
DTEND;TZID=Europe/London:20250701T235959
DTSTAMP:20260420T222532
CREATED:20250630T094341Z
LAST-MODIFIED:20250630T094341Z
UID:3125-1751328000-1751414399@jointhedotstogether.org
SUMMARY:Plastic Free July begins
DESCRIPTION:Plastic Free July is a global movement that helps millions of people be part of the solution to plastic pollution – so we can have cleaner streets\, oceans\, and beautiful communities.
URL:https://jointhedotstogether.org/event/plastic-free-july-begins/
ATTACH;FMTTYPE=image/png:https://jointhedotstogether.org/wp-content/uploads/2025/06/Plastic-Free-July.png
END:VEVENT
BEGIN:VEVENT
DTSTART;TZID=Europe/London:20250630T000000
DTEND;TZID=Europe/London:20250630T235959
DTSTAMP:20260420T222532
CREATED:20250529T155223Z
LAST-MODIFIED:20250605T130657Z
UID:3041-1751241600-1751327999@jointhedotstogether.org
SUMMARY:Asteroid Day
DESCRIPTION:International Asteroid Day aims to raise public awareness about the asteroid impact hazard and to inform the public about the crisis communication actions to be taken at the global level in case of a credible near-Earth object threat.
URL:https://jointhedotstogether.org/event/international-asteroid-day/
LOCATION:UN
CATEGORIES:International Day
ATTACH;FMTTYPE=image/jpeg:https://jointhedotstogether.org/wp-content/uploads/2025/05/asteroid-day-index-e1748533911668.jpg
END:VEVENT
BEGIN:VEVENT
DTSTART;TZID=Europe/London:20250629T000000
DTEND;TZID=Europe/London:20250629T235959
DTSTAMP:20260420T222532
CREATED:20250529T154924Z
LAST-MODIFIED:20250605T130657Z
UID:3037-1751155200-1751241599@jointhedotstogether.org
SUMMARY:Tropics' Day
DESCRIPTION:The International Day of the Tropics celebrates the extraordinary diversity of the tropics while highlighting unique challenges and opportunities nations of the Tropics face.
URL:https://jointhedotstogether.org/event/international-day-of-the-tropics-2/
CATEGORIES:International Day
ATTACH;FMTTYPE=image/jpeg:https://jointhedotstogether.org/wp-content/uploads/2025/05/fao-tropics-1-e1748533758596.jpg
END:VEVENT
BEGIN:VEVENT
DTSTART;TZID=Europe/London:20250627T100000
DTEND;TZID=Europe/London:20250627T160000
DTSTAMP:20260420T222532
CREATED:20250623T154200Z
LAST-MODIFIED:20250623T154200Z
UID:3120-1751018400-1751040000@jointhedotstogether.org
SUMMARY:Concern Campaigns Day
DESCRIPTION:This is an all-day event run between the UK and Ireland campaigns teams. There will be workshops throughout the day and speakers\, including a climate café as part of a campaign to create an Intergenerational Climate Declaration with 5 asks of World Leaders attending COP which will be delivered to the Irish Government ahead of COP.
URL:https://jointhedotstogether.org/event/concern-campaigns-day/
LOCATION:NICVA\, 61 Duncairn Gardens\, Belfast\, BT15 2GB
ATTACH;FMTTYPE=image/avif:https://jointhedotstogether.org/wp-content/uploads/2025/06/20250627-concern-campaign-day-e1750693263428.avif
END:VEVENT
BEGIN:VEVENT
DTSTART;TZID=Europe/London:20250625T000000
DTEND;TZID=Europe/London:20250625T235959
DTSTAMP:20260420T222532
CREATED:20250529T154722Z
LAST-MODIFIED:20250605T130657Z
UID:3033-1750809600-1750895999@jointhedotstogether.org
SUMMARY:Day of the Seafarer
DESCRIPTION:The annual Day of the Seafarer (DotS) is celebrated on 25th June.
URL:https://jointhedotstogether.org/event/day-of-the-seafarer-2/
CATEGORIES:International Day
ATTACH;FMTTYPE=image/png:https://jointhedotstogether.org/wp-content/uploads/2025/05/DOTS-Logo-ENG-HOR_UN-Blue-inverted-scaled-e1748533559607.png
END:VEVENT
BEGIN:VEVENT
DTSTART;TZID=Europe/London:20250624T000000
DTEND;TZID=Europe/London:20250624T235959
DTSTAMP:20260420T222532
CREATED:20250601T110337Z
LAST-MODIFIED:20250601T110337Z
UID:3070-1750723200-1750809599@jointhedotstogether.org
SUMMARY:Cities Climate Action Summit 2025
DESCRIPTION:Cities Climate Action Summit is the must-attend city\, local-government and sub-national event dedicated to discuss how cities around the globe can drive change.
URL:https://jointhedotstogether.org/event/cities-climate-action-summit-2025/
LOCATION:London
ATTACH;FMTTYPE=image/jpeg:https://jointhedotstogether.org/wp-content/uploads/2025/06/Cities.jpg
END:VEVENT
BEGIN:VEVENT
DTSTART;TZID=Europe/London:20250621T113000
DTEND;TZID=Europe/London:20250621T123000
DTSTAMP:20260420T222532
CREATED:20250529T073534Z
LAST-MODIFIED:20250601T111430Z
UID:2984-1750505400-1750509000@jointhedotstogether.org
SUMMARY:Day of Reflection
DESCRIPTION:The service is part of the Day of Reflection held on the 21st of June each year\, across many communities\, as an opportunity to acknowledge the deep hurt and pain caused by the conflict in and about Northern Ireland.
URL:https://jointhedotstogether.org/event/day-of-reflection/
LOCATION:St Anne’s Cathedral\, Donegall Street\, Belfast
ATTACH;FMTTYPE=image/jpeg:https://jointhedotstogether.org/wp-content/uploads/2025/05/20250621-Reflection-e1748503960630.jpg
ORGANIZER;CN="Corrymeela":MAILTO:welcome@corrymeela.org
END:VEVENT
BEGIN:VEVENT
DTSTART;TZID=Europe/London:20250621T100000
DTEND;TZID=Europe/London:20250621T120000
DTSTAMP:20260420T222532
CREATED:20250528T203523Z
LAST-MODIFIED:20250601T111524Z
UID:2971-1750500000-1750507200@jointhedotstogether.org
SUMMARY:Buzz and flutter at Balloo Wetland
DESCRIPTION:Discover a diverse range of butterfly\, bumblebee\, and solitary bee species thriving in the reserve’s wildflower meadow\, while learning expert identification tips. \nBooking essential.
URL:https://jointhedotstogether.org/event/buzz-and-flutter-at-balloo-wetland/
LOCATION:Balloo Wetland
END:VEVENT
BEGIN:VEVENT
DTSTART;TZID=Europe/London:20250620T000000
DTEND;TZID=Europe/London:20250620T235959
DTSTAMP:20260420T222532
CREATED:20250529T154421Z
LAST-MODIFIED:20250605T130657Z
UID:3029-1750377600-1750463999@jointhedotstogether.org
SUMMARY:World Refugee Day
DESCRIPTION:World Refugee Day is an international day designated by the United Nations to honour refugees around the globe. It falls each year on June 20 and celebrates the strength and courage of people who have been forced to flee their home country to escape conflict or persecution.
URL:https://jointhedotstogether.org/event/world-refugee-day-2/
CATEGORIES:International Day
ATTACH;FMTTYPE=image/png:https://jointhedotstogether.org/wp-content/uploads/2025/05/wrd_web_banner_2022_0-e1748533452759.png
END:VEVENT
BEGIN:VEVENT
DTSTART;TZID=Europe/London:20250617T183000
DTEND;TZID=Europe/London:20250617T210000
DTSTAMP:20260420T222532
CREATED:20250529T072422Z
LAST-MODIFIED:20250601T111808Z
UID:2978-1750185000-1750194000@jointhedotstogether.org
SUMMARY:Faith communities and refugees
DESCRIPTION:Faith communities and refugees coming together to create connections\, provide support\, and foster a sense of belonging
URL:https://jointhedotstogether.org/event/faith-communities-and-refugees/
LOCATION:WIndsor Hub
ATTACH;FMTTYPE=image/jpeg:https://jointhedotstogether.org/wp-content/uploads/2025/05/20250617-Refugees.jpg
END:VEVENT
BEGIN:VEVENT
DTSTART;TZID=Europe/London:20250617T143000
DTEND;TZID=Europe/London:20250617T170000
DTSTAMP:20260420T222532
CREATED:20250608T162808Z
LAST-MODIFIED:20250608T162808Z
UID:3104-1750170600-1750179600@jointhedotstogether.org
SUMMARY:Responding to Climate Breakdown - People's Assembly with Assemble
DESCRIPTION:Assembly & meal. Your insights will shape a report feeding into a radical alternative to the House of Lords: The House of the People.
URL:https://jointhedotstogether.org/event/responding-to-climate-breakdown-peoples-assembly-with-assemble/
LOCATION:22 University Square\, Room 01/005
ATTACH;FMTTYPE=image/avif:https://jointhedotstogether.org/wp-content/uploads/2025/06/People-Assembly-e1749399978879.avif
END:VEVENT
BEGIN:VEVENT
DTSTART;TZID=Europe/London:20250617T000000
DTEND;TZID=Europe/London:20250617T235959
DTSTAMP:20260420T222532
CREATED:20250529T134143Z
LAST-MODIFIED:20250605T130657Z
UID:3025-1750118400-1750204799@jointhedotstogether.org
SUMMARY:Desertification & Drought
DESCRIPTION:Under the theme “Restore the land. Unlock the оpportunities”\, the 2025 observance shines a light on how restoring nature’s foundation—land—can create jobs\, boost food and water security\, support climate action and build economic resilience.
URL:https://jointhedotstogether.org/event/desertification-drought/
CATEGORIES:International Day
ATTACH;FMTTYPE=image/jpeg:https://jointhedotstogether.org/wp-content/uploads/2025/05/wolfgang-hasselmann-pVr6wvUneMk-unsplash-scaled-e1748526086313.jpg
END:VEVENT
BEGIN:VEVENT
DTSTART;TZID=Europe/London:20250616T093000
DTEND;TZID=Europe/London:20250616T123000
DTSTAMP:20260420T222532
CREATED:20250529T132122Z
LAST-MODIFIED:20250601T111952Z
UID:2998-1750066200-1750077000@jointhedotstogether.org
SUMMARY:Launch of Interfaith and Belief Project
DESCRIPTION:Invitation to the launch of the Interfaith and Belief Project. Booking essential
URL:https://jointhedotstogether.org/event/launch-of-interfaith-and-belief-project/
LOCATION:Belfast City Hall\, Donegall Sq West\, Belfast\, BT1 5GS
ATTACH;FMTTYPE=image/jpeg:https://jointhedotstogether.org/wp-content/uploads/2025/05/Interfaith-Belief-Event-LO-landscape.pdf-190525-Approved-scaled-e1748524841148.jpg
ORGANIZER;CN="Corrymeela":MAILTO:welcome@corrymeela.org
END:VEVENT
BEGIN:VEVENT
DTSTART;TZID=Europe/London:20250616T000000
DTEND;TZID=Europe/London:20250616T235959
DTSTAMP:20260420T222532
CREATED:20250608T162040Z
LAST-MODIFIED:20250608T162040Z
UID:3098-1750032000-1750118399@jointhedotstogether.org
SUMMARY:Climate\, Corruption\, and the Cracks Where the Light Gets In
DESCRIPTION:Join Queen’s researchers from the Climate+ Co-Centre\, the Centre for Sustainability Equality and Climate Action (SECA) and the Seamus Heaney Centre for a day of conversations\, discussion and poetry.
URL:https://jointhedotstogether.org/event/climate-corruption-and-the-cracks-where-the-light-gets-in/
LOCATION:Brink\, Union St\, Belfast\, BT1 2JG
ATTACH;FMTTYPE=image/jpeg:https://jointhedotstogether.org/wp-content/uploads/2025/06/markjohn1-e1749399630410.jpeg
END:VEVENT
BEGIN:VEVENT
DTSTART;TZID=Europe/London:20250616T000000
DTEND;TZID=Europe/London:20250616T235959
DTSTAMP:20260420T222532
CREATED:20250524T153139Z
LAST-MODIFIED:20250601T112050Z
UID:2941-1750032000-1750118399@jointhedotstogether.org
SUMMARY:Refugee Week begins
DESCRIPTION:Refugee Week is the world’s largest arts & culture festival celebrating the contributions\, creativity and resilience of refugees and people seeking sanctuary. \nThe festival is a partnership project coordinated by Counterpoints Arts.
URL:https://jointhedotstogether.org/event/refugee-week-begins/
ATTACH;FMTTYPE=image/jpeg:https://jointhedotstogether.org/wp-content/uploads/2025/05/refugee-week.jpg
END:VEVENT
BEGIN:VEVENT
DTSTART;TZID=Europe/London:20250613T000000
DTEND;TZID=Europe/London:20250613T235959
DTSTAMP:20260420T222532
CREATED:20250528T210045Z
LAST-MODIFIED:20250601T112152Z
UID:2974-1749772800-1749859199@jointhedotstogether.org
SUMMARY:Summer Solstice from the Brink!
DESCRIPTION:A festival of culture\, conversation and workshops centred on the climate crisis from 13th-22nd June
URL:https://jointhedotstogether.org/event/summer-solstice-from-the-brink/
LOCATION:Belfast
END:VEVENT
BEGIN:VEVENT
DTSTART;TZID=Europe/London:20250610T000000
DTEND;TZID=Europe/London:20250610T235959
DTSTAMP:20260420T222532
CREATED:20250529T133749Z
LAST-MODIFIED:20250605T130657Z
UID:3021-1749513600-1749599999@jointhedotstogether.org
SUMMARY:Dialogue among Civilizations
DESCRIPTION:The International Day of Dialogue among Civilizations provides an opportunity to raise awareness of the value of the diversity of civilizations and promoting dialogue\, mutual respect and global solidarity\, fostering a more harmonious and interconnected world.
URL:https://jointhedotstogether.org/event/dialogue-among-civilizations/
CATEGORIES:International Day
ATTACH;FMTTYPE=image/png:https://jointhedotstogether.org/wp-content/uploads/2025/05/dialogue_among_civilizations-index-e1748525846552.png
END:VEVENT
BEGIN:VEVENT
DTSTART;TZID=Europe/London:20250609T180000
DTEND;TZID=Europe/London:20250609T193000
DTSTAMP:20260420T222532
CREATED:20250529T074250Z
LAST-MODIFIED:20250605T130657Z
UID:2988-1749492000-1749497400@jointhedotstogether.org
SUMMARY:Disturbance in the Deep
DESCRIPTION:Disturbance in the Deep: A Rights-Based and Values-Based Approach to Deep Sea Conservation \nThis virtual side event will coincide with the United Nations Ocean Conference (UNOC3)\, to be held from 9-13 June 2025 in Nice\, France.
URL:https://jointhedotstogether.org/event/disturbance-in-the-deep/
LOCATION:Online
CATEGORIES:International Day
ATTACH;FMTTYPE=image/png:https://jointhedotstogether.org/wp-content/uploads/2025/05/mwg-unoc3-virtual-side-event-1-e1748504546877.png
END:VEVENT
BEGIN:VEVENT
DTSTART;TZID=Europe/London:20250609T000000
DTEND;TZID=Europe/London:20250609T235959
DTSTAMP:20260420T222532
CREATED:20250601T105026Z
LAST-MODIFIED:20250601T105026Z
UID:3061-1749427200-1749513599@jointhedotstogether.org
SUMMARY:UN Ocean Conference
DESCRIPTION:The high-level 2025 United Nations Conference to Support the Implementation of Sustainable Development Goal 14: Conserve and sustainably use the oceans\, seas and marine resources for sustainable development (the 2025 UN Ocean Conference) will be co-hosted by France and Costa Rica and held in Nice\, France\, from 9 – 13 June 2025.
URL:https://jointhedotstogether.org/event/un-ocean-conference/
LOCATION:Nice
ATTACH;FMTTYPE=image/png:https://jointhedotstogether.org/wp-content/uploads/2025/06/ocean_conference_wheel-e1748774984794.png
END:VEVENT
BEGIN:VEVENT
DTSTART;TZID=Europe/London:20250608T000000
DTEND;TZID=Europe/London:20250608T235959
DTSTAMP:20260420T222532
CREATED:20250529T133456Z
LAST-MODIFIED:20250605T130657Z
UID:3018-1749340800-1749427199@jointhedotstogether.org
SUMMARY:World Oceans Day
DESCRIPTION:“Wonder: Sustaining what sustains us” is the theme for World Oceans Day 2025\, a year marked by the UN Decade of Ocean Science and the celebration of the World Ocean Conference. With this new vision\, the day celebrates the wonder that the ocean inspires in us: its beauty\, its mystery\, and its vital role in our lives and on the planet.
URL:https://jointhedotstogether.org/event/world-oceans-day/
CATEGORIES:International Day
ATTACH;FMTTYPE=image/jpeg:https://jointhedotstogether.org/wp-content/uploads/2025/05/maharram-hasanli-9Z6vfBx8_pg-unsplash-scaled-e1748505447863.jpg
END:VEVENT
BEGIN:VEVENT
DTSTART;TZID=Europe/London:20250607T140000
DTEND;TZID=Europe/London:20250607T170000
DTSTAMP:20260420T222532
CREATED:20250529T101341Z
LAST-MODIFIED:20250601T112659Z
UID:2995-1749304800-1749315600@jointhedotstogether.org
SUMMARY:Belfast Photo Festival- Biosphere Launch
DESCRIPTION:Artists and project partners\, explore Northern Ireland’s natural heritage through new photography\, expert insights\, lively panel discussions\, poetry and performance. \nThis condensed and inspiring 90-minute event will be followed by a drinks reception in the Belfast Room; a chance to celebrate and connect in person. \n£5 ticket price includes a glass of prosecco or soft drink.
URL:https://jointhedotstogether.org/event/belfast-photo-festival-biosphere-launch/
LOCATION:Ulster Museum
ATTACH;FMTTYPE=image/png:https://jointhedotstogether.org/wp-content/uploads/2025/05/2025-photo-festival-e1748513462271.png
ORGANIZER;CN="Belfast Photo Festival":MAILTO:info@belfastphotofestival.com
END:VEVENT
BEGIN:VEVENT
DTSTART;TZID=Europe/London:20250607T000000
DTEND;TZID=Europe/London:20250607T235959
DTSTAMP:20260420T222532
CREATED:20250529T133202Z
LAST-MODIFIED:20250605T130657Z
UID:3014-1749254400-1749340799@jointhedotstogether.org
SUMMARY:Food Safety Day
DESCRIPTION:World Food Safety Day on 7 June aims to draw attention and inspire action to help prevent\, detect and manage foodborne risks\, contributing to food security\, human health\, economic prosperity\, agriculture\, market access\, tourism and sustainable development.
URL:https://jointhedotstogether.org/event/food-safety-day/
CATEGORIES:International Day
ATTACH;FMTTYPE=image/jpeg:https://jointhedotstogether.org/wp-content/uploads/2025/05/food-safety-index-e1748525478508.jpg
END:VEVENT
BEGIN:VEVENT
DTSTART;TZID=Europe/London:20250605T123000
DTEND;TZID=Europe/London:20250605T133000
DTSTAMP:20260420T222532
CREATED:20250526T083425Z
LAST-MODIFIED:20250601T112937Z
UID:2953-1749126600-1749130200@jointhedotstogether.org
SUMMARY:Spotting false climate solutions Online Webinar
DESCRIPTION:A Quakers and Faith for the Climate webinar (part 1)
URL:https://jointhedotstogether.org/event/spotting-false-climate-solutions-online-webinar/
LOCATION:Online
ATTACH;FMTTYPE=image/jpeg:https://jointhedotstogether.org/wp-content/uploads/2025/05/FFTC-Logo-and-title-scaled-1-e1748248350299.jpg
ORGANIZER;CN="Faith For the Climate":MAILTO:mobilise@faithfortheclimate.org.uk
END:VEVENT
BEGIN:VEVENT
DTSTART;TZID=Europe/London:20250605T110000
DTEND;TZID=Europe/London:20250605T120000
DTSTAMP:20260420T222532
CREATED:20250526T082036Z
LAST-MODIFIED:20250601T113055Z
UID:2949-1749121200-1749124800@jointhedotstogether.org
SUMMARY:Honour Pope Francis Online Event
DESCRIPTION:An opportunity to learn about the link between interfaith and ecology\, two of the great legacies of Pope Francis.  \nOrganized by the “United Religions Initiative” and “Religions for Peace Australia” \nZoom Meeting ID: 87993813629 Passcode: 195820
URL:https://jointhedotstogether.org/event/honour-pope-francis-online-event/
LOCATION:Online
ATTACH;FMTTYPE=image/jpeg:https://jointhedotstogether.org/wp-content/uploads/2025/05/20250605-Honour-Pope-Francis-e1748247565959.jpg
END:VEVENT
BEGIN:VEVENT
DTSTART;TZID=Europe/London:20250605T000000
DTEND;TZID=Europe/London:20250605T235959
DTSTAMP:20260420T222532
CREATED:20250529T133053Z
LAST-MODIFIED:20250605T130554Z
UID:3009-1749081600-1749167999@jointhedotstogether.org
SUMMARY:Day against Illegal\, unreported and unregulated (IUU) fishing
DESCRIPTION:IUU fishing is found in all types and dimensions of fisheries; it occurs both on the high seas and in areas within national jurisdiction.
URL:https://jointhedotstogether.org/event/day-against-illegal-unreported-and-unregulated-iuu-fishing/
CATEGORIES:International Day
ATTACH;FMTTYPE=image/jpeg:https://jointhedotstogether.org/wp-content/uploads/2025/05/artisanalfishery_0-e1748525406687.jpg
END:VEVENT
END:VCALENDAR