BEGIN:VCALENDAR
VERSION:2.0
PRODID:-//Join the Dots Together - ECPv6.15.20//NONSGML v1.0//EN
CALSCALE:GREGORIAN
METHOD:PUBLISH
X-WR-CALNAME:Join the Dots Together
X-ORIGINAL-URL:https://jointhedotstogether.org
X-WR-CALDESC:Events for Join the Dots Together
REFRESH-INTERVAL;VALUE=DURATION:PT1H
X-Robots-Tag:noindex
X-PUBLISHED-TTL:PT1H
BEGIN:VTIMEZONE
TZID:Europe/London
BEGIN:DAYLIGHT
TZOFFSETFROM:+0000
TZOFFSETTO:+0100
TZNAME:BST
DTSTART:20240331T010000
END:DAYLIGHT
BEGIN:STANDARD
TZOFFSETFROM:+0100
TZOFFSETTO:+0000
TZNAME:GMT
DTSTART:20241027T010000
END:STANDARD
BEGIN:DAYLIGHT
TZOFFSETFROM:+0000
TZOFFSETTO:+0100
TZNAME:BST
DTSTART:20250330T010000
END:DAYLIGHT
BEGIN:STANDARD
TZOFFSETFROM:+0100
TZOFFSETTO:+0000
TZNAME:GMT
DTSTART:20251026T010000
END:STANDARD
BEGIN:DAYLIGHT
TZOFFSETFROM:+0000
TZOFFSETTO:+0100
TZNAME:BST
DTSTART:20260329T010000
END:DAYLIGHT
BEGIN:STANDARD
TZOFFSETFROM:+0100
TZOFFSETTO:+0000
TZNAME:GMT
DTSTART:20261025T010000
END:STANDARD
END:VTIMEZONE
BEGIN:VEVENT
DTSTART;TZID=Europe/London:20250913T103000
DTEND;TZID=Europe/London:20250913T120000
DTSTAMP:20260420T085758
CREATED:20250825T180115Z
LAST-MODIFIED:20250825T180115Z
UID:3345-1757759400-1757764800@jointhedotstogether.org
SUMMARY:25th Meeting of the Creation Care Network
DESCRIPTION:The 25 th meeting of Creation Care Network will meet in Regent Street Presbyterian Church (48a Regent Street\, Newtownards\, BT23 4LP.) at 10.30 am on Saturday 13 th September 2025. \nAll welcome. \nParking behind the church.
URL:https://jointhedotstogether.org/event/25th-meeting-of-the-creation-care-network/
LOCATION:Regent Street Presbyterian Church
END:VEVENT
BEGIN:VEVENT
DTSTART;TZID=Europe/London:20250913T000000
DTEND;TZID=Europe/London:20250913T235959
DTSTAMP:20260420T085758
CREATED:20250822T173551Z
LAST-MODIFIED:20250822T173551Z
UID:3301-1757721600-1757807999@jointhedotstogether.org
SUMMARY:European Heritage Open Days
DESCRIPTION:European Heritage Open Days will take place 13 and 14 September 2025. \nEach year EHD’s across Europe celebrate a shared theme and for 2025 the theme is “Architectural Heritage – Past structures – Future Connections”
URL:https://jointhedotstogether.org/event/european-heritage-open-days/
ATTACH;FMTTYPE=image/jpeg:https://jointhedotstogether.org/wp-content/uploads/2025/08/EHOD-2025-1536x864-1-e1755884134849.jpg
END:VEVENT
BEGIN:VEVENT
DTSTART;TZID=Europe/London:20250911T000000
DTEND;TZID=Europe/London:20250911T235959
DTSTAMP:20260420T085758
CREATED:20250822T152032Z
LAST-MODIFIED:20250822T152032Z
UID:3259-1757548800-1757635199@jointhedotstogether.org
SUMMARY:Sustainability @ Northern Ireland MSC Conference & Exhibition
DESCRIPTION:The event takes place at the Eikon Exhibition Centre and will feature presentations on innovative ideas and practical solutions for sustainability. Attendees will have the opportunity to hear from industry experts\, connect with others working in the field\, and learn about current developments in sustainable practices.
URL:https://jointhedotstogether.org/event/sustainability-northern-ireland-msc-conference-exhibition/
LOCATION:Eikon Exhibition Centre
ATTACH;FMTTYPE=image/jpeg:https://jointhedotstogether.org/wp-content/uploads/2025/08/Colocate-e1755875973287.jpg
END:VEVENT
BEGIN:VEVENT
DTSTART;TZID=Europe/London:20250910T190000
DTEND;TZID=Europe/London:20250910T210000
DTSTAMP:20260420T085758
CREATED:20250822T153836Z
LAST-MODIFIED:20250822T153836Z
UID:3277-1757530800-1757538000@jointhedotstogether.org
SUMMARY:Migration Today and Tomorrow
DESCRIPTION:Panel discussion exploring migration\, inclusion\, conflict and climate change
URL:https://jointhedotstogether.org/event/migration-today-and-tomorrow/
LOCATION:Belfast Jesuit Centre\, 193 Donegall Street\, Belfast\, County Antrim\, BT1 2FL\, United Kingdom
ATTACH;FMTTYPE=image/jpeg:https://jointhedotstogether.org/wp-content/uploads/2025/08/WhatsApp-Image-2025-08-22-at-16.02.00-e1755877093482.jpeg
ORGANIZER;CN="Join the Dots Together":MAILTO:info@jointhedotstogether.org
END:VEVENT
BEGIN:VEVENT
DTSTART;TZID=Europe/London:20250907T000000
DTEND;TZID=Europe/London:20250907T235959
DTSTAMP:20260420T085758
CREATED:20250823T091553Z
LAST-MODIFIED:20250823T091553Z
UID:3319-1757203200-1757289599@jointhedotstogether.org
SUMMARY:Racing for Clean Air
DESCRIPTION:Every Breath Matters \nOn this International Day of Clean Air for blue skies\, everyone is invited —from governments and corporations to civil society and individuals—to join the race for solutions. We’re Racing for Clean Air.
URL:https://jointhedotstogether.org/event/racing-for-clean-air/
ATTACH;FMTTYPE=image/png:https://jointhedotstogether.org/wp-content/uploads/2025/08/clean-air.png
END:VEVENT
BEGIN:VEVENT
DTSTART;TZID=Europe/London:20250906T000000
DTEND;TZID=Europe/London:20250906T235959
DTSTAMP:20260420T085758
CREATED:20250822T151603Z
LAST-MODIFIED:20250822T151603Z
UID:3254-1757116800-1757203199@jointhedotstogether.org
SUMMARY:Fields Good Regenerative Agriculture Festival
DESCRIPTION:A conference in a field! Dedicated to learning abut soil health\, agroforestry\, horticulture and more! \n 
URL:https://jointhedotstogether.org/event/fields-good-regenerative-agriculture-festival-2/
LOCATION:Glenarm
ATTACH;FMTTYPE=image/jpeg:https://jointhedotstogether.org/wp-content/uploads/2025/08/Fields-Good-e1755875719683.jpg
END:VEVENT
BEGIN:VEVENT
DTSTART;TZID=Europe/London:20250905T140000
DTEND;TZID=Europe/London:20250905T150000
DTSTAMP:20260420T085758
CREATED:20250822T173211Z
LAST-MODIFIED:20250822T173211Z
UID:3296-1757080800-1757084400@jointhedotstogether.org
SUMMARY:Wildlife Walk at Ulster Folk Museum
DESCRIPTION:Take a walk around the beautiful\, nature-rich museum and talk to  staff as you learn how to identify and record plants and animals.
URL:https://jointhedotstogether.org/event/wildlife-walk-at-ulster-folk-museum/
LOCATION:Ulster FOlk Mueum
ATTACH;FMTTYPE=image/png:https://jointhedotstogether.org/wp-content/uploads/2025/08/wildlife-walk-e1755883909702.png
END:VEVENT
BEGIN:VEVENT
DTSTART;TZID=Europe/London:20250903T000000
DTEND;TZID=Europe/London:20250903T235959
DTSTAMP:20260420T085758
CREATED:20250822T172627Z
LAST-MODIFIED:20250822T172627Z
UID:3291-1756857600-1756943999@jointhedotstogether.org
SUMMARY:CAFRE Hill Farm Open Day
DESCRIPTION:CAFRE and Teagasc are hosting a joint Uplands Open Day at the CAFRE Hill Farm Centre\, Glenwherry\, Ballymena\, Co. Antrim on Wednesday 3 September 2025. Tour groups will depart every 30 minutes beginning at 10:00 am\, with the last tour leaving at 4:00 pm. During the tour of the Hill Farm\, visitors will hear from a range of speakers about how integrated upland management delivers outcomes for everyone.
URL:https://jointhedotstogether.org/event/cafre-hill-farm-open-day/
LOCATION:CAFRE Hill Farm Centre\, Glenwherry\, Ballymena
ATTACH;FMTTYPE=image/jpeg:https://jointhedotstogether.org/wp-content/uploads/2025/08/cafre-e1755883581562.jpg
END:VEVENT
BEGIN:VEVENT
DTSTART;TZID=Europe/London:20250901T140000
DTEND;TZID=Europe/London:20250901T150000
DTSTAMP:20260420T085758
CREATED:20250708T190641Z
LAST-MODIFIED:20250708T190641Z
UID:3202-1756735200-1756738800@jointhedotstogether.org
SUMMARY:Online prayer service for the Opening of the Season
DESCRIPTION:Globally\, Christians are invited to join an online prayer service to come together in a joyful celebration of our common cause
URL:https://jointhedotstogether.org/event/online-prayer-service-for-the-opening-of-the-season/
LOCATION:Online
ATTACH;FMTTYPE=image/png:https://jointhedotstogether.org/wp-content/uploads/2025/07/2025-SOC--scaled-e1752001588922.png
END:VEVENT
BEGIN:VEVENT
DTSTART;TZID=Europe/London:20250901T000000
DTEND;TZID=Europe/London:20250901T235959
DTSTAMP:20260420T085758
CREATED:20250708T192431Z
LAST-MODIFIED:20250708T193016Z
UID:3213-1756684800-1756771199@jointhedotstogether.org
SUMMARY:World Day of Prayer for the Care of Creation
DESCRIPTION:The theme of this World Day of Prayer for the Care of Creation\, chosen by our beloved Pope Francis\, is “Seeds of Peace and Hope”. On the tenth anniversary of the establishment of this Day of Prayer\, which coincided with the publication of the Encyclical Laudato Si’\, we find ourselves celebrating the present Jubilee as “Pilgrims of Hope.”
URL:https://jointhedotstogether.org/event/world-day-of-prayer-for-the-care-of-creation/
ATTACH;FMTTYPE=image/jpeg:https://jointhedotstogether.org/wp-content/uploads/2025/07/world-day-prayer-e1752002891710.jpeg
END:VEVENT
BEGIN:VEVENT
DTSTART;TZID=Europe/London:20250829T120000
DTEND;TZID=Europe/London:20250829T130000
DTSTAMP:20260420T085758
CREATED:20250630T112118Z
LAST-MODIFIED:20250630T112341Z
UID:3143-1756468800-1756472400@jointhedotstogether.org
SUMMARY:Flora on a Friday: Common Houseplants
DESCRIPTION:Flora on a Friday is a series of engaging\, bite-sized workshops centred on the fascinating world of plants. Held on the last Friday of each month\, these events are ideal lunchtime visits for plant enthusiasts of all kinds. Each session explores a different plant-related topic\, offering care tips and fun facts shared by the knowledgeable team at Belfast Botanic Gardens.
URL:https://jointhedotstogether.org/event/flora-on-a-friday-common-houseplants/
LOCATION:Botanic Gardens
ATTACH;FMTTYPE=image/jpeg:https://jointhedotstogether.org/wp-content/uploads/2025/06/FLora-Friday.jpg
END:VEVENT
BEGIN:VEVENT
DTSTART;TZID=Europe/London:20250829T000000
DTEND;TZID=Europe/London:20250829T235959
DTSTAMP:20260420T085758
CREATED:20250708T164638Z
LAST-MODIFIED:20250708T164638Z
UID:3165-1756425600-1756511999@jointhedotstogether.org
SUMMARY:International Day against Nuclear Tests
DESCRIPTION:On 2 December 2009\, the 64th session of the United Nations General Assembly declared 29 August the International Day against Nuclear Tests by unanimously adopting resolution 64/35. The resolution calls for increasing awareness and education “about the effects of nuclear weapon test explosions or any other nuclear explosions and the need for their cessation as one of the means of achieving the goal of a nuclear-weapon-free world.”
URL:https://jointhedotstogether.org/event/international-day-against-nuclear-tests/
ATTACH;FMTTYPE=image/jpeg:https://jointhedotstogether.org/wp-content/uploads/2025/07/logo_end_nuclear_tests_day_en.jpg
END:VEVENT
BEGIN:VEVENT
DTSTART;TZID=Europe/London:20250827T000000
DTEND;TZID=Europe/London:20250827T235959
DTSTAMP:20260420T085758
CREATED:20250708T164928Z
LAST-MODIFIED:20250708T164928Z
UID:3168-1756252800-1756339199@jointhedotstogether.org
SUMMARY:2nd World Lake Day
DESCRIPTION:Lakes are one of the most vital natural resources on our planet. They serve as a crucial source of fresh water\, supporting drinking water supplies\, agriculture\, and industry.
URL:https://jointhedotstogether.org/event/2nd-world-lake-day/
ATTACH;FMTTYPE=image/png:https://jointhedotstogether.org/wp-content/uploads/2025/07/lake_and_mountains-e1751993356884.png
END:VEVENT
BEGIN:VEVENT
DTSTART;TZID=Europe/London:20250822T000000
DTEND;TZID=Europe/London:20250822T235959
DTSTAMP:20260420T085758
CREATED:20250708T170544Z
LAST-MODIFIED:20250708T170544Z
UID:3182-1755820800-1755907199@jointhedotstogether.org
SUMMARY:World Plant Milk Day
DESCRIPTION:World Plant Milk Day is an international day that celebrates plant-based alternatives to dairy milk. Take the 7-day dairy-free challenge\, and encourage your friends and family to join in too.
URL:https://jointhedotstogether.org/event/world-plant-milk-day/
ATTACH;FMTTYPE=image/png:https://jointhedotstogether.org/wp-content/uploads/2025/07/image-8-e1751994223168.png
END:VEVENT
BEGIN:VEVENT
DTSTART;TZID=Europe/London:20250819T000000
DTEND;TZID=Europe/London:20250819T235959
DTSTAMP:20260420T085758
CREATED:20250708T164120Z
LAST-MODIFIED:20250708T164120Z
UID:3159-1755561600-1755647999@jointhedotstogether.org
SUMMARY:World Humanitarian Day
DESCRIPTION:On 19 August 2003\, a bomb attack on the Canal Hotel in Baghdad\, Iraq\, killed 22 humanitarian aid workers\, including the UN Special Representative of the Secretary-General for Iraq\, Sergio Vieira de Mello. Five years later\, the United Nations General Assembly adopted a resolution designating 19 August as World Humanitarian Day (WHD).
URL:https://jointhedotstogether.org/event/world-humanitarian-day/
ATTACH;FMTTYPE=image/jpeg:https://jointhedotstogether.org/wp-content/uploads/2025/07/whd_lead_2024-e1751992787819.jpg
END:VEVENT
BEGIN:VEVENT
DTSTART;TZID=Europe/London:20250816T000000
DTEND;TZID=Europe/London:20250816T235959
DTSTAMP:20260420T085758
CREATED:20250708T173329Z
LAST-MODIFIED:20250708T173329Z
UID:3195-1755302400-1755388799@jointhedotstogether.org
SUMMARY:Mela Festival
DESCRIPTION:Mela is one of Northern Ireland’s largest art festivals bringing together music\, dance\, arts and food from across the world to celebrate our city’s proud cultural diversity. Thousands of visitors will descend on Belfast to revel in a unique carnival of global cultures. The festival will take place in Botanic Gardens from 16 – 24 August.
URL:https://jointhedotstogether.org/event/mela-festival/
ATTACH;FMTTYPE=image/avif:https://jointhedotstogether.org/wp-content/uploads/2025/07/photo-1547366868-f5d6fab0440f-e1751995437327.avif
END:VEVENT
BEGIN:VEVENT
DTSTART;TZID=Europe/London:20250815T080000
DTEND;TZID=Europe/London:20250815T170000
DTSTAMP:20260420T085758
CREATED:20250708T165314Z
LAST-MODIFIED:20250708T165314Z
UID:3171-1755244800-1755277200@jointhedotstogether.org
SUMMARY:Wool futures: Slow Wool\, Strong Futures
DESCRIPTION:This August Craft Month explore the theme “Slow Wool\, Strong Futures” to reconnect with sustainable practices and local materials
URL:https://jointhedotstogether.org/event/wool-futures-slow-wool-strong-futures/
LOCATION:Conor Lecture Theater\, Ulster University
ATTACH;FMTTYPE=image/avif:https://jointhedotstogether.org/wp-content/uploads/2025/07/https___cdn.evbuc_.com_images_1051478853_1422157580753_1_original-e1751993575248.avif
END:VEVENT
BEGIN:VEVENT
DTSTART;TZID=Europe/London:20250812T000000
DTEND;TZID=Europe/London:20250812T235959
DTSTAMP:20260420T085758
CREATED:20250708T170859Z
LAST-MODIFIED:20250708T170859Z
UID:3185-1754956800-1755043199@jointhedotstogether.org
SUMMARY:World Elephant Day
DESCRIPTION:This event is all about protecting elephants. World Elephant Day was co-founded on August 12\, 2012\, by Canadian Patricia Sims and the Elephant Reintroduction Foundation of Thailand
URL:https://jointhedotstogether.org/event/world-elephant-day/
ATTACH;FMTTYPE=image/webp:https://jointhedotstogether.org/wp-content/uploads/2025/07/WED-LOGOS-REC_2025-TM-r-1-e1751994469562.webp
END:VEVENT
BEGIN:VEVENT
DTSTART;TZID=Europe/London:20250812T000000
DTEND;TZID=Europe/London:20250812T235959
DTSTAMP:20260420T085758
CREATED:20250708T164423Z
LAST-MODIFIED:20250708T164423Z
UID:3162-1754956800-1755043199@jointhedotstogether.org
SUMMARY:International Youth Day
DESCRIPTION:International Youth Day is commemorated every year on 12 August\, bringing youth issues to the attention of the international community and celebrating the potential of youth as partners in today’s global society.
URL:https://jointhedotstogether.org/event/international-youth-day/
ATTACH;FMTTYPE=image/png:https://jointhedotstogether.org/wp-content/uploads/2025/07/iyd-small3_1.png
END:VEVENT
BEGIN:VEVENT
DTSTART;TZID=Europe/London:20250811T000000
DTEND;TZID=Europe/London:20250811T235959
DTSTAMP:20260420T085758
CREATED:20250708T170047Z
LAST-MODIFIED:20250708T190151Z
UID:3178-1754870400-1754956799@jointhedotstogether.org
SUMMARY:National Allotments Week
DESCRIPTION:Started in 2002\, National Allotments Week is an annual initiative that aims to raise awareness of allotments and their role in helping people live healthier lifestyles\, grow their food\, develop friendships\, and bolster communities. The annual awareness week will run this year from 11-17 August 2025\, and the theme of is “Allotments and Wellbeing”
URL:https://jointhedotstogether.org/event/national-allotments-week/
ATTACH;FMTTYPE=image/png:https://jointhedotstogether.org/wp-content/uploads/2025/07/NAW25-1200-x-628-px-1-e1751993978608.png
END:VEVENT
BEGIN:VEVENT
DTSTART;TZID=Europe/London:20250801T100000
DTEND;TZID=Europe/London:20250801T170000
DTSTAMP:20260420T085758
CREATED:20250708T172043Z
LAST-MODIFIED:20250708T172043Z
UID:3191-1754042400-1754067600@jointhedotstogether.org
SUMMARY:Wild Ireland: Past\, Present\, Future
DESCRIPTION:Renowned wildlife painter\, Julian Friers\, has collaborated with Ulster Museum Natural Sciences curator\, Dr Mike Simms\, to create over 50 remarkable paintings of our flora and fauna\, past and present. This exhibition is on until 31st August\, it is open Tuesday to Sunday (closed Mondays) from 10:00 to 17:00 and no booking needed!
URL:https://jointhedotstogether.org/event/wild-ireland-past-present-future/
LOCATION:Ulster Museum
ATTACH;FMTTYPE=image/png:https://jointhedotstogether.org/wp-content/uploads/2025/07/Website-Image-Event-Template-1095x616-9-e1751995153797.png
END:VEVENT
BEGIN:VEVENT
DTSTART;TZID=Europe/London:20250801T000000
DTEND;TZID=Europe/London:20250801T235959
DTSTAMP:20260420T085758
CREATED:20250708T171227Z
LAST-MODIFIED:20250708T171227Z
UID:3188-1754006400-1754092799@jointhedotstogether.org
SUMMARY:Lammas Day
DESCRIPTION:Lammas\, a festival that marks the first harvest of the season.
URL:https://jointhedotstogether.org/event/lammas-day/
ATTACH;FMTTYPE=image/jpeg:https://jointhedotstogether.org/wp-content/uploads/2025/07/year.jpg
END:VEVENT
BEGIN:VEVENT
DTSTART;TZID=Europe/London:20250730T123000
DTEND;TZID=Europe/London:20250730T133000
DTSTAMP:20260420T085758
CREATED:20250630T105604Z
LAST-MODIFIED:20250630T105604Z
UID:3133-1753878600-1753882200@jointhedotstogether.org
SUMMARY:Sustainability Bites: Driving social value through sustainability
DESCRIPTION:Presented by Sally O’Kane of Giraffe Associates\, this 1 hour lunch and learn session will look at debunking the widespread belief that sustainability is all about the environment\, we explore how truly sustainable NI companies put people and social impact first.
URL:https://jointhedotstogether.org/event/sustainability-bites-driving-social-value-through-sustainability/
LOCATION:The Black Box
ATTACH;FMTTYPE=image/avif:https://jointhedotstogether.org/wp-content/uploads/2025/06/20250730-e1751280859327.avif
END:VEVENT
BEGIN:VEVENT
DTSTART;TZID=Europe/London:20250727T110000
DTEND;TZID=Europe/London:20250727T130000
DTSTAMP:20260420T085758
CREATED:20250428T205154Z
LAST-MODIFIED:20250601T110829Z
UID:2645-1753614000-1753621200@jointhedotstogether.org
SUMMARY:Garry Bog Walk
DESCRIPTION:Celebrate International Bog Day with a guided walk through the unique landscape of Garry Bog. Learn about the vital role of peatlands in supporting wildlife and fighting climate change as you explore the site.
URL:https://jointhedotstogether.org/event/international-bog-day-walk-at-garry-bog/
LOCATION:Garry Bog\, Ballybogey Road\, Ballymoney\, BT53 6QF
CATEGORIES:In person
ATTACH;FMTTYPE=image/avif:https://jointhedotstogether.org/wp-content/uploads/2025/04/garry-bog-e1745873462214.avif
END:VEVENT
BEGIN:VEVENT
DTSTART;TZID=Europe/London:20250725T113000
DTEND;TZID=Europe/London:20250725T130000
DTSTAMP:20260420T085758
CREATED:20250630T110510Z
LAST-MODIFIED:20250630T110510Z
UID:3140-1753443000-1753448400@jointhedotstogether.org
SUMMARY:Flora on a Friday: Cacti and Succulents
DESCRIPTION:Flora on a Friday is a series of engaging\, bite-sized workshops centred on the fascinating world of plants. Held on the last Friday of each month\, these events are ideal lunchtime visits for plant enthusiasts of all kinds. Each session explores a different plant-related topic\, offering care tips and fun facts shared by the knowledgeable team at Belfast Botanic Gardens.
URL:https://jointhedotstogether.org/event/flora-on-a-friday-cacti-and-succulents/
ATTACH;FMTTYPE=image/jpeg:https://jointhedotstogether.org/wp-content/uploads/2025/06/FLora-Friday.jpg
END:VEVENT
BEGIN:VEVENT
DTSTART;TZID=Europe/London:20250722T080000
DTEND;TZID=Europe/London:20250722T170000
DTSTAMP:20260420T085758
CREATED:20250620T171719Z
LAST-MODIFIED:20250620T171719Z
UID:3115-1753171200-1753203600@jointhedotstogether.org
SUMMARY:Partnerships for Strengthening Women of Faith & Women Renewable Energy Practices
DESCRIPTION:A collaborative workshop series hosted by the Women\, Faith\, and Climate Network\, which aims to empower members to share best practices in climate action and explore radical collaboration to scale impact.
URL:https://jointhedotstogether.org/event/partnerships-for-strengthening-women-of-faith-women-renewable-energy-practices/
LOCATION:Online
ATTACH;FMTTYPE=image/avif:https://jointhedotstogether.org/wp-content/uploads/2025/06/WFCN-logo.avif
END:VEVENT
BEGIN:VEVENT
DTSTART;TZID=Europe/London:20250719T140000
DTEND;TZID=Europe/London:20250719T150000
DTSTAMP:20260420T085758
CREATED:20250708T191516Z
LAST-MODIFIED:20250708T191658Z
UID:3211-1752933600-1752937200@jointhedotstogether.org
SUMMARY:Global Encounter
DESCRIPTION:Since 2024\, the Laudato Si’ Movement has been driving a worldwide listening process. People from different countries and communities have gathered in local and national spaces to share their journey within the movement and express their dreams for the future. This gathering will be the final step in analyzing these results.
URL:https://jointhedotstogether.org/event/global-encounter/
LOCATION:Online
ATTACH;FMTTYPE=image/png:https://jointhedotstogether.org/wp-content/uploads/2025/01/Laudato-Si-Movement-logo-EN-2048x752-1-e1738093702376.png
END:VEVENT
BEGIN:VEVENT
DTSTART;TZID=Europe/London:20250712T000000
DTEND;TZID=Europe/London:20250712T235959
DTSTAMP:20260420T085758
CREATED:20250701T201912Z
LAST-MODIFIED:20250701T201912Z
UID:3153-1752278400-1752364799@jointhedotstogether.org
SUMMARY:International Day of Hope
DESCRIPTION:In a world facing growing unrest\, widening social divisions\, and persistent economic and environmental challenges\, the global community continues to seek values that unite rather than divide. Among these\, hope stands out as a deeply powerful and universally resonant force. Recognizing this\, the United Nations General Assembly has designated 12 July as the International Day of Hope—a day to celebrate and promote hope as a guiding principle for individuals\, communities\, and nations alike.
URL:https://jointhedotstogether.org/event/international-day-of-hope/
ATTACH;FMTTYPE=image/png:https://jointhedotstogether.org/wp-content/uploads/2025/07/hope-day-banner-e1751401106934.png
END:VEVENT
BEGIN:VEVENT
DTSTART;TZID=Europe/London:20250712T000000
DTEND;TZID=Europe/London:20250712T235959
DTSTAMP:20260420T085758
CREATED:20250701T201456Z
LAST-MODIFIED:20250701T201456Z
UID:3149-1752278400-1752364799@jointhedotstogether.org
SUMMARY:International Day of Combating Sand and Dust Storms
DESCRIPTION:Sand and dust storms (SDS) present a formidable and wide-spread challenge to achieving sustainable development in its economic\, social and environmental dimensions. They have become a serious global concern in recent decades due to their significant impacts on the environment\, health\, agriculture\, livelihoods\, and socio-economic well-being. Sand and dust storms are an essential element of the Earth’s natural bio-chemical cycles\, but are also caused in part by human-induced drivers\, including climate change\, and unsustainable land management and water use.
URL:https://jointhedotstogether.org/event/international-day-of-combating-sand-and-dust-storms/
ATTACH;FMTTYPE=image/jpeg:https://jointhedotstogether.org/wp-content/uploads/2025/07/sanddust-storm-day-banner-e1751400883466.jpg
END:VEVENT
BEGIN:VEVENT
DTSTART;TZID=Europe/London:20250704T000000
DTEND;TZID=Europe/London:20250704T235959
DTSTAMP:20260420T085758
CREATED:20250630T110013Z
LAST-MODIFIED:20250630T110013Z
UID:3137-1751587200-1751673599@jointhedotstogether.org
SUMMARY:Rose Fair 2025
DESCRIPTION:Friday 4\, Saturday 5 and Sunday 6 July\, 12 noon to 5pm \nRose Fair returns to Sir Thomas and Lady Dixon Park with a packed programme of country and western-themed fun for all the family\, along with thousands of award-winning blooms on display daily in the stunning City of Belfast International Rose Garden.
URL:https://jointhedotstogether.org/event/rose-fair-2025/
LOCATION:Sir Thomas and Lady Dixon Park
ATTACH;FMTTYPE=image/jpeg:https://jointhedotstogether.org/wp-content/uploads/2025/06/Rose-fair-event-image.jpg
END:VEVENT
END:VCALENDAR