BEGIN:VCALENDAR
VERSION:2.0
PRODID:-//Join the Dots Together - ECPv6.15.20//NONSGML v1.0//EN
CALSCALE:GREGORIAN
METHOD:PUBLISH
X-ORIGINAL-URL:https://jointhedotstogether.org
X-WR-CALDESC:Events for Join the Dots Together
REFRESH-INTERVAL;VALUE=DURATION:PT1H
X-Robots-Tag:noindex
X-PUBLISHED-TTL:PT1H
BEGIN:VTIMEZONE
TZID:Europe/London
BEGIN:DAYLIGHT
TZOFFSETFROM:+0000
TZOFFSETTO:+0100
TZNAME:BST
DTSTART:20250330T010000
END:DAYLIGHT
BEGIN:STANDARD
TZOFFSETFROM:+0100
TZOFFSETTO:+0000
TZNAME:GMT
DTSTART:20251026T010000
END:STANDARD
BEGIN:DAYLIGHT
TZOFFSETFROM:+0000
TZOFFSETTO:+0100
TZNAME:BST
DTSTART:20260329T010000
END:DAYLIGHT
BEGIN:STANDARD
TZOFFSETFROM:+0100
TZOFFSETTO:+0000
TZNAME:GMT
DTSTART:20261025T010000
END:STANDARD
BEGIN:DAYLIGHT
TZOFFSETFROM:+0000
TZOFFSETTO:+0100
TZNAME:BST
DTSTART:20270328T010000
END:DAYLIGHT
BEGIN:STANDARD
TZOFFSETFROM:+0100
TZOFFSETTO:+0000
TZNAME:GMT
DTSTART:20271031T010000
END:STANDARD
END:VTIMEZONE
BEGIN:VEVENT
DTSTART;TZID=Europe/London:20260220T000000
DTEND;TZID=Europe/London:20260220T235959
DTSTAMP:20260419T201614
CREATED:20260125T170947Z
LAST-MODIFIED:20260125T170947Z
UID:3902-1771545600-1771631999@jointhedotstogether.org
SUMMARY:World Day of Social Justice
DESCRIPTION:On 26 November 2007\, the General Assembly declared that\, starting from the sixty-third session of the General Assembly\, 20 February will be celebrated annually as the World Day of Social Justice.
URL:https://jointhedotstogether.org/event/world-day-of-social-justice/
ATTACH;FMTTYPE=image/jpeg:https://jointhedotstogether.org/wp-content/uploads/2026/01/social-justice-day-events-e1769360829718.jpg
END:VEVENT
BEGIN:VEVENT
DTSTART;TZID=Europe/London:20260221T080000
DTEND;TZID=Europe/London:20260221T170000
DTSTAMP:20260419T201614
CREATED:20260125T173956Z
LAST-MODIFIED:20260125T173956Z
UID:3917-1771660800-1771693200@jointhedotstogether.org
SUMMARY:Generation Hope NI
DESCRIPTION:Generation Hope is a day of inspiring workshops exploring how creativity\, culture and community can help us respond to the climate crisis. Through hands-on activities and guided discussions\, participants will imagine better futures\, develop practical skills\, and explore new ways to take positive action in their own lives.
URL:https://jointhedotstogether.org/event/generation-hope-ni/
LOCATION:Ulster Museum
END:VEVENT
BEGIN:VEVENT
DTSTART;TZID=Europe/London:20260221T103000
DTEND;TZID=Europe/London:20260221T113000
DTSTAMP:20260419T201614
CREATED:20260125T174225Z
LAST-MODIFIED:20260125T174225Z
UID:3919-1771669800-1771673400@jointhedotstogether.org
SUMMARY:Shaping the Future: A Youth Workshop on Environmental Policy
DESCRIPTION:An inspiring\, action-focused workshop designed to open the door to the world of environmental policy. Led by Ruby Free – nature writer\, policy officer\, and advocate for youth-led change – this interactive session will give you the tools\, confidence\, and insider knowledge you need to participate meaningfully in environmental decision-making.
URL:https://jointhedotstogether.org/event/shaping-the-future-a-youth-workshop-on-environmental-policy/
LOCATION:Ulster Museum
END:VEVENT
BEGIN:VEVENT
DTSTART;TZID=Europe/London:20260225T190000
DTEND;TZID=Europe/London:20260225T203000
DTSTAMP:20260419T201614
CREATED:20260121T171008Z
LAST-MODIFIED:20260121T171008Z
UID:3883-1772046000-1772051400@jointhedotstogether.org
SUMMARY:Or Something Worse: Why we Need to Disrupt the Climate Transition
DESCRIPTION:Nicholas Beuret is a lecturer in environmental politics and economic geography at the University of Essex. With a background in both activism and academia\, he explores the intersections of climate change\, capitalism\, and social justice. His work has been featured in the Guardian\, The Ecologist\, Open Democracy\, and Undercurrents. Nicholas lives in the UK\, where he continues to write\, teach\, and engage in environmental advocacy.\nFree and all welcome but registration required –\nhttps://www.ticketsource.co.uk/qubseca/t-xdmladj
URL:https://jointhedotstogether.org/event/or-something-worse-why-we-need-to-disrupt-the-climate-transition/
LOCATION:Canada Room QUB\, Queen's University\, Belfast\, BT7 1NN
ATTACH;FMTTYPE=image/jpeg:https://jointhedotstogether.org/wp-content/uploads/2026/01/or-something-worse.jpg
END:VEVENT
BEGIN:VEVENT
DTSTART;TZID=Europe/London:20260228T100000
DTEND;TZID=Europe/London:20260228T160000
DTSTAMP:20260419T201614
CREATED:20260221T101910Z
LAST-MODIFIED:20260221T101910Z
UID:4005-1772272800-1772294400@jointhedotstogether.org
SUMMARY:Ballynature Day
DESCRIPTION:A great day to Network with other Environmental groups; tables are spread over 2 halls with some Birds of Prey outside. Throughout the day there is a programme of talks in a hall upstairs. The event is suitable for children & families. Parking is available around the village\, Jackson’s Butchery\, Farm shop & restaurant has 2 large car parks\, especially if you visit the shop before leaving
URL:https://jointhedotstogether.org/event/ballynature-day/
LOCATION:Ballynure Presbyterian Church Halls\, Main St\, Ballynure\, Ballyclare\, BT39 9TU
ATTACH;FMTTYPE=image/png:https://jointhedotstogether.org/wp-content/uploads/2026/02/ballynure.png
END:VEVENT
BEGIN:VEVENT
DTSTART;TZID=Europe/London:20260301T000000
DTEND;TZID=Europe/London:20260301T235959
DTSTAMP:20260419T201614
CREATED:20260301T095007Z
LAST-MODIFIED:20260301T095007Z
UID:4014-1772323200-1772409599@jointhedotstogether.org
SUMMARY:World Seagrass Day
DESCRIPTION:Seagrasses have been declining globally since the 1930s\, with the most recent census estimating that 7% of this key marine habitat is being lost worldwide per year. It was recently noted that 21% of seagrass species are categorized as Near Threatened\, Vulnerable and Endangered Species under the International Union for Conservation of Nature Red List of Threatened Species .
URL:https://jointhedotstogether.org/event/world-seagrass-day-2/
ATTACH;FMTTYPE=image/jpeg:https://jointhedotstogether.org/wp-content/uploads/2026/03/seagrass-day-benjamin-l-jones-e1772358599543.jpg
END:VEVENT
BEGIN:VEVENT
DTSTART;TZID=Europe/London:20260302T140000
DTEND;TZID=Europe/London:20260302T153000
DTSTAMP:20260419T201614
CREATED:20260301T100957Z
LAST-MODIFIED:20260301T100957Z
UID:4038-1772460000-1772465400@jointhedotstogether.org
SUMMARY:Whose (Environmental) Knowledge is it Anyway? - Workshop
DESCRIPTION:Join the Working Class Climate Alliance (WCCA) for a workshop about the democratisation of knowledge in climate politics!
URL:https://jointhedotstogether.org/event/whose-environmental-knowledge-is-it-anyway-workshop/
LOCATION:Online
END:VEVENT
BEGIN:VEVENT
DTSTART;TZID=Europe/London:20260303T000000
DTEND;TZID=Europe/London:20260303T235959
DTSTAMP:20260419T201614
CREATED:20260301T095121Z
LAST-MODIFIED:20260301T095121Z
UID:4017-1772496000-1772582399@jointhedotstogether.org
SUMMARY:World Wildlife Day
DESCRIPTION:World Wildlife Day is an opportunity to celebrate the many beautiful and varied forms of wild fauna and flora\, to raise awareness of their many benefits to reminds us of the urgent need to step up the fight against wildlife crime and human-induced reduction of species\, which have wide-ranging economic\, environmental and social impacts.
URL:https://jointhedotstogether.org/event/world-wildlife-day-2/
END:VEVENT
BEGIN:VEVENT
DTSTART;TZID=Europe/London:20260303T090000
DTEND;TZID=Europe/London:20260303T170000
DTSTAMP:20260419T201614
CREATED:20260127T182416Z
LAST-MODIFIED:20260127T182416Z
UID:3952-1772528400-1772557200@jointhedotstogether.org
SUMMARY:Christian Ethics and Peacebuilding in the Age of AI and Autonomous Weapons Systems
DESCRIPTION:This conference invites scholars\, faith leaders\, policymakers\, and technologists to explore how Christian ethics can inform responses to AI-driven warfare\, autonomous weapons systems\, and efforts for peacebuilding. Through theological reflection\, interdisciplinary engagement\, and practical solutions\, we seek to advance discourse on the role of faith-driven ethics in shaping global policy and peace efforts.
URL:https://jointhedotstogether.org/event/christian-ethics-and-peacebuilding-in-the-age-of-ai-and-autonomous-weapons-systems/
LOCATION:Queens University Senate Room
ATTACH;FMTTYPE=image/jpeg:https://jointhedotstogether.org/wp-content/uploads/2026/01/Christian-Ethics-Conf-800x450-1-e1769538241844.jpg
END:VEVENT
BEGIN:VEVENT
DTSTART;TZID=Europe/London:20260303T190000
DTEND;TZID=Europe/London:20260303T200000
DTSTAMP:20260419T201614
CREATED:20260216T123128Z
LAST-MODIFIED:20260216T123128Z
UID:3990-1772564400-1772568000@jointhedotstogether.org
SUMMARY:Annual Trócaire Lecture 2026:
DESCRIPTION:“Care for Creation Amidst the Cries of War ~ Working for Peace in the Earth Community” \nThe event will take place in Renehan Hall at St. Patrick’s College\, Maynooth\, on Tuesday\, the 3rd of March 2026\, at 7 p.m. GMT. It will also be live-streamed for those who cannot attend in person. Registration for this free event is required. \nPlease register: \n(i) to attend in person at this link: https://forms.gle/QcH3ftZGz5728RDq7 \n(ii) to attend online at this link: https://trocaire-org.zoom.us/webinar/register/WN_5DMakWoeRNqBw4J3KC6IuQ \nFor further enquiries please contact maria.murphy@trocaire.org
URL:https://jointhedotstogether.org/event/annual-trocaire-lecture-2026/
ATTACH;FMTTYPE=image/jpeg:https://jointhedotstogether.org/wp-content/uploads/2026/02/202060303-Trocaire-e1771244960498.jpg
END:VEVENT
BEGIN:VEVENT
DTSTART;TZID=Europe/London:20260305T000000
DTEND;TZID=Europe/London:20260305T235959
DTSTAMP:20260419T201614
CREATED:20260301T095309Z
LAST-MODIFIED:20260301T095309Z
UID:4020-1772668800-1772755199@jointhedotstogether.org
SUMMARY:International Day for Disarmament and Non-Proliferation Awareness
DESCRIPTION:The International Day for Disarmament and Non-Proliferation Awareness seeks to promote better awareness and understanding of disarmament issues among the public\, especially young people.
URL:https://jointhedotstogether.org/event/international-day-for-disarmament-and-non-proliferation-awareness/
ATTACH;FMTTYPE=image/jpeg:https://jointhedotstogether.org/wp-content/uploads/2026/03/knotted-gun-disarmament-e1772358783351.jpg
END:VEVENT
BEGIN:VEVENT
DTSTART;TZID=Europe/London:20260309T100000
DTEND;TZID=Europe/London:20260309T160000
DTSTAMP:20260419T201614
CREATED:20260301T101143Z
LAST-MODIFIED:20260301T101143Z
UID:4041-1773050400-1773072000@jointhedotstogether.org
SUMMARY:Teaching Outdoor Science – Woodlands & Freshwater
DESCRIPTION:This hands-on course explores how woodland and freshwater environments can be used as rich\, accessible settings for outdoor science.
URL:https://jointhedotstogether.org/event/teaching-outdoor-science-woodlands-freshwater/
END:VEVENT
BEGIN:VEVENT
DTSTART;TZID=Europe/London:20260311T100000
DTEND;TZID=Europe/London:20260311T160000
DTSTAMP:20260419T201614
CREATED:20260301T101344Z
LAST-MODIFIED:20260301T101344Z
UID:4044-1773223200-1773244800@jointhedotstogether.org
SUMMARY:Teaching Outdoor Science – Rivers & Coasts
DESCRIPTION:This practical outdoor course focuses on using river and coastal environments as dynamic settings for teaching science through direct invest
URL:https://jointhedotstogether.org/event/teaching-outdoor-science-rivers-coasts/
END:VEVENT
BEGIN:VEVENT
DTSTART;TZID=Europe/London:20260312T190000
DTEND;TZID=Europe/London:20260312T200000
DTSTAMP:20260419T201614
CREATED:20260301T101606Z
LAST-MODIFIED:20260301T101606Z
UID:4046-1773342000-1773345600@jointhedotstogether.org
SUMMARY:Strength in Solidarity: Climate and Food Resilience
DESCRIPTION:front line of the impacts on our planet from climate change. The evening’s focus will be on how we can we build a urban growing infrastructure to best ensure we have food resilience. A panel discussion will be followed with questions and answers from our audience.
URL:https://jointhedotstogether.org/event/strength-in-solidarity-climate-and-food-resilience/
LOCATION:3 Mayo Link\, Belfast UK
ATTACH;FMTTYPE=image/jpeg:https://jointhedotstogether.org/wp-content/uploads/2026/03/f0c26e60831fd7889e41c783854447cf6057aaa7e8999743753802d070669f71-rimg-w1200-h600-dcffffff-gmir-e1772360149346.jpg
END:VEVENT
BEGIN:VEVENT
DTSTART;TZID=Europe/London:20260318T000000
DTEND;TZID=Europe/London:20260318T235959
DTSTAMP:20260419T201614
CREATED:20260125T181217Z
LAST-MODIFIED:20260125T181217Z
UID:3933-1773792000-1773878399@jointhedotstogether.org
SUMMARY:DRAFT NATURE RECOVERY STRATEGY CONSULTATION CLOSES
DESCRIPTION:Nature is in decline across the world and DAERA has a duty to publish a Biodiversity Strategy to help the conservation of biodiversity in Northern Ireland. This draft Nature Recovery Strategy (which is the Biodiversity Strategy required by legislation) sets out how we intend to meet international and national ambitions in Northern Ireland. The lifespan of this proposed strategy is to 2032.\nDetails on how to respond are provided here: https://www.daera-ni.gov.uk/consultations/draft-nature-recovery-strategy.\nThe Consultation will run from 20 January 2026 until 18 March 2026.
URL:https://jointhedotstogether.org/event/draft-nature-recovery-strategy-consultation-closes/
END:VEVENT
BEGIN:VEVENT
DTSTART;TZID=Europe/London:20260318T000000
DTEND;TZID=Europe/London:20260318T235959
DTSTAMP:20260419T201614
CREATED:20260125T183134Z
LAST-MODIFIED:20260125T183157Z
UID:3941-1773792000-1773878399@jointhedotstogether.org
SUMMARY:Ramadan ends
DESCRIPTION:
URL:https://jointhedotstogether.org/event/ramadam-ends/
END:VEVENT
BEGIN:VEVENT
DTSTART;TZID=Europe/London:20260321T000000
DTEND;TZID=Europe/London:20260321T235959
DTSTAMP:20260419T201614
CREATED:20260301T095536Z
LAST-MODIFIED:20260301T095536Z
UID:4023-1774051200-1774137599@jointhedotstogether.org
SUMMARY:World Day for Glaciers
DESCRIPTION:Glaciers are nature’s frozen sentinels\, vast rivers of ice and snow that carve the Earth\, silently bearing witness to the passage of time and the shifting rhythms of our planet.
URL:https://jointhedotstogether.org/event/world-day-for-glaciers/
ATTACH;FMTTYPE=image/png:https://jointhedotstogether.org/wp-content/uploads/2026/03/climbing_inside_glacier_alaska-e1772358921303.png
END:VEVENT
BEGIN:VEVENT
DTSTART;TZID=Europe/London:20260321T000000
DTEND;TZID=Europe/London:20260321T235959
DTSTAMP:20260419T201614
CREATED:20260301T095830Z
LAST-MODIFIED:20260301T095830Z
UID:4026-1774051200-1774137599@jointhedotstogether.org
SUMMARY:International Day of Forests
DESCRIPTION:Forests and economies is the theme of the 2026 International Day of Forests\, celebrating the essential roles of forests in driving economic prosperity.
URL:https://jointhedotstogether.org/event/international-day-of-forests/
ATTACH;FMTTYPE=image/png:https://jointhedotstogether.org/wp-content/uploads/2026/03/idf26-visual_banner_2100x982px_def_6-languages_en13621f212e524a7fb8ad98ea20c2a8b7-1-e1772359096116.png
END:VEVENT
BEGIN:VEVENT
DTSTART;TZID=Europe/London:20260322T000000
DTEND;TZID=Europe/London:20260322T235959
DTSTAMP:20260419T201614
CREATED:20260301T100015Z
LAST-MODIFIED:20260301T100015Z
UID:4029-1774137600-1774223999@jointhedotstogether.org
SUMMARY:World Water Day
DESCRIPTION:Where water flows\, equality grows\nThe global water crisis affects everyone – but not equally.
URL:https://jointhedotstogether.org/event/world-water-day-2/
ATTACH;FMTTYPE=image/png:https://jointhedotstogether.org/wp-content/uploads/2026/03/wwd2026_web_banner_home_english-e1772359208484.png
END:VEVENT
BEGIN:VEVENT
DTSTART;TZID=Europe/London:20260323T000000
DTEND;TZID=Europe/London:20260323T235959
DTSTAMP:20260419T201614
CREATED:20260301T100058Z
LAST-MODIFIED:20260301T100207Z
UID:4032-1774224000-1774310399@jointhedotstogether.org
SUMMARY:World Meteorological Day
DESCRIPTION:Every 23 March\, the World Meteorological Organization commemorates the coming into force of the Convention establishing the World Meteorological Organization on 23 March 1950. \nIt showcases the essential contribution of National Meteorological and Hydrological Services to the safety and wellbeing of society and is celebrated with activities around the world. The themes chosen for World Meteorological Day reflect topical weather\, climate or water-related issues. \nThe theme for World Meteorological Day 2026 is “Observing Today\, Protecting Tomorrow.”
URL:https://jointhedotstogether.org/event/world-meteorological-day-2/
END:VEVENT
BEGIN:VEVENT
DTSTART;TZID=Europe/London:20260325T183000
DTEND;TZID=Europe/London:20260325T203000
DTSTAMP:20260419T201614
CREATED:20260301T101851Z
LAST-MODIFIED:20260301T101851Z
UID:4051-1774463400-1774470600@jointhedotstogether.org
SUMMARY:Be prepared – civil food resilience in the face of change
DESCRIPTION:Join leading food policy expert Professor Tim Lang (author of Just in Case: 7 steps to narrow the UK civil food resilience gap) to explore civil food resilience — how citizens\, communities\, and governments can work together to build fair and sustainable systems that can withstand crisis.
URL:https://jointhedotstogether.org/event/be-prepared-civil-food-resilience-in-the-face-of-change/
LOCATION:Great Hall\, Lanyon Building\, University Road\, Belfast\, Select a State or Province:\, BT7 1NN\, United Kingdom
ATTACH;FMTTYPE=image/webp:https://jointhedotstogether.org/wp-content/uploads/2026/03/image-1-e1772360317305.webp
END:VEVENT
BEGIN:VEVENT
DTSTART;TZID=Europe/London:20260326T183000
DTEND;TZID=Europe/London:20260326T200000
DTSTAMP:20260419T201614
CREATED:20260301T102339Z
LAST-MODIFIED:20260301T102339Z
UID:4055-1774549800-1774555200@jointhedotstogether.org
SUMMARY:Fuelling Injustice: Imagine! Festival of Ideas and Politics
DESCRIPTION:This event will explore why we need urgent action to tackle climate justice obligations and responsibilities to vulnerable communities\, and the role governments must play in a fair and funded fossil fuel phase out\, from the perspective of both climate and human rights obligations.
URL:https://jointhedotstogether.org/event/fuelling-injustice-imagine-festival-of-ideas-and-politics/
LOCATION:Trocaire\,60-64 Berry Street BT1 1FJ
ATTACH;FMTTYPE=image/webp:https://jointhedotstogether.org/wp-content/uploads/2026/03/image-2-e1772360601412.webp
END:VEVENT
BEGIN:VEVENT
DTSTART;TZID=Europe/London:20260326T190000
DTEND;TZID=Europe/London:20260326T210000
DTSTAMP:20260419T201614
CREATED:20260311T080350Z
LAST-MODIFIED:20260311T080350Z
UID:4072-1774551600-1774558800@jointhedotstogether.org
SUMMARY:What's it going to take?
DESCRIPTION:The event is open to the general public and the gathering will be livestreamed on  the YouTube channel and posted on the site afterwards.\n\n\nSpeakers\nMary Evelyn Tucker   Yale Forum on on Religion and Ecology\nJohn Connell   Farmer and writer\nGeorge Marshall  Climate communications expert\nSadhbh O’Neill   Journalist and Climate Campaigner\nLorna Gold  CEO Laudato Si Global movement\nAbaigail McNamara   UCD Literary and Historical Society
URL:https://jointhedotstogether.org/event/whats-it-going-to-take/
LOCATION:Newman Building in University College Dublin
ATTACH;FMTTYPE=image/png:https://jointhedotstogether.org/wp-content/uploads/2026/03/what-take.png
END:VEVENT
BEGIN:VEVENT
DTSTART;TZID=Europe/London:20260330T000000
DTEND;TZID=Europe/London:20260330T235959
DTSTAMP:20260419T201614
CREATED:20260301T100440Z
LAST-MODIFIED:20260301T100440Z
UID:4035-1774828800-1774915199@jointhedotstogether.org
SUMMARY:International Day of Zero Waste
DESCRIPTION:Towards zero food waste\nFor this year’s International Day of Zero Waste\, the focus is on food – what we eat\, what we waste\, and how we can move towards a more circular future.
URL:https://jointhedotstogether.org/event/international-day-of-zero-waste/
ATTACH;FMTTYPE=image/jpeg:https://jointhedotstogether.org/wp-content/uploads/2026/03/food_market-e1772359473464.jpg
END:VEVENT
BEGIN:VEVENT
DTSTART;TZID=Europe/London:20260407T000000
DTEND;TZID=Europe/London:20260407T235959
DTSTAMP:20260419T201614
CREATED:20260331T134003Z
LAST-MODIFIED:20260331T134003Z
UID:4119-1775520000-1775606399@jointhedotstogether.org
SUMMARY:World Health Day
DESCRIPTION:On World Health Day 2026\, WHO unites and mobilizes the world under the theme “Together for health. Stand with science.” celebrating the power of scientific collaboration to protect the health of people\, animals\, plants\, and the planet. The year‑long campaign spotlights both scientific achievements and the multilateral cooperation needed to turn evidence into action.
URL:https://jointhedotstogether.org/event/world-health-day-2/
ATTACH;FMTTYPE=image/webp:https://jointhedotstogether.org/wp-content/uploads/2026/03/whd26-theme-banner-e1774964353630.webp
END:VEVENT
BEGIN:VEVENT
DTSTART;TZID=Europe/London:20260408T000000
DTEND;TZID=Europe/London:20260408T235959
DTSTAMP:20260419T201614
CREATED:20260125T181513Z
LAST-MODIFIED:20260125T181513Z
UID:3935-1775606400-1775692799@jointhedotstogether.org
SUMMARY:Northern Ireland Resources and Waste Management Strategy CONSULTATION CLOSES
DESCRIPTION:Rethinking Our Resources: Northern Ireland Resources and Waste Management Strategy \nThe draft Rethinking Our Resources: Northern Ireland Resources and Waste Management Strategy aims to integrate policy reforms\, modern technology\, and partnerships to ensure long-term sustainability and adaptability. It focuses on controlled wastes from households\, commercial and industrial premises\, and category 3 animal by-products\, contributing to recycling targets and Net Zero commitments. \nRespond here: https://consultations2.nidirect.gov.uk/daera/wms-consultation/
URL:https://jointhedotstogether.org/event/northern-ireland-resources-and-waste-management-strategy-consultation-closes/
END:VEVENT
BEGIN:VEVENT
DTSTART;TZID=Europe/London:20260413T100000
DTEND;TZID=Europe/London:20260413T163000
DTSTAMP:20260419T201614
CREATED:20260404T110346Z
LAST-MODIFIED:20260404T110346Z
UID:4131-1776074400-1776097800@jointhedotstogether.org
SUMMARY:Public Inquiry on Mining in the Sperrins
DESCRIPTION:Starting on April 13th at Strule Arts Centre\, Omagh\, the Planning Appeals Commission and Water Appeals Commission will hear from witnesses\, including international experts. All welcome to support “Save our Sperrin”.
URL:https://jointhedotstogether.org/event/public-inquiry-on-mining-in-the-sperrins/
LOCATION:Strule Centre\, Omagh
ATTACH;FMTTYPE=image/jpeg:https://jointhedotstogether.org/wp-content/uploads/2026/04/Save-our-Sperrins.jpg
END:VEVENT
BEGIN:VEVENT
DTSTART;TZID=Europe/London:20260413T160000
DTEND;TZID=Europe/London:20260413T170000
DTSTAMP:20260419T201614
CREATED:20260404T110732Z
LAST-MODIFIED:20260404T110732Z
UID:4135-1776096000-1776099600@jointhedotstogether.org
SUMMARY:Kumi Naidoo lecture with the SOAS Sustainable Policy Society
DESCRIPTION:Guest Lecture with Kumi Naidoo: “Why the World Needs a Fossil Fuel Treaty”
URL:https://jointhedotstogether.org/event/kumi-naidoo-lecture-with-the-soas-sustainable-policy-society/
ATTACH;FMTTYPE=image/jpeg:https://jointhedotstogether.org/wp-content/uploads/2026/04/kumi-april-2026-e1775300750310.jpg
END:VEVENT
BEGIN:VEVENT
DTSTART;TZID=Europe/London:20260414T170000
DTEND;TZID=Europe/London:20260414T183000
DTSTAMP:20260419T201614
CREATED:20260404T103012Z
LAST-MODIFIED:20260404T103012Z
UID:4126-1776186000-1776191400@jointhedotstogether.org
SUMMARY:A Rocha seminar on Trusts and Grant Funding
DESCRIPTION:
URL:https://jointhedotstogether.org/event/a-rocha-seminar-on-trusts-and-grant-funding/
LOCATION:Online
END:VEVENT
BEGIN:VEVENT
DTSTART;TZID=Europe/London:20260415T000000
DTEND;TZID=Europe/London:20260415T235959
DTSTAMP:20260419T201614
CREATED:20260324T160308Z
LAST-MODIFIED:20260324T160308Z
UID:4104-1776211200-1776297599@jointhedotstogether.org
SUMMARY:Laudato Sì Animators Course begins
DESCRIPTION:
URL:https://jointhedotstogether.org/event/laudato-si-animators-course-begins/
LOCATION:Online
ATTACH;FMTTYPE=image/jpeg:https://jointhedotstogether.org/wp-content/uploads/2026/03/20251001_083612-scaled-e1774368173891.jpg
END:VEVENT
END:VCALENDAR