BEGIN:VCALENDAR
VERSION:2.0
PRODID:-//Join the Dots Together - ECPv6.15.20//NONSGML v1.0//EN
CALSCALE:GREGORIAN
METHOD:PUBLISH
X-WR-CALNAME:Join the Dots Together
X-ORIGINAL-URL:https://jointhedotstogether.org
X-WR-CALDESC:Events for Join the Dots Together
REFRESH-INTERVAL;VALUE=DURATION:PT1H
X-Robots-Tag:noindex
X-PUBLISHED-TTL:PT1H
BEGIN:VTIMEZONE
TZID:Europe/London
BEGIN:DAYLIGHT
TZOFFSETFROM:+0000
TZOFFSETTO:+0100
TZNAME:BST
DTSTART:20250330T010000
END:DAYLIGHT
BEGIN:STANDARD
TZOFFSETFROM:+0100
TZOFFSETTO:+0000
TZNAME:GMT
DTSTART:20251026T010000
END:STANDARD
BEGIN:DAYLIGHT
TZOFFSETFROM:+0000
TZOFFSETTO:+0100
TZNAME:BST
DTSTART:20260329T010000
END:DAYLIGHT
BEGIN:STANDARD
TZOFFSETFROM:+0100
TZOFFSETTO:+0000
TZNAME:GMT
DTSTART:20261025T010000
END:STANDARD
BEGIN:DAYLIGHT
TZOFFSETFROM:+0000
TZOFFSETTO:+0100
TZNAME:BST
DTSTART:20270328T010000
END:DAYLIGHT
BEGIN:STANDARD
TZOFFSETFROM:+0100
TZOFFSETTO:+0000
TZNAME:GMT
DTSTART:20271031T010000
END:STANDARD
END:VTIMEZONE
BEGIN:VEVENT
DTSTART;TZID=Europe/London:20260422T000000
DTEND;TZID=Europe/London:20260422T235959
DTSTAMP:20260421T110021
CREATED:20260331T133201Z
LAST-MODIFIED:20260331T133201Z
UID:4110-1776816000-1776902399@jointhedotstogether.org
SUMMARY:Mother Earth Day
DESCRIPTION:Mother Earth is clearly urging a call to action. Nature is suffering. Oceans filling with plastic and turning more acidic. Extreme heat\, wildfires and floods\, have affected millions of people.
URL:https://jointhedotstogether.org/event/mother-earth-day/
ATTACH;FMTTYPE=image/jpeg:https://jointhedotstogether.org/wp-content/uploads/2026/03/the_earth_seen_from_apollo_17-scaled-e1774963884433.jpg
END:VEVENT
BEGIN:VEVENT
DTSTART;TZID=Europe/London:20260422T090000
DTEND;TZID=Europe/London:20260422T130000
DTSTAMP:20260421T110021
CREATED:20250723T193248Z
LAST-MODIFIED:20250723T193248Z
UID:3230-1776848400-1776862800@jointhedotstogether.org
SUMMARY:An Economy of Enough in a Time of Crisis and Opportunity
DESCRIPTION:
URL:https://jointhedotstogether.org/event/an-economy-of-enough-in-a-time-of-crisis-and-opportunity/
LOCATION:Canada Room QUB\, Queen's University\, Belfast\, BT7 1NN
END:VEVENT
END:VCALENDAR